BEGIN:VCALENDAR
VERSION:2.0
PRODID:-//The Loft Pub Victoria - ECPv6.15.20//NONSGML v1.0//EN
CALSCALE:GREGORIAN
METHOD:PUBLISH
X-WR-CALNAME:The Loft Pub Victoria
X-ORIGINAL-URL:https://loftpubvictoria.com
X-WR-CALDESC:Events for The Loft Pub Victoria
REFRESH-INTERVAL;VALUE=DURATION:PT1H
X-Robots-Tag:noindex
X-PUBLISHED-TTL:PT1H
BEGIN:VTIMEZONE
TZID:America/Vancouver
BEGIN:DAYLIGHT
TZOFFSETFROM:-0800
TZOFFSETTO:-0700
TZNAME:PDT
DTSTART:20200308T100000
END:DAYLIGHT
BEGIN:STANDARD
TZOFFSETFROM:-0700
TZOFFSETTO:-0800
TZNAME:PST
DTSTART:20201101T090000
END:STANDARD
BEGIN:DAYLIGHT
TZOFFSETFROM:-0800
TZOFFSETTO:-0700
TZNAME:PDT
DTSTART:20210314T100000
END:DAYLIGHT
BEGIN:STANDARD
TZOFFSETFROM:-0700
TZOFFSETTO:-0800
TZNAME:PST
DTSTART:20211107T090000
END:STANDARD
BEGIN:DAYLIGHT
TZOFFSETFROM:-0800
TZOFFSETTO:-0700
TZNAME:PDT
DTSTART:20220313T100000
END:DAYLIGHT
BEGIN:STANDARD
TZOFFSETFROM:-0700
TZOFFSETTO:-0800
TZNAME:PST
DTSTART:20221106T090000
END:STANDARD
BEGIN:DAYLIGHT
TZOFFSETFROM:-0800
TZOFFSETTO:-0700
TZNAME:PDT
DTSTART:20230312T100000
END:DAYLIGHT
BEGIN:STANDARD
TZOFFSETFROM:-0700
TZOFFSETTO:-0800
TZNAME:PST
DTSTART:20231105T090000
END:STANDARD
END:VTIMEZONE
BEGIN:VEVENT
DTSTART;TZID=America/Vancouver:20220225T190000
DTEND;TZID=America/Vancouver:20220225T220000
DTSTAMP:20260423T144221
CREATED:20220203T205327Z
LAST-MODIFIED:20220203T205327Z
UID:10000183-1645815600-1645826400@loftpubvictoria.com
SUMMARY:Carla Olive & Amber Banman
DESCRIPTION:Percussionist Amber Banman joins Singer Songwriter and Guitarist Carla Olive for a great mix of pop/rock favourites and originals.
URL:https://loftpubvictoria.com/event/carla-olive-amber-banman/
LOCATION:Events
CATEGORIES:Live Music
END:VEVENT
BEGIN:VEVENT
DTSTART;TZID=America/Vancouver:20220206T150000
DTEND;TZID=America/Vancouver:20220206T190000
DTSTAMP:20260423T144221
CREATED:20210728T164949Z
LAST-MODIFIED:20210728T164949Z
UID:10000021-1644159600-1644174000@loftpubvictoria.com
SUMMARY:Sunday Afternoon Jam
DESCRIPTION:Sit back and enjoy a musical afternoon with Rainshadow Al and Victoria’s talented musicians and singers\, on stage to jam a few tunes.  If you plan to come out and play\, please bring your own instrument and/or microphone.
URL:https://loftpubvictoria.com/event/sunday-afternoon-jam-17-2022-02-06/2022-02-06/
LOCATION:Events
CATEGORIES:Live Music
ATTACH;FMTTYPE=:
END:VEVENT
BEGIN:VEVENT
DTSTART;TZID=America/Vancouver:20220103T173000
DTEND;TZID=America/Vancouver:20220103T200000
DTSTAMP:20260423T144221
CREATED:20210925T061728Z
LAST-MODIFIED:20210925T061728Z
UID:10000142-1641231000-1641240000@loftpubvictoria.com
SUMMARY:Los Gringos Locos
DESCRIPTION:The instrumental acoustic duo\, featuring Al Sabourin and Mike Sampson entertaining us with their unique blend of standards and original compositions.
URL:https://loftpubvictoria.com/event/losgringoslocos/2022-01-03/
LOCATION:Events
CATEGORIES:Live Music
END:VEVENT
BEGIN:VEVENT
DTSTART;TZID=America/Vancouver:20211228T180000
DTEND;TZID=America/Vancouver:20211228T210000
DTSTAMP:20260423T144221
CREATED:20210728T173149Z
LAST-MODIFIED:20210728T173149Z
UID:10000061-1640714400-1640725200@loftpubvictoria.com
SUMMARY:The Blue Lights
DESCRIPTION:THE BLUE LIGHTS offer up an eclectic mix of blues\, western swing and rockabilly – featuring multi-instrumentalist Dave Harris\, bassist and guitar player Clark Brendon\, and legendary sax man Al Pease. Special guests Slim Sandy on drums and vocalist Willa Mae.
URL:https://loftpubvictoria.com/event/dave-harrisand-friends/2021-12-28/
LOCATION:Events
CATEGORIES:Live Music
ATTACH;FMTTYPE=:
END:VEVENT
BEGIN:VEVENT
DTSTART;TZID=America/Vancouver:20211210T190000
DTEND;TZID=America/Vancouver:20211210T220000
DTSTAMP:20260423T144221
CREATED:20210728T180918Z
LAST-MODIFIED:20210728T180918Z
UID:10000121-1639162800-1639173600@loftpubvictoria.com
SUMMARY:Tom Morrissey
DESCRIPTION:Acoustic roots/folk musician Tom Morrisey\, blends\ntraditional East Coast tunes with a variety of modern classics.\nhttps://www.facebook.com/tommorrisseyband/
URL:https://loftpubvictoria.com/event/tom-morrissey-7/2021-12-10/
LOCATION:Events
CATEGORIES:Live Music
ATTACH;FMTTYPE=:
END:VEVENT
BEGIN:VEVENT
DTSTART;TZID=America/Vancouver:20210929T180000
DTEND;TZID=America/Vancouver:20210929T210000
DTSTAMP:20260423T144221
CREATED:20210728T173759Z
LAST-MODIFIED:20210728T173759Z
UID:10000081-1632938400-1632949200@loftpubvictoria.com
SUMMARY:Wednesday Night Jam
DESCRIPTION:Come on out and experience the incredible talent Victoria has to offer!  Bring your own instrument and mic – drum kit\, bass/guitar amp provided.
URL:https://loftpubvictoria.com/event/wednesday-night-jam-13/2021-09-29/
LOCATION:Events
CATEGORIES:Live Music
ATTACH;FMTTYPE=:
END:VEVENT
END:VCALENDAR