BEGIN:VCALENDAR
VERSION:2.0
PRODID:-//The Loft Pub Victoria - ECPv6.15.20//NONSGML v1.0//EN
CALSCALE:GREGORIAN
METHOD:PUBLISH
X-WR-CALNAME:The Loft Pub Victoria
X-ORIGINAL-URL:https://loftpubvictoria.com
X-WR-CALDESC:Events for The Loft Pub Victoria
REFRESH-INTERVAL;VALUE=DURATION:PT1H
X-Robots-Tag:noindex
X-PUBLISHED-TTL:PT1H
BEGIN:VTIMEZONE
TZID:America/Vancouver
BEGIN:DAYLIGHT
TZOFFSETFROM:-0800
TZOFFSETTO:-0700
TZNAME:PDT
DTSTART:20200308T100000
END:DAYLIGHT
BEGIN:STANDARD
TZOFFSETFROM:-0700
TZOFFSETTO:-0800
TZNAME:PST
DTSTART:20201101T090000
END:STANDARD
BEGIN:DAYLIGHT
TZOFFSETFROM:-0800
TZOFFSETTO:-0700
TZNAME:PDT
DTSTART:20210314T100000
END:DAYLIGHT
BEGIN:STANDARD
TZOFFSETFROM:-0700
TZOFFSETTO:-0800
TZNAME:PST
DTSTART:20211107T090000
END:STANDARD
BEGIN:DAYLIGHT
TZOFFSETFROM:-0800
TZOFFSETTO:-0700
TZNAME:PDT
DTSTART:20220313T100000
END:DAYLIGHT
BEGIN:STANDARD
TZOFFSETFROM:-0700
TZOFFSETTO:-0800
TZNAME:PST
DTSTART:20221106T090000
END:STANDARD
BEGIN:DAYLIGHT
TZOFFSETFROM:-0800
TZOFFSETTO:-0700
TZNAME:PDT
DTSTART:20230312T100000
END:DAYLIGHT
BEGIN:STANDARD
TZOFFSETFROM:-0700
TZOFFSETTO:-0800
TZNAME:PST
DTSTART:20231105T090000
END:STANDARD
END:VTIMEZONE
BEGIN:VEVENT
DTSTART;TZID=America/Vancouver:20220529T150000
DTEND;TZID=America/Vancouver:20220529T190000
DTSTAMP:20260423T113748
CREATED:20210728T164949Z
LAST-MODIFIED:20210728T164949Z
UID:10000022-1653836400-1653850800@loftpubvictoria.com
SUMMARY:Sunday Afternoon Jam
DESCRIPTION:Sit back and enjoy a musical afternoon with Rainshadow Al and Victoria’s talented musicians and singers\, on stage to jam a few tunes.  If you plan to come out and play\, please bring your own instrument and/or microphone.
URL:https://loftpubvictoria.com/event/sunday-afternoon-jam-17-2022-02-06/2022-05-29/
LOCATION:Events
CATEGORIES:Live Music
ATTACH;FMTTYPE=:
END:VEVENT
BEGIN:VEVENT
DTSTART;TZID=America/Vancouver:20220528T190000
DTEND;TZID=America/Vancouver:20220528T220000
DTSTAMP:20260423T113748
CREATED:20220406T201041Z
LAST-MODIFIED:20220406T201041Z
UID:10000192-1653764400-1653775200@loftpubvictoria.com
SUMMARY:Rainshadow Al & Friends
DESCRIPTION:Guitarist Rainshadow Al teams up with some of The Loft’s talented friends.  Suzanne Van Assum\, Carla Olive\, Amber Banman and Eric Their.
URL:https://loftpubvictoria.com/event/rainshadow-al-friends/
LOCATION:Events
CATEGORIES:Live Music
ATTACH;FMTTYPE=:
END:VEVENT
BEGIN:VEVENT
DTSTART;TZID=America/Vancouver:20220527T190000
DTEND;TZID=America/Vancouver:20220527T220000
DTSTAMP:20260423T113748
CREATED:20220406T200953Z
LAST-MODIFIED:20220406T200953Z
UID:10000191-1653678000-1653688800@loftpubvictoria.com
SUMMARY:Casey Ryder Trip
DESCRIPTION:The Casey Ryder Trip plays unique roots music: Swing\, Blues\, Rockabilly & Latin. “Twangy Roots music…& beyond!” \nCasey Ryder – guitar & vocals * Clark Brendon – upright bass * Matt Pease – drums * Patrick Courtin – keyboards
URL:https://loftpubvictoria.com/event/casey-ryder-trip/
LOCATION:Events
CATEGORIES:Live Music
ATTACH;FMTTYPE=:
END:VEVENT
BEGIN:VEVENT
DTSTART;TZID=America/Vancouver:20220525T180000
DTEND;TZID=America/Vancouver:20220525T210000
DTSTAMP:20260423T113748
CREATED:20210728T173759Z
LAST-MODIFIED:20210728T173759Z
UID:10000082-1653501600-1653512400@loftpubvictoria.com
SUMMARY:Wednesday Night Jam
DESCRIPTION:Come on out and experience the incredible talent Victoria has to offer!  Bring your own instrument and mic – drum kit\, bass/guitar amp provided.
URL:https://loftpubvictoria.com/event/wednesday-night-jam-13/2022-05-25/
LOCATION:Events
CATEGORIES:Live Music
ATTACH;FMTTYPE=:
END:VEVENT
BEGIN:VEVENT
DTSTART;TZID=America/Vancouver:20220524T180000
DTEND;TZID=America/Vancouver:20220524T210000
DTSTAMP:20260423T113748
CREATED:20210728T173149Z
LAST-MODIFIED:20210728T173149Z
UID:10000066-1653415200-1653426000@loftpubvictoria.com
SUMMARY:The Blue Lights
DESCRIPTION:THE BLUE LIGHTS offer up an eclectic mix of blues\, western swing and rockabilly – featuring multi-instrumentalist Dave Harris\, bassist and guitar player Clark Brendon\, and legendary sax man Al Pease. Special guests Slim Sandy on drums and vocalist Willa Mae.
URL:https://loftpubvictoria.com/event/dave-harrisand-friends/2022-05-24/
LOCATION:Events
CATEGORIES:Live Music
ATTACH;FMTTYPE=:
END:VEVENT
BEGIN:VEVENT
DTSTART;TZID=America/Vancouver:20220523T173000
DTEND;TZID=America/Vancouver:20220523T200000
DTSTAMP:20260423T113748
CREATED:20210925T061728Z
LAST-MODIFIED:20210925T061728Z
UID:10000145-1653327000-1653336000@loftpubvictoria.com
SUMMARY:Los Gringos Locos
DESCRIPTION:The instrumental acoustic duo\, featuring Al Sabourin and Mike Sampson entertaining us with their unique blend of standards and original compositions.
URL:https://loftpubvictoria.com/event/losgringoslocos/2022-05-23/
LOCATION:Events
CATEGORIES:Live Music
END:VEVENT
BEGIN:VEVENT
DTSTART;TZID=America/Vancouver:20220521T190000
DTEND;TZID=America/Vancouver:20220521T220000
DTSTAMP:20260423T113748
CREATED:20210728T175827Z
LAST-MODIFIED:20210728T175827Z
UID:10000124-1653159600-1653170400@loftpubvictoria.com
SUMMARY:Shades Of Blue
DESCRIPTION:Shades of Blue plays uniquely improvisational Blues & Roots music.  Featuring Bill Johnson\, Casey Ryder & other VI hotshots\, this grooving\, dynamic band keeps the house rockin’ all night long…
URL:https://loftpubvictoria.com/event/billjohnson-2022-05-21/
LOCATION:Events
CATEGORIES:Live Music
ATTACH;FMTTYPE=:
END:VEVENT
BEGIN:VEVENT
DTSTART;TZID=America/Vancouver:20220516T173000
DTEND;TZID=America/Vancouver:20220516T200000
DTSTAMP:20260423T113748
CREATED:20211130T010226Z
LAST-MODIFIED:20211130T010226Z
UID:10000161-1652722200-1652731200@loftpubvictoria.com
SUMMARY:CURL
DESCRIPTION:All female band CURL perform blues and R&B\, alongside some originals.
URL:https://loftpubvictoria.com/event/curl-2022-01-24-2022-05-16/2022-05-16/
LOCATION:Events
ATTACH;FMTTYPE=:
END:VEVENT
BEGIN:VEVENT
DTSTART;TZID=America/Vancouver:20220507T190000
DTEND;TZID=America/Vancouver:20220507T220000
DTSTAMP:20260423T113748
CREATED:20220406T200839Z
LAST-MODIFIED:20220406T200839Z
UID:10000190-1651950000-1651960800@loftpubvictoria.com
SUMMARY:The Lovecats
DESCRIPTION:Showcasing an eclectic catalog of notoriously good tunes in the Rock Pop Country and R&B genres. Unique selections from the 60s thru the 80s and beyond delivered in a cool Lovecats style.
URL:https://loftpubvictoria.com/event/the-lovecats-2/
LOCATION:Events
CATEGORIES:Live Music
ATTACH;FMTTYPE=:
END:VEVENT
BEGIN:VEVENT
DTSTART;TZID=America/Vancouver:20220506T190000
DTEND;TZID=America/Vancouver:20220506T220000
DTSTAMP:20260423T113748
CREATED:20210922T163343Z
LAST-MODIFIED:20210922T163343Z
UID:10000150-1651863600-1651874400@loftpubvictoria.com
SUMMARY:Cory Steiner Band
DESCRIPTION:“…a coming together of four of the finest musicians on the Island creates a powerhouse band covering a wide range of hard-hitting pop/rock combined with all the fan-favourite original songs that will keep you rockin’!  This IS The Cory Steiner Band.”
URL:https://loftpubvictoria.com/event/cory-steiner-band-2-2022-05-07/
LOCATION:Events
CATEGORIES:Live Music
ATTACH;FMTTYPE=:
END:VEVENT
BEGIN:VEVENT
DTSTART;TZID=America/Vancouver:20220430T190000
DTEND;TZID=America/Vancouver:20220430T220000
DTSTAMP:20260423T113748
CREATED:20220323T210016Z
LAST-MODIFIED:20220323T210016Z
UID:10000189-1651345200-1651356000@loftpubvictoria.com
SUMMARY:Mason Burns Trio
DESCRIPTION:An award winning musician known for his amazing guitar licks\, iconic voice and energetic yet approachable stage shows Mason Burns formerly from Penticton – shares classic rock gems and originals.
URL:https://loftpubvictoria.com/event/mason-burns-trio/
LOCATION:Events
CATEGORIES:Live Music
ATTACH;FMTTYPE=:
END:VEVENT
BEGIN:VEVENT
DTSTART;TZID=America/Vancouver:20220429T190000
DTEND;TZID=America/Vancouver:20220429T220000
DTSTAMP:20260423T113748
CREATED:20220316T194103Z
LAST-MODIFIED:20220316T194103Z
UID:10000187-1651258800-1651269600@loftpubvictoria.com
SUMMARY:The Third Degree
DESCRIPTION:Third Degree shares a great mix of blues\, rock and R&B.
URL:https://loftpubvictoria.com/event/third-degree/
LOCATION:Events
CATEGORIES:Live Music
ATTACH;FMTTYPE=:
END:VEVENT
BEGIN:VEVENT
DTSTART;TZID=America/Vancouver:20220425T180000
DTEND;TZID=America/Vancouver:20220425T210000
DTSTAMP:20260423T113748
CREATED:20210925T061728Z
LAST-MODIFIED:20210925T061728Z
UID:10000144-1650909600-1650920400@loftpubvictoria.com
SUMMARY:Ben Sures
DESCRIPTION:Award-winning Canadian Roots Singer Songwriter Ben Sures shares songs and stories you won’t soon forget… a memorable and rare talent\, this show is a treat to the soul and mind.  www.bensures.com
URL:https://loftpubvictoria.com/event/losgringoslocos-2022-04-25/
LOCATION:Events
CATEGORIES:Live Music
END:VEVENT
BEGIN:VEVENT
DTSTART;TZID=America/Vancouver:20220423T190000
DTEND;TZID=America/Vancouver:20220423T220000
DTSTAMP:20260423T113748
CREATED:20210824T182009Z
LAST-MODIFIED:20260111T025931Z
UID:10000141-1650740400-1650751200@loftpubvictoria.com
SUMMARY:Daniel Cook & The Radiators
DESCRIPTION:Daniel Cook & The Radiators Two Album Release Concert – original roots music with many special guests.  Hosted by Michael Tymchuk.  By donation ($10 suggested).
URL:https://loftpubvictoria.com/event/daniel-cook-the-radiators/2022-04-23/
LOCATION:Events
CATEGORIES:Live Music
END:VEVENT
BEGIN:VEVENT
DTSTART;TZID=America/Vancouver:20220422T190000
DTEND;TZID=America/Vancouver:20220422T220000
DTSTAMP:20260423T113748
CREATED:20220316T221123Z
LAST-MODIFIED:20220316T221123Z
UID:10000188-1650654000-1650664800@loftpubvictoria.com
SUMMARY:Rockwood
DESCRIPTION:Even though any song is a click away\, there is still such pleasure in music coming to life in the hands and voices of musicians who have loved it forever.  Rockwood burnishes its vintage roots and folk rock repertoire to a rich soulful sheen.  Soak up shimmering four-part harmonies\, sustaining arrangements\, the jangle of a twelve-string Rickenbacker\, then move to an irresistible groove!  Whether open-air dance party or intimate café vibe\, a Rockwood show is all about connection\, musicality\, generosity\, and fun.  \nRockwood is seasoned Victoria musicians Gerry Fox (rhythm guitar\, mandolin\, harmonica\, vocals)\, Grant Mountain (lead guitar\, vocals)\, Eugene Smith (bass\, vocals)\, Ross Gilchrist (drums\, vocals). As warm as old vinyl\, as cherished as a vintage Fender\, Rockwood plays an authentic tribute to music that has not been forgotten\, as a reminder of why it never will be.
URL:https://loftpubvictoria.com/event/rockwood/
LOCATION:Events
CATEGORIES:Live Music
ATTACH;FMTTYPE=:
END:VEVENT
BEGIN:VEVENT
DTSTART;TZID=America/Vancouver:20220402T190000
DTEND;TZID=America/Vancouver:20220402T220000
DTSTAMP:20260423T113748
CREATED:20210922T163343Z
LAST-MODIFIED:20210922T163343Z
UID:10000149-1648926000-1648936800@loftpubvictoria.com
SUMMARY:Cory Steiner Band
DESCRIPTION:“…a coming together of four of the finest musicians on the Island creates a powerhouse band covering a wide range of hard-hitting pop/rock combined with all the fan-favourite original songs that will keep you rockin’!  This IS The Cory Steiner Band.”
URL:https://loftpubvictoria.com/event/cory-steiner-band-2-2022-03-05-2022-04-02/2022-04-02/
LOCATION:Events
CATEGORIES:Live Music
ATTACH;FMTTYPE=:
END:VEVENT
BEGIN:VEVENT
DTSTART;TZID=America/Vancouver:20220401T190000
DTEND;TZID=America/Vancouver:20220401T220000
DTSTAMP:20260423T113748
CREATED:20220308T205554Z
LAST-MODIFIED:20220308T205554Z
UID:10000186-1648839600-1648850400@loftpubvictoria.com
SUMMARY:Gord Light Brigade and MD Wren & The New Squeeze
DESCRIPTION:The Gord Light Brigade\, in their natural habitat\, are a rock band from Victoria consisting of Adam Cleland\, Roz Jeffery\, Gord Light\, and Matt Pease. https://soundcloud.com/gord-light \nMD Wren & The New Squeeze performing barn burners\, swing dingers and the occasional shmaltz for good measure.
URL:https://loftpubvictoria.com/event/gord-light-brigade-and-md-wren-the-new-squeeze/
LOCATION:Events
CATEGORIES:Live Music
ATTACH;FMTTYPE=:
END:VEVENT
BEGIN:VEVENT
DTSTART;TZID=America/Vancouver:20220326T190000
DTEND;TZID=America/Vancouver:20220326T220000
DTSTAMP:20260423T113748
CREATED:20220226T174507Z
LAST-MODIFIED:20220226T174507Z
UID:10000185-1648321200-1648332000@loftpubvictoria.com
SUMMARY:St. Cecilia - Women In Music
DESCRIPTION:All female rock band St. Cecilia\, cover women in rock music – inviting some of Victoria’s female artists to share in a celebration of Women In Music.  Featuring Victoria indie band Maitarra.
URL:https://loftpubvictoria.com/event/st-cecilia-women-in-music/
LOCATION:Events
CATEGORIES:Live Music
END:VEVENT
BEGIN:VEVENT
DTSTART;TZID=America/Vancouver:20220325T190000
DTEND;TZID=America/Vancouver:20220325T220000
DTSTAMP:20260423T113748
CREATED:20220226T173950Z
LAST-MODIFIED:20220226T173950Z
UID:10000184-1648234800-1648245600@loftpubvictoria.com
SUMMARY:Naked By The Fire
DESCRIPTION:Indie folk/rock band Naked By The Fire\, present popular favourites and originals.
URL:https://loftpubvictoria.com/event/naked-by-the-fire-2/
LOCATION:Events
ATTACH;FMTTYPE=:
END:VEVENT
BEGIN:VEVENT
DTSTART;TZID=America/Vancouver:20220314T173000
DTEND;TZID=America/Vancouver:20220314T200000
DTSTAMP:20260423T113748
CREATED:20210925T061728Z
LAST-MODIFIED:20210925T061728Z
UID:10000143-1647279000-1647288000@loftpubvictoria.com
SUMMARY:Monday Night Special
DESCRIPTION:Featuring some musician friends of The Loft for an eclectic night of music.
URL:https://loftpubvictoria.com/event/losgringoslocos-2022-03-14/
LOCATION:Events
CATEGORIES:Live Music
END:VEVENT
BEGIN:VEVENT
DTSTART;TZID=America/Vancouver:20220312T190000
DTEND;TZID=America/Vancouver:20220312T220000
DTSTAMP:20260423T113748
CREATED:20210728T180400Z
LAST-MODIFIED:20210728T180400Z
UID:10000122-1647111600-1647122400@loftpubvictoria.com
SUMMARY:McKinley Wolf & Rainshadow Al
DESCRIPTION:Blues tribute band to the masters McKinley Wolf\, share the stage with guitarist Rainshadow Al for a mix of vintage blues\, latin and rock.
URL:https://loftpubvictoria.com/event/mckinley-wolf-3-2022-03-12/
LOCATION:Events
CATEGORIES:Live Music
END:VEVENT
BEGIN:VEVENT
DTSTART;TZID=America/Vancouver:20220305T190000
DTEND;TZID=America/Vancouver:20220305T220000
DTSTAMP:20260423T113748
CREATED:20210922T163343Z
LAST-MODIFIED:20210922T163343Z
UID:10000148-1646506800-1646517600@loftpubvictoria.com
SUMMARY:CURL
DESCRIPTION:CURL is an all-female band with powerhouse vocalist and guitar player Helen Davies\, Dee Cooper on keyboards\, and Susan Johnson on bass guitar sharing a great mix of blues\, rock and R&B.
URL:https://loftpubvictoria.com/event/curl-2/
LOCATION:Events
CATEGORIES:Live Music
END:VEVENT
BEGIN:VEVENT
DTSTART;TZID=America/Vancouver:20220304T190000
DTEND;TZID=America/Vancouver:20220304T220000
DTSTAMP:20260423T113748
CREATED:20211207T183558Z
LAST-MODIFIED:20211207T183558Z
UID:10000182-1646420400-1646431200@loftpubvictoria.com
SUMMARY:The Lovecats
DESCRIPTION:Showcasing an eclectic catalog of notoriously good tunes in the Rock Pop Country and R&B genres. Unique selections from the 60s thru the 80s and beyond delivered in a cool Lovecats style.
URL:https://loftpubvictoria.com/event/the-lovecats/
LOCATION:Events
CATEGORIES:Live Music
END:VEVENT
BEGIN:VEVENT
DTSTART;TZID=America/Vancouver:20220226T190000
DTEND;TZID=America/Vancouver:20220226T220000
DTSTAMP:20260423T113748
CREATED:20211206T195055Z
LAST-MODIFIED:20211206T195055Z
UID:10000181-1645902000-1645912800@loftpubvictoria.com
SUMMARY:Charlie Fox & The Disciples of Cool
DESCRIPTION:A group of seasoned Victoria musicians\, dedicated to playing blues for the 21st century\, with a little bit of rock\, a touch of jazz and a whole lotta soul.
URL:https://loftpubvictoria.com/event/charlie-fox-the-disciples-of-cool-2/
LOCATION:Events
CATEGORIES:Live Music
ATTACH;FMTTYPE=:
END:VEVENT
BEGIN:VEVENT
DTSTART;TZID=America/Vancouver:20220225T190000
DTEND;TZID=America/Vancouver:20220225T220000
DTSTAMP:20260423T113748
CREATED:20220203T205327Z
LAST-MODIFIED:20220203T205327Z
UID:10000183-1645815600-1645826400@loftpubvictoria.com
SUMMARY:Carla Olive & Amber Banman
DESCRIPTION:Percussionist Amber Banman joins Singer Songwriter and Guitarist Carla Olive for a great mix of pop/rock favourites and originals.
URL:https://loftpubvictoria.com/event/carla-olive-amber-banman/
LOCATION:Events
CATEGORIES:Live Music
END:VEVENT
BEGIN:VEVENT
DTSTART;TZID=America/Vancouver:20220206T150000
DTEND;TZID=America/Vancouver:20220206T190000
DTSTAMP:20260423T113748
CREATED:20210728T164949Z
LAST-MODIFIED:20210728T164949Z
UID:10000021-1644159600-1644174000@loftpubvictoria.com
SUMMARY:Sunday Afternoon Jam
DESCRIPTION:Sit back and enjoy a musical afternoon with Rainshadow Al and Victoria’s talented musicians and singers\, on stage to jam a few tunes.  If you plan to come out and play\, please bring your own instrument and/or microphone.
URL:https://loftpubvictoria.com/event/sunday-afternoon-jam-17-2022-02-06/2022-02-06/
LOCATION:Events
CATEGORIES:Live Music
ATTACH;FMTTYPE=:
END:VEVENT
BEGIN:VEVENT
DTSTART;TZID=America/Vancouver:20220103T173000
DTEND;TZID=America/Vancouver:20220103T200000
DTSTAMP:20260423T113748
CREATED:20210925T061728Z
LAST-MODIFIED:20210925T061728Z
UID:10000142-1641231000-1641240000@loftpubvictoria.com
SUMMARY:Los Gringos Locos
DESCRIPTION:The instrumental acoustic duo\, featuring Al Sabourin and Mike Sampson entertaining us with their unique blend of standards and original compositions.
URL:https://loftpubvictoria.com/event/losgringoslocos/2022-01-03/
LOCATION:Events
CATEGORIES:Live Music
END:VEVENT
BEGIN:VEVENT
DTSTART;TZID=America/Vancouver:20211228T180000
DTEND;TZID=America/Vancouver:20211228T210000
DTSTAMP:20260423T113748
CREATED:20210728T173149Z
LAST-MODIFIED:20210728T173149Z
UID:10000061-1640714400-1640725200@loftpubvictoria.com
SUMMARY:The Blue Lights
DESCRIPTION:THE BLUE LIGHTS offer up an eclectic mix of blues\, western swing and rockabilly – featuring multi-instrumentalist Dave Harris\, bassist and guitar player Clark Brendon\, and legendary sax man Al Pease. Special guests Slim Sandy on drums and vocalist Willa Mae.
URL:https://loftpubvictoria.com/event/dave-harrisand-friends/2021-12-28/
LOCATION:Events
CATEGORIES:Live Music
ATTACH;FMTTYPE=:
END:VEVENT
BEGIN:VEVENT
DTSTART;TZID=America/Vancouver:20211210T190000
DTEND;TZID=America/Vancouver:20211210T220000
DTSTAMP:20260423T113748
CREATED:20210728T180918Z
LAST-MODIFIED:20210728T180918Z
UID:10000121-1639162800-1639173600@loftpubvictoria.com
SUMMARY:Tom Morrissey
DESCRIPTION:Acoustic roots/folk musician Tom Morrisey\, blends\ntraditional East Coast tunes with a variety of modern classics.\nhttps://www.facebook.com/tommorrisseyband/
URL:https://loftpubvictoria.com/event/tom-morrissey-7/2021-12-10/
LOCATION:Events
CATEGORIES:Live Music
ATTACH;FMTTYPE=:
END:VEVENT
BEGIN:VEVENT
DTSTART;TZID=America/Vancouver:20210929T180000
DTEND;TZID=America/Vancouver:20210929T210000
DTSTAMP:20260423T113748
CREATED:20210728T173759Z
LAST-MODIFIED:20210728T173759Z
UID:10000081-1632938400-1632949200@loftpubvictoria.com
SUMMARY:Wednesday Night Jam
DESCRIPTION:Come on out and experience the incredible talent Victoria has to offer!  Bring your own instrument and mic – drum kit\, bass/guitar amp provided.
URL:https://loftpubvictoria.com/event/wednesday-night-jam-13/2021-09-29/
LOCATION:Events
CATEGORIES:Live Music
ATTACH;FMTTYPE=:
END:VEVENT
END:VCALENDAR