BEGIN:VCALENDAR
VERSION:2.0
PRODID:-//The Loft Pub Victoria - ECPv6.15.20//NONSGML v1.0//EN
CALSCALE:GREGORIAN
METHOD:PUBLISH
X-WR-CALNAME:The Loft Pub Victoria
X-ORIGINAL-URL:https://loftpubvictoria.com
X-WR-CALDESC:Events for The Loft Pub Victoria
REFRESH-INTERVAL;VALUE=DURATION:PT1H
X-Robots-Tag:noindex
X-PUBLISHED-TTL:PT1H
BEGIN:VTIMEZONE
TZID:America/Vancouver
BEGIN:DAYLIGHT
TZOFFSETFROM:-0800
TZOFFSETTO:-0700
TZNAME:PDT
DTSTART:20210314T100000
END:DAYLIGHT
BEGIN:STANDARD
TZOFFSETFROM:-0700
TZOFFSETTO:-0800
TZNAME:PST
DTSTART:20211107T090000
END:STANDARD
BEGIN:DAYLIGHT
TZOFFSETFROM:-0800
TZOFFSETTO:-0700
TZNAME:PDT
DTSTART:20220313T100000
END:DAYLIGHT
BEGIN:STANDARD
TZOFFSETFROM:-0700
TZOFFSETTO:-0800
TZNAME:PST
DTSTART:20221106T090000
END:STANDARD
BEGIN:DAYLIGHT
TZOFFSETFROM:-0800
TZOFFSETTO:-0700
TZNAME:PDT
DTSTART:20230312T100000
END:DAYLIGHT
BEGIN:STANDARD
TZOFFSETFROM:-0700
TZOFFSETTO:-0800
TZNAME:PST
DTSTART:20231105T090000
END:STANDARD
END:VTIMEZONE
BEGIN:VEVENT
DTSTART;TZID=America/Vancouver:20221120T150000
DTEND;TZID=America/Vancouver:20221120T190000
DTSTAMP:20260422T173428
CREATED:20210728T164949Z
LAST-MODIFIED:20210728T164949Z
UID:10000057-1668956400-1668970800@loftpubvictoria.com
SUMMARY:Sunday Afternoon Jam
DESCRIPTION:Sit back and enjoy a musical afternoon with Rainshadow Al and Victoria’s talented musicians and singers\, on stage to jam a few tunes.  If you plan to come out and play\, please bring your own instrument and/or microphone.
URL:https://loftpubvictoria.com/event/sunday-afternoon-jam-17-2022-02-06/2022-11-20/
LOCATION:Events
CATEGORIES:Live Music
ATTACH;FMTTYPE=:
END:VEVENT
BEGIN:VEVENT
DTSTART;TZID=America/Vancouver:20221119T190000
DTEND;TZID=America/Vancouver:20221119T220000
DTSTAMP:20260422T173428
CREATED:20220902T221310Z
LAST-MODIFIED:20220902T221310Z
UID:10000233-1668884400-1668895200@loftpubvictoria.com
SUMMARY:Soul Source
DESCRIPTION:The Soul Source R&B Band is a big group. Featuring singers\, horns\, and rhythm section – it’s about 20 people in total.  Playing everything from classic R&B by groups like The Supremes to modern hits by Bruno Mars\, this show is always a party and a great chance to dance.  Directed by trombonist and touring musician Nick La Riviere\, the band has a big fun sound.
URL:https://loftpubvictoria.com/event/soul-source-2/
LOCATION:Events
CATEGORIES:Live Music
ATTACH;FMTTYPE=:
END:VEVENT
BEGIN:VEVENT
DTSTART;TZID=America/Vancouver:20221118T190000
DTEND;TZID=America/Vancouver:20221118T220000
DTSTAMP:20260422T173428
CREATED:20220928T194401Z
LAST-MODIFIED:20220928T194401Z
UID:10000237-1668798000-1668808800@loftpubvictoria.com
SUMMARY:Rainshadow Al & Friends
DESCRIPTION:Guitarist Rainshadow Al teams up with some of The Loft’s talented friends for a great night of rock/pop/R&B.
URL:https://loftpubvictoria.com/event/rainshadow-al-friends-2/
LOCATION:Events
CATEGORIES:Live Music
ATTACH;FMTTYPE=:
END:VEVENT
BEGIN:VEVENT
DTSTART;TZID=America/Vancouver:20221117T180000
DTEND;TZID=America/Vancouver:20221117T210000
DTSTAMP:20260422T173428
CREATED:20210723T232115Z
LAST-MODIFIED:20210723T232115Z
UID:10000019-1668708000-1668718800@loftpubvictoria.com
SUMMARY:Rhythm Train
DESCRIPTION:A top-notch line-up of musicians every Thursday offering up a great mix of blues\, rock\, R&B and more.  Jack Lavin on bass/harmonica/guitar/vocals\, Jordie Edmonds on guitar and Ross Hall on drums. \n\n\n\n\nJack Lavin Bass\, harmonica\, guitar\, vocals \nHailing from Chicago\, Jack Lavin was a mainstay in the Vancouver music scene for over 45 years. He was the founding member of the W.C. Handy Award winning Powder Blues and has performed with numerous blues luminaries. As house band leader and jam host at the Yale for nearly 10 years\, he brought some of the best performers in the blues idiom to the Yale\, Fairview Pub and lots more. Jack has penned many songs and was nominated by the Juno Awards Society as Composer of the Year for his hit Thirsty Ears in ’81. Since then he has been producing albums\, recording\, writing songs and performing in nightclubs and at concerts. Lavin moved to Victoria\, BC in 2018 and continues to bring blues music and musicians to his city. He has performed with: Chuck Berry\, Bo Diddley\, Robert Cray\, Lowell Fulson\, Elvin Bishop\, John Hammond\, Taj Mahal\, John Lee Hooker\, Otis Rush\, Pinetop Perkins\, Doug Sahm\, Amos Garrett\, Shuggie Otis\, Long John Baldry\, Lazy Lester\, Guitar Shorty\, Pee Wee Crayton\, Jim Byrnes and plenty of others. \nRoss Hall Drums \nCalgary\, Alberta born drummer Ross Hall began his career at age 12 as he played in the stage band through junior and senior high school. He turned pro in the early ‘70s when he joined the notorious rock cover band Micky Rat and toured throughout Alberta for nearly 15 years. In ’88 Ross joined up with the Blues/Zydeco band Daddy Long Legs and continued his touring in the Western provinces till ’02 when he relocated to Victoria\, BC. In ’14\, Hall teamed up with the Bill Johnson Band performing roots/blues till ’17 when he met Hank Lionhart and joined Hank’s bands The Toasters\, Uncle Wiggly’s Hot Shoes Blues Band and the Kingpins. Most recently he has performed with blues master Brandon Isaak\, Maple Blues Award winners Chris Whiteley and Diana Braithwaite and esteemed blues/jazz singer LJ Mounteney. Ross is a heavy hitting player with a wicked shuffle and is well known for his metronomic time-keeping and dynamics. He is a first-call session man and the perfect addition to any serious rhythm section.
URL:https://loftpubvictoria.com/event/rhythm-train-2022-09-29-2022-11-03-2022-11-17/2022-11-17/
LOCATION:Events
CATEGORIES:Live Music
ATTACH;FMTTYPE=:
END:VEVENT
BEGIN:VEVENT
DTSTART;TZID=America/Vancouver:20221116T180000
DTEND;TZID=America/Vancouver:20221116T210000
DTSTAMP:20260422T173428
CREATED:20210728T173759Z
LAST-MODIFIED:20210728T173759Z
UID:10000127-1668621600-1668632400@loftpubvictoria.com
SUMMARY:Wednesday Night Jam
DESCRIPTION:Come on out and experience the incredible talent Victoria has to offer!  Bring your own instrument and mic – drum kit\, bass/guitar amp provided.
URL:https://loftpubvictoria.com/event/wednesday-night-jam-13/2022-11-16/
LOCATION:Events
CATEGORIES:Live Music
ATTACH;FMTTYPE=:
END:VEVENT
BEGIN:VEVENT
DTSTART;TZID=America/Vancouver:20221115T180000
DTEND;TZID=America/Vancouver:20221115T210000
DTSTAMP:20260422T173428
CREATED:20210728T173149Z
LAST-MODIFIED:20210728T173149Z
UID:10000095-1668535200-1668546000@loftpubvictoria.com
SUMMARY:The Blue Lights
DESCRIPTION:THE BLUE LIGHTS offer up an eclectic mix of blues\, western swing and rockabilly – featuring multi-instrumentalist Dave Harris\, bassist and guitar player Clark Brendon\, and legendary sax man Al Pease. Special guests Slim Sandy on drums and vocalist Willa Mae.
URL:https://loftpubvictoria.com/event/dave-harrisand-friends-2022-07-26/2022-11-15/
LOCATION:Events
CATEGORIES:Live Music
ATTACH;FMTTYPE=:
END:VEVENT
BEGIN:VEVENT
DTSTART;TZID=America/Vancouver:20221114T173000
DTEND;TZID=America/Vancouver:20221114T200000
DTSTAMP:20260422T173428
CREATED:20211130T010226Z
LAST-MODIFIED:20211130T010226Z
UID:10000197-1668447000-1668456000@loftpubvictoria.com
SUMMARY:The Helen Davies Band
DESCRIPTION:The Helen Davies Band perform blues and R&B\, alongside some originals.
URL:https://loftpubvictoria.com/event/curl-2022-01-24-2022-05-16-2022-11-14/2022-11-14/
LOCATION:Events
ATTACH;FMTTYPE=:
END:VEVENT
BEGIN:VEVENT
DTSTART;TZID=America/Vancouver:20221113T150000
DTEND;TZID=America/Vancouver:20221113T190000
DTSTAMP:20260422T173428
CREATED:20210728T164949Z
LAST-MODIFIED:20210728T164949Z
UID:10000056-1668351600-1668366000@loftpubvictoria.com
SUMMARY:Sunday Afternoon Jam
DESCRIPTION:Sit back and enjoy a musical afternoon with Rainshadow Al and Victoria’s talented musicians and singers\, on stage to jam a few tunes.  If you plan to come out and play\, please bring your own instrument and/or microphone.
URL:https://loftpubvictoria.com/event/sunday-afternoon-jam-17-2022-02-06/2022-11-13/
LOCATION:Events
CATEGORIES:Live Music
ATTACH;FMTTYPE=:
END:VEVENT
BEGIN:VEVENT
DTSTART;TZID=America/Vancouver:20221112T190000
DTEND;TZID=America/Vancouver:20221112T220000
DTSTAMP:20260422T173428
CREATED:20210728T180400Z
LAST-MODIFIED:20210728T180400Z
UID:10000139-1668279600-1668290400@loftpubvictoria.com
SUMMARY:McKinley Wolf
DESCRIPTION:Blues tribute band to the masters McKinley Wolf\, present\nmusic from Freddie King\, Howlin’ Wolf\, Jimmy Reed\, B.B. King\, Muddy Waters\,\nAlbert King to name a few\, for a truly authentic blues experience.
URL:https://loftpubvictoria.com/event/mckinley-wolf-3-2022-06-11/2022-11-12/
LOCATION:Events
CATEGORIES:Live Music
END:VEVENT
BEGIN:VEVENT
DTSTART;TZID=America/Vancouver:20221111T190000
DTEND;TZID=America/Vancouver:20221111T220000
DTSTAMP:20260422T173428
CREATED:20210728T180918Z
LAST-MODIFIED:20210728T180918Z
UID:10000159-1668193200-1668204000@loftpubvictoria.com
SUMMARY:Tom Morrissey
DESCRIPTION:Acoustic roots/folk musician Tom Morrisey\, blends\ntraditional East Coast tunes with a variety of modern classics.\nhttps://www.facebook.com/tommorrisseyband/
URL:https://loftpubvictoria.com/event/tom-morrissey-7-2022-08-12/2022-11-11/
LOCATION:Events
CATEGORIES:Live Music
ATTACH;FMTTYPE=:
END:VEVENT
BEGIN:VEVENT
DTSTART;TZID=America/Vancouver:20221110T180000
DTEND;TZID=America/Vancouver:20221110T210000
DTSTAMP:20260422T173428
CREATED:20210723T232115Z
LAST-MODIFIED:20210723T232115Z
UID:10000018-1668103200-1668114000@loftpubvictoria.com
SUMMARY:Rhythm Train
DESCRIPTION:A top-notch line-up of musicians every Thursday offering up a great mix of blues\, rock\, R&B and more.  Jack Lavin on bass/harmonica/guitar/vocals\, Jordie Edmonds on guitar and Ross Hall on drums. \n\n\n\n\nJack Lavin Bass\, harmonica\, guitar\, vocals \nHailing from Chicago\, Jack Lavin was a mainstay in the Vancouver music scene for over 45 years. He was the founding member of the W.C. Handy Award winning Powder Blues and has performed with numerous blues luminaries. As house band leader and jam host at the Yale for nearly 10 years\, he brought some of the best performers in the blues idiom to the Yale\, Fairview Pub and lots more. Jack has penned many songs and was nominated by the Juno Awards Society as Composer of the Year for his hit Thirsty Ears in ’81. Since then he has been producing albums\, recording\, writing songs and performing in nightclubs and at concerts. Lavin moved to Victoria\, BC in 2018 and continues to bring blues music and musicians to his city. He has performed with: Chuck Berry\, Bo Diddley\, Robert Cray\, Lowell Fulson\, Elvin Bishop\, John Hammond\, Taj Mahal\, John Lee Hooker\, Otis Rush\, Pinetop Perkins\, Doug Sahm\, Amos Garrett\, Shuggie Otis\, Long John Baldry\, Lazy Lester\, Guitar Shorty\, Pee Wee Crayton\, Jim Byrnes and plenty of others. \nRoss Hall Drums \nCalgary\, Alberta born drummer Ross Hall began his career at age 12 as he played in the stage band through junior and senior high school. He turned pro in the early ‘70s when he joined the notorious rock cover band Micky Rat and toured throughout Alberta for nearly 15 years. In ’88 Ross joined up with the Blues/Zydeco band Daddy Long Legs and continued his touring in the Western provinces till ’02 when he relocated to Victoria\, BC. In ’14\, Hall teamed up with the Bill Johnson Band performing roots/blues till ’17 when he met Hank Lionhart and joined Hank’s bands The Toasters\, Uncle Wiggly’s Hot Shoes Blues Band and the Kingpins. Most recently he has performed with blues master Brandon Isaak\, Maple Blues Award winners Chris Whiteley and Diana Braithwaite and esteemed blues/jazz singer LJ Mounteney. Ross is a heavy hitting player with a wicked shuffle and is well known for his metronomic time-keeping and dynamics. He is a first-call session man and the perfect addition to any serious rhythm section.
URL:https://loftpubvictoria.com/event/rhythm-train-2022-09-29-2022-11-03/2022-11-10/
LOCATION:Events
CATEGORIES:Live Music
ATTACH;FMTTYPE=:
END:VEVENT
BEGIN:VEVENT
DTSTART;TZID=America/Vancouver:20221109T180000
DTEND;TZID=America/Vancouver:20221109T210000
DTSTAMP:20260422T173428
CREATED:20210728T173759Z
LAST-MODIFIED:20210728T173759Z
UID:10000126-1668016800-1668027600@loftpubvictoria.com
SUMMARY:Wednesday Night Jam
DESCRIPTION:Come on out and experience the incredible talent Victoria has to offer!  Bring your own instrument and mic – drum kit\, bass/guitar amp provided.
URL:https://loftpubvictoria.com/event/wednesday-night-jam-13/2022-11-09/
LOCATION:Events
CATEGORIES:Live Music
ATTACH;FMTTYPE=:
END:VEVENT
BEGIN:VEVENT
DTSTART;TZID=America/Vancouver:20221108T180000
DTEND;TZID=America/Vancouver:20221108T210000
DTSTAMP:20260422T173428
CREATED:20210728T173149Z
LAST-MODIFIED:20210728T173149Z
UID:10000094-1667930400-1667941200@loftpubvictoria.com
SUMMARY:The Blue Lights
DESCRIPTION:THE BLUE LIGHTS offer up an eclectic mix of blues\, western swing and rockabilly – featuring multi-instrumentalist Dave Harris\, bassist and guitar player Clark Brendon\, and legendary sax man Al Pease. Special guests Slim Sandy on drums and vocalist Willa Mae.
URL:https://loftpubvictoria.com/event/dave-harrisand-friends-2022-07-26/2022-11-08/
LOCATION:Events
CATEGORIES:Live Music
ATTACH;FMTTYPE=:
END:VEVENT
BEGIN:VEVENT
DTSTART;TZID=America/Vancouver:20221107T173000
DTEND;TZID=America/Vancouver:20221107T200000
DTSTAMP:20260422T173428
CREATED:20210925T061728Z
LAST-MODIFIED:20210925T061728Z
UID:10000177-1667842200-1667851200@loftpubvictoria.com
SUMMARY:Los Gringos Locos
DESCRIPTION:The instrumental acoustic duo\, featuring Al Sabourin and Mike Sampson entertaining us with their unique blend of standards and original compositions.
URL:https://loftpubvictoria.com/event/losgringoslocos/2022-11-07/
LOCATION:Events
CATEGORIES:Live Music
END:VEVENT
BEGIN:VEVENT
DTSTART;TZID=America/Vancouver:20221106T150000
DTEND;TZID=America/Vancouver:20221106T190000
DTSTAMP:20260422T173428
CREATED:20210728T164949Z
LAST-MODIFIED:20210728T164949Z
UID:10000055-1667746800-1667761200@loftpubvictoria.com
SUMMARY:Sunday Afternoon Jam
DESCRIPTION:Sit back and enjoy a musical afternoon with Rainshadow Al and Victoria’s talented musicians and singers\, on stage to jam a few tunes.  If you plan to come out and play\, please bring your own instrument and/or microphone.
URL:https://loftpubvictoria.com/event/sunday-afternoon-jam-17-2022-02-06/2022-11-06/
LOCATION:Events
CATEGORIES:Live Music
ATTACH;FMTTYPE=:
END:VEVENT
BEGIN:VEVENT
DTSTART;TZID=America/Vancouver:20221105T190000
DTEND;TZID=America/Vancouver:20221105T220000
DTSTAMP:20260422T173428
CREATED:20220902T220650Z
LAST-MODIFIED:20220902T220650Z
UID:10000230-1667674800-1667685600@loftpubvictoria.com
SUMMARY:The Fabulous B-Sides
DESCRIPTION:The Fabulous B-Sides is a hard-rocking dance band reinterpreting hits by the likes of Badfinger\,  Faces\, Stones\, Prince\, Lynyrd Skynyrd and Booker T and the MGs. Veteran musicians who’ve played everything from nightclubs to musical festivals and fairs.  Members have previously played in such top Victoria acts as Groove Kitchen\, That ’70s Band\, The Sutcliffes\, The Waybacks and the Soul Shakers.
URL:https://loftpubvictoria.com/event/the-fabulous-b-sides-2/
LOCATION:Events
CATEGORIES:Live Music
ATTACH;FMTTYPE=:
END:VEVENT
BEGIN:VEVENT
DTSTART;TZID=America/Vancouver:20221104T190000
DTEND;TZID=America/Vancouver:20221104T220000
DTSTAMP:20260422T173428
CREATED:20221028T221221Z
LAST-MODIFIED:20221028T221221Z
UID:10000240-1667588400-1667599200@loftpubvictoria.com
SUMMARY:St. Cecilia
DESCRIPTION:All female trio St. Cecilia take the stage with unforgettable pop/rock women in music selections.
URL:https://loftpubvictoria.com/event/st-cecilia/
LOCATION:Events
CATEGORIES:Live Music
ATTACH;FMTTYPE=:
END:VEVENT
BEGIN:VEVENT
DTSTART;TZID=America/Vancouver:20221103T180000
DTEND;TZID=America/Vancouver:20221103T210000
DTSTAMP:20260422T173428
CREATED:20210723T232115Z
LAST-MODIFIED:20210723T232115Z
UID:10000017-1667498400-1667509200@loftpubvictoria.com
SUMMARY:Rhythm Train
DESCRIPTION:A top-notch line-up of musicians every Thursday offering up a great mix of blues\, rock\, R&B and more.  Jack Lavin on bass/harmonica/guitar/vocals\, Jordie Edmonds on guitar and Ross Hall on drums. \n\n\n\n\nJack Lavin Bass\, harmonica\, guitar\, vocals \nHailing from Chicago\, Jack Lavin was a mainstay in the Vancouver music scene for over 45 years. He was the founding member of the W.C. Handy Award winning Powder Blues and has performed with numerous blues luminaries. As house band leader and jam host at the Yale for nearly 10 years\, he brought some of the best performers in the blues idiom to the Yale\, Fairview Pub and lots more. Jack has penned many songs and was nominated by the Juno Awards Society as Composer of the Year for his hit Thirsty Ears in ’81. Since then he has been producing albums\, recording\, writing songs and performing in nightclubs and at concerts. Lavin moved to Victoria\, BC in 2018 and continues to bring blues music and musicians to his city. He has performed with: Chuck Berry\, Bo Diddley\, Robert Cray\, Lowell Fulson\, Elvin Bishop\, John Hammond\, Taj Mahal\, John Lee Hooker\, Otis Rush\, Pinetop Perkins\, Doug Sahm\, Amos Garrett\, Shuggie Otis\, Long John Baldry\, Lazy Lester\, Guitar Shorty\, Pee Wee Crayton\, Jim Byrnes and plenty of others. \nRoss Hall Drums \nCalgary\, Alberta born drummer Ross Hall began his career at age 12 as he played in the stage band through junior and senior high school. He turned pro in the early ‘70s when he joined the notorious rock cover band Micky Rat and toured throughout Alberta for nearly 15 years. In ’88 Ross joined up with the Blues/Zydeco band Daddy Long Legs and continued his touring in the Western provinces till ’02 when he relocated to Victoria\, BC. In ’14\, Hall teamed up with the Bill Johnson Band performing roots/blues till ’17 when he met Hank Lionhart and joined Hank’s bands The Toasters\, Uncle Wiggly’s Hot Shoes Blues Band and the Kingpins. Most recently he has performed with blues master Brandon Isaak\, Maple Blues Award winners Chris Whiteley and Diana Braithwaite and esteemed blues/jazz singer LJ Mounteney. Ross is a heavy hitting player with a wicked shuffle and is well known for his metronomic time-keeping and dynamics. He is a first-call session man and the perfect addition to any serious rhythm section.
URL:https://loftpubvictoria.com/event/rhythm-train-2022-09-29-2022-11-03/2022-11-03/
LOCATION:Events
CATEGORIES:Live Music
ATTACH;FMTTYPE=:
END:VEVENT
BEGIN:VEVENT
DTSTART;TZID=America/Vancouver:20221102T180000
DTEND;TZID=America/Vancouver:20221102T210000
DTSTAMP:20260422T173428
CREATED:20210728T173759Z
LAST-MODIFIED:20210728T173759Z
UID:10000120-1667412000-1667422800@loftpubvictoria.com
SUMMARY:Wednesday Night Jam
DESCRIPTION:Come on out and experience the incredible talent Victoria has to offer!  Bring your own instrument and mic – drum kit\, bass/guitar amp provided.
URL:https://loftpubvictoria.com/event/wednesday-night-jam-13/2022-11-02/
LOCATION:Events
CATEGORIES:Live Music
ATTACH;FMTTYPE=:
END:VEVENT
BEGIN:VEVENT
DTSTART;TZID=America/Vancouver:20221101T180000
DTEND;TZID=America/Vancouver:20221101T210000
DTSTAMP:20260422T173428
CREATED:20210728T173149Z
LAST-MODIFIED:20210728T173149Z
UID:10000093-1667325600-1667336400@loftpubvictoria.com
SUMMARY:The Blue Lights
DESCRIPTION:THE BLUE LIGHTS offer up an eclectic mix of blues\, western swing and rockabilly – featuring multi-instrumentalist Dave Harris\, bassist and guitar player Clark Brendon\, and legendary sax man Al Pease. Special guests Slim Sandy on drums and vocalist Willa Mae.
URL:https://loftpubvictoria.com/event/dave-harrisand-friends-2022-07-26/2022-11-01/
LOCATION:Events
CATEGORIES:Live Music
ATTACH;FMTTYPE=:
END:VEVENT
BEGIN:VEVENT
DTSTART;TZID=America/Vancouver:20221031T173000
DTEND;TZID=America/Vancouver:20221031T200000
DTSTAMP:20260422T173428
CREATED:20211130T010226Z
LAST-MODIFIED:20211130T010226Z
UID:10000196-1667237400-1667246400@loftpubvictoria.com
SUMMARY:CURL
DESCRIPTION:All female band CURL perform blues and R&B\, alongside some originals.
URL:https://loftpubvictoria.com/event/curl-2022-01-24-2022-05-16/2022-10-31/
LOCATION:Events
ATTACH;FMTTYPE=:
END:VEVENT
BEGIN:VEVENT
DTSTART;TZID=America/Vancouver:20221030T150000
DTEND;TZID=America/Vancouver:20221030T190000
DTSTAMP:20260422T173428
CREATED:20210728T164949Z
LAST-MODIFIED:20210728T164949Z
UID:10000054-1667142000-1667156400@loftpubvictoria.com
SUMMARY:Sunday Afternoon Jam
DESCRIPTION:Sit back and enjoy a musical afternoon with Rainshadow Al and Victoria’s talented musicians and singers\, on stage to jam a few tunes.  If you plan to come out and play\, please bring your own instrument and/or microphone.
URL:https://loftpubvictoria.com/event/sunday-afternoon-jam-17-2022-02-06/2022-10-30/
LOCATION:Events
CATEGORIES:Live Music
ATTACH;FMTTYPE=:
END:VEVENT
BEGIN:VEVENT
DTSTART;TZID=America/Vancouver:20221029T190000
DTEND;TZID=America/Vancouver:20221029T220000
DTSTAMP:20260422T173428
CREATED:20220928T194136Z
LAST-MODIFIED:20220928T194136Z
UID:10000236-1667070000-1667080800@loftpubvictoria.com
SUMMARY:Shades Of Blue
DESCRIPTION:Shades of Blue plays uniquely improvisational Blues & Roots music.  Featuring Bill Johnson\, Casey Ryder & other VI hotshots\, this grooving\, dynamic band keeps the house rockin’ all night long…
URL:https://loftpubvictoria.com/event/shades-of-blue/
LOCATION:Events
CATEGORIES:Live Music
ATTACH;FMTTYPE=:
END:VEVENT
BEGIN:VEVENT
DTSTART;TZID=America/Vancouver:20221028T190000
DTEND;TZID=America/Vancouver:20221028T220000
DTSTAMP:20260422T173428
CREATED:20220928T193935Z
LAST-MODIFIED:20250803T192804Z
UID:10000235-1666983600-1666994400@loftpubvictoria.com
SUMMARY:Blackfish
DESCRIPTION:Since its inception in 2014\, Blackfish Blues has delivered high energy performances on Vancouver Island\, including its participation in the 2016 Jazz Society Victoria Blues Bash\, 39 days of July\, and the 2018 Nanaimo Blues Festival. Over the years\, this group had developed an extensive repertoire that ranges from traditional and contemporary blues to classic rock.
URL:https://loftpubvictoria.com/event/blackfish/2022-10-28/
LOCATION:Events
CATEGORIES:Live Music
ATTACH;FMTTYPE=:
END:VEVENT
BEGIN:VEVENT
DTSTART;TZID=America/Vancouver:20221027T180000
DTEND;TZID=America/Vancouver:20221027T210000
DTSTAMP:20260422T173428
CREATED:20210723T232115Z
LAST-MODIFIED:20210723T232115Z
UID:10000038-1666893600-1666904400@loftpubvictoria.com
SUMMARY:Rhythm Train
DESCRIPTION:A top-notch line-up of musicians every Thursday offering up a great mix of blues\, rock\, R&B and more.  Jan Randall on keys\, guitar harmonica and vocals.  Jack Lavin on bass\, harmonica\, guitar and vocals.  Ross Hall on drums. \n\n\n\n\nJan Randall Keyboards\, guitar\, harmonica\, vocals \nJan Randall has performed on keyboards with numerous internationally famous music legends including Bo Diddley\, Otis Rush\, Gary US Bonds\, Sam Lay\, (drummer with Paul Butterfield and Howlin’ Wolf)\, and many more. He has played in some legendary Canadian bands as with guitar virtuoso Amos Garrett and the amazing and hilarious Gaye Delorme (Rodeo Song). Randall was the Musical Director for SCTV and the Banff TV Festival and has worked with many superstars such as Bob Newhart\, John Cleese\, Steve Allen\, Mike Meyers\, Eugene Levy\, Martin Short and Catherine O’Hara to name a few. A prominent studio musician\, Jan has recorded many projects such as Goin’ To Kansas City with blues piano master Jay McShann\, two albums of his original songs (Good Fair World-2008 and Wait in Line-2021) and is currently involved with blues/jazz singer/songwriter LJ Mounteney on an album scheduled for release in 2022. He has an extensive career as composer/producer of many original soundtracks for CBC\, the National Film Board and the Discovery Channel. Recently Jan was Musical Director for the Irrelevant Show on CBC Radio. He currently performs in Victoria’s finer night clubs and concert venues. \nJack Lavin Bass\, harmonica\, guitar\, vocals \nHailing from Chicago\, Jack Lavin was a mainstay in the Vancouver music scene for over 45 years. He was the founding member of the W.C. Handy Award winning Powder Blues and has performed with numerous blues luminaries. As house band leader and jam host at the Yale for nearly 10 years\, he brought some of the best performers in the blues idiom to the Yale\, Fairview Pub and lots more. Jack has penned many songs and was nominated by the Juno Awards Society as Composer of the Year for his hit Thirsty Ears in ’81. Since then he has been producing albums\, recording\, writing songs and performing in nightclubs and at concerts. Lavin moved to Victoria\, BC in 2018 and continues to bring blues music and musicians to his city. He has performed with: Chuck Berry\, Bo Diddley\, Robert Cray\, Lowell Fulson\, Elvin Bishop\, John Hammond\, Taj Mahal\, John Lee Hooker\, Otis Rush\, Pinetop Perkins\, Doug Sahm\, Amos Garrett\, Shuggie Otis\, Long John Baldry\, Lazy Lester\, Guitar Shorty\, Pee Wee Crayton\, Jim Byrnes and plenty of others. \nRoss Hall Drums \nCalgary\, Alberta born drummer Ross Hall began his career at age 12 as he played in the stage band through junior and senior high school. He turned pro in the early ‘70s when he joined the notorious rock cover band Micky Rat and toured throughout Alberta for nearly 15 years. In ’88 Ross joined up with the Blues/Zydeco band Daddy Long Legs and continued his touring in the Western provinces till ’02 when he relocated to Victoria\, BC. In ’14\, Hall teamed up with the Bill Johnson Band performing roots/blues till ’17 when he met Hank Lionhart and joined Hank’s bands The Toasters\, Uncle Wiggly’s Hot Shoes Blues Band and the Kingpins. Most recently he has performed with blues master Brandon Isaak\, Maple Blues Award winners Chris Whiteley and Diana Braithwaite and esteemed blues/jazz singer LJ Mounteney. Ross is a heavy hitting player with a wicked shuffle and is well known for his metronomic time-keeping and dynamics. He is a first-call session man and the perfect addition to any serious rhythm section.
URL:https://loftpubvictoria.com/event/rhythm-train-2022-06-02-2022-09-01/2022-10-27/
LOCATION:Events
CATEGORIES:Live Music
ATTACH;FMTTYPE=:
END:VEVENT
BEGIN:VEVENT
DTSTART;TZID=America/Vancouver:20221026T180000
DTEND;TZID=America/Vancouver:20221026T210000
DTSTAMP:20260422T173428
CREATED:20210728T173759Z
LAST-MODIFIED:20210728T173759Z
UID:10000119-1666807200-1666818000@loftpubvictoria.com
SUMMARY:Wednesday Night Jam
DESCRIPTION:Come on out and experience the incredible talent Victoria has to offer!  Bring your own instrument and mic – drum kit\, bass/guitar amp provided.
URL:https://loftpubvictoria.com/event/wednesday-night-jam-13/2022-10-26/
LOCATION:Events
CATEGORIES:Live Music
ATTACH;FMTTYPE=:
END:VEVENT
BEGIN:VEVENT
DTSTART;TZID=America/Vancouver:20221025T180000
DTEND;TZID=America/Vancouver:20221025T210000
DTSTAMP:20260422T173428
CREATED:20210728T173149Z
LAST-MODIFIED:20210728T173149Z
UID:10000092-1666720800-1666731600@loftpubvictoria.com
SUMMARY:The Blue Lights
DESCRIPTION:THE BLUE LIGHTS offer up an eclectic mix of blues\, western swing and rockabilly – featuring multi-instrumentalist Dave Harris\, bassist and guitar player Clark Brendon\, and legendary sax man Al Pease. Special guests Slim Sandy on drums and vocalist Willa Mae.
URL:https://loftpubvictoria.com/event/dave-harrisand-friends-2022-07-26/2022-10-25/
LOCATION:Events
CATEGORIES:Live Music
ATTACH;FMTTYPE=:
END:VEVENT
BEGIN:VEVENT
DTSTART;TZID=America/Vancouver:20221024T173000
DTEND;TZID=America/Vancouver:20221024T200000
DTSTAMP:20260422T173428
CREATED:20210925T061728Z
LAST-MODIFIED:20210925T061728Z
UID:10000176-1666632600-1666641600@loftpubvictoria.com
SUMMARY:Bill & Al
DESCRIPTION:Join Bill Francis and Rainshadow Al for a great night of story and all your favourite rock songs.
URL:https://loftpubvictoria.com/event/losgringoslocos-2022-10-24/
LOCATION:Events
CATEGORIES:Live Music
ATTACH;FMTTYPE=:
END:VEVENT
BEGIN:VEVENT
DTSTART;TZID=America/Vancouver:20221023T150000
DTEND;TZID=America/Vancouver:20221023T190000
DTSTAMP:20260422T173428
CREATED:20210728T164949Z
LAST-MODIFIED:20210728T164949Z
UID:10000053-1666537200-1666551600@loftpubvictoria.com
SUMMARY:Sunday Afternoon Jam
DESCRIPTION:Sit back and enjoy a musical afternoon with Rainshadow Al and Victoria’s talented musicians and singers\, on stage to jam a few tunes.  If you plan to come out and play\, please bring your own instrument and/or microphone.
URL:https://loftpubvictoria.com/event/sunday-afternoon-jam-17-2022-02-06/2022-10-23/
LOCATION:Events
CATEGORIES:Live Music
ATTACH;FMTTYPE=:
END:VEVENT
BEGIN:VEVENT
DTSTART;TZID=America/Vancouver:20221022T190000
DTEND;TZID=America/Vancouver:20221022T220000
DTSTAMP:20260422T173428
CREATED:20220902T215812Z
LAST-MODIFIED:20220902T215812Z
UID:10000228-1666465200-1666476000@loftpubvictoria.com
SUMMARY:The Lovecats
DESCRIPTION:Showcasing an eclectic catalog of notoriously good tunes in the Rock Pop Country and R&B genres. Unique selections from the 60s thru the 80s and beyond delivered in a cool Lovecats style.
URL:https://loftpubvictoria.com/event/the-lovecats-4/
LOCATION:Events
CATEGORIES:Live Music
ATTACH;FMTTYPE=:
END:VEVENT
END:VCALENDAR