BEGIN:VCALENDAR
VERSION:2.0
PRODID:-//The Loft Pub Victoria - ECPv6.15.20//NONSGML v1.0//EN
CALSCALE:GREGORIAN
METHOD:PUBLISH
X-WR-CALNAME:The Loft Pub Victoria
X-ORIGINAL-URL:https://loftpubvictoria.com
X-WR-CALDESC:Events for The Loft Pub Victoria
REFRESH-INTERVAL;VALUE=DURATION:PT1H
X-Robots-Tag:noindex
X-PUBLISHED-TTL:PT1H
BEGIN:VTIMEZONE
TZID:America/Los_Angeles
BEGIN:DAYLIGHT
TZOFFSETFROM:-0800
TZOFFSETTO:-0700
TZNAME:PDT
DTSTART:20230312T100000
END:DAYLIGHT
BEGIN:STANDARD
TZOFFSETFROM:-0700
TZOFFSETTO:-0800
TZNAME:PST
DTSTART:20231105T090000
END:STANDARD
BEGIN:DAYLIGHT
TZOFFSETFROM:-0800
TZOFFSETTO:-0700
TZNAME:PDT
DTSTART:20240310T100000
END:DAYLIGHT
BEGIN:STANDARD
TZOFFSETFROM:-0700
TZOFFSETTO:-0800
TZNAME:PST
DTSTART:20241103T090000
END:STANDARD
BEGIN:DAYLIGHT
TZOFFSETFROM:-0800
TZOFFSETTO:-0700
TZNAME:PDT
DTSTART:20250309T100000
END:DAYLIGHT
BEGIN:STANDARD
TZOFFSETFROM:-0700
TZOFFSETTO:-0800
TZNAME:PST
DTSTART:20251102T090000
END:STANDARD
END:VTIMEZONE
BEGIN:VTIMEZONE
TZID:America/Vancouver
BEGIN:DAYLIGHT
TZOFFSETFROM:-0800
TZOFFSETTO:-0700
TZNAME:PDT
DTSTART:20210314T100000
END:DAYLIGHT
BEGIN:STANDARD
TZOFFSETFROM:-0700
TZOFFSETTO:-0800
TZNAME:PST
DTSTART:20211107T090000
END:STANDARD
BEGIN:DAYLIGHT
TZOFFSETFROM:-0800
TZOFFSETTO:-0700
TZNAME:PDT
DTSTART:20220313T100000
END:DAYLIGHT
BEGIN:STANDARD
TZOFFSETFROM:-0700
TZOFFSETTO:-0800
TZNAME:PST
DTSTART:20221106T090000
END:STANDARD
BEGIN:DAYLIGHT
TZOFFSETFROM:-0800
TZOFFSETTO:-0700
TZNAME:PDT
DTSTART:20230312T100000
END:DAYLIGHT
BEGIN:STANDARD
TZOFFSETFROM:-0700
TZOFFSETTO:-0800
TZNAME:PST
DTSTART:20231105T090000
END:STANDARD
BEGIN:DAYLIGHT
TZOFFSETFROM:-0800
TZOFFSETTO:-0700
TZNAME:PDT
DTSTART:20240310T100000
END:DAYLIGHT
BEGIN:STANDARD
TZOFFSETFROM:-0700
TZOFFSETTO:-0800
TZNAME:PST
DTSTART:20241103T090000
END:STANDARD
BEGIN:DAYLIGHT
TZOFFSETFROM:-0800
TZOFFSETTO:-0700
TZNAME:PDT
DTSTART:20250309T100000
END:DAYLIGHT
BEGIN:STANDARD
TZOFFSETFROM:-0700
TZOFFSETTO:-0800
TZNAME:PST
DTSTART:20251102T090000
END:STANDARD
END:VTIMEZONE
BEGIN:VEVENT
DTSTART;TZID=America/Los_Angeles:20240903T170000
DTEND;TZID=America/Los_Angeles:20240903T200000
DTSTAMP:20260422T044752
CREATED:20240825T192445Z
LAST-MODIFIED:20260111T025711Z
UID:10001193-1725382800-1725393600@loftpubvictoria.com
SUMMARY:Dave Harris & Friends
DESCRIPTION:DAVE HARRIS & FRIENDS Longtime blues musician and one man band\, joined by some of Victoria’s finest musicians including Al Pease and Clark Brendon. 5:00PM. Voluntary Cover.
URL:https://loftpubvictoria.com/event/dave-harris-friends/2024-09-03/
LOCATION:The Loft Pub\, 229 Gorge Rd E\, Victoria\, BC\, Canada
ATTACH;FMTTYPE=image/jpeg:https://loftpubvictoria.com/wp-content/uploads/2024/08/61FAB7A2-83C8-41CA-928B-45632448F698.jpeg
END:VEVENT
BEGIN:VEVENT
DTSTART;TZID=America/Los_Angeles:20240902T170000
DTEND;TZID=America/Los_Angeles:20240902T200000
DTSTAMP:20260422T044752
CREATED:20240828T182227Z
LAST-MODIFIED:20240925T172825Z
UID:10001326-1725296400-1725307200@loftpubvictoria.com
SUMMARY:Rae Vinyl
DESCRIPTION:Rae Vinyl shares acoustic pop/rock favourites and originals. \nVoluntary Cover.
URL:https://loftpubvictoria.com/event/rae-vinyl/2024-09-02/
LOCATION:The Loft Pub\, 229 Gorge Rd E\, Victoria\, BC\, Canada
CATEGORIES:Live Music
END:VEVENT
BEGIN:VEVENT
DTSTART;TZID=America/Vancouver:20240901T150000
DTEND;TZID=America/Vancouver:20240901T190000
DTSTAMP:20260422T044752
CREATED:20240821T021630Z
LAST-MODIFIED:20251113T234655Z
UID:10000870-1725202800-1725217200@loftpubvictoria.com
SUMMARY:Sunday Afternoon Jam
DESCRIPTION:Join us every Sunday for an afternoon of great music\, connection and encouragement.  Whether you are a music appreciator or musician yourself\, you are invited to take in the immense talent this jam attracts.  With host Rainshadow Al.  3-7PM. \nIf participating\, show up and sign up with Al.  Bring your own instrument/mic.
URL:https://loftpubvictoria.com/event/sunday-afternoon-jam/2024-09-01/
LOCATION:The Loft Pub\, 229 Gorge Rd E\, Victoria\, BC\, Canada
CATEGORIES:Live Music
ATTACH;FMTTYPE=image/jpeg:https://loftpubvictoria.com/wp-content/uploads/2024/08/D5770DBE-5911-4E37-A15B-4D01EA10B116.jpeg
END:VEVENT
BEGIN:VEVENT
DTSTART;TZID=America/Los_Angeles:20240831T190000
DTEND;TZID=America/Los_Angeles:20240831T220000
DTSTAMP:20260422T044752
CREATED:20240825T191738Z
LAST-MODIFIED:20251112T214107Z
UID:10001159-1725130800-1725141600@loftpubvictoria.com
SUMMARY:The Helen Davies Band
DESCRIPTION:Singer Songwriter and powerhouse vocalist Helen Davies\, fronts THE HELEN DAVIES BAND featuring RnB\, Blues\, Rock and Pop music to keep your toes tappin’. \nVoluntary Cover $10.
URL:https://loftpubvictoria.com/event/the-helen-davies-band/2024-08-31/
LOCATION:The Loft Pub\, 229 Gorge Rd E\, Victoria\, BC\, Canada
CATEGORIES:Live Music
ATTACH;FMTTYPE=image/jpeg:https://loftpubvictoria.com/wp-content/uploads/2024/08/456666385_10163752106459307_7660200001592746351_n-e1724712716342.jpg
END:VEVENT
BEGIN:VEVENT
DTSTART;TZID=America/Los_Angeles:20240830T190000
DTEND;TZID=America/Los_Angeles:20240830T220000
DTSTAMP:20260422T044752
CREATED:20240825T191630Z
LAST-MODIFIED:20240825T191630Z
UID:10001158-1725044400-1725055200@loftpubvictoria.com
SUMMARY:The Day Drinkers
DESCRIPTION:THE DAYDRINKERS share a great mix of pop/rock favourites you’ll be singing and dancing to all night long! Voluntary Cover $10. 7-10PM.
URL:https://loftpubvictoria.com/event/the-day-drinkers/
LOCATION:The Loft Pub\, 229 Gorge Rd E\, Victoria\, BC\, Canada
CATEGORIES:Live Music
ATTACH;FMTTYPE=image/jpeg:https://loftpubvictoria.com/wp-content/uploads/2024/08/DAYDRINKERS.jpg
END:VEVENT
BEGIN:VEVENT
DTSTART;TZID=America/Los_Angeles:20240829T180000
DTEND;TZID=America/Los_Angeles:20240829T210000
DTSTAMP:20260422T044752
CREATED:20240825T191411Z
LAST-MODIFIED:20260111T030050Z
UID:10001057-1724954400-1724965200@loftpubvictoria.com
SUMMARY:Rhythm Train
DESCRIPTION:RHYTHM TRAIN is a top-notch line-up of musicians offering up a great mix of blues\, rock\, R&B and more. Featuring Jack Lavin and Ross Hall with special guests every week. Voluntary Cover. 6-9PM.
URL:https://loftpubvictoria.com/event/rhythm-train/2024-08-29/
LOCATION:The Loft Pub\, 229 Gorge Rd E\, Victoria\, BC\, Canada
CATEGORIES:Live Music
ATTACH;FMTTYPE=image/jpeg:https://loftpubvictoria.com/wp-content/uploads/2024/08/Rhythm-Train-1-scaled.jpg
END:VEVENT
BEGIN:VEVENT
DTSTART;TZID=America/Los_Angeles:20240828T180000
DTEND;TZID=America/Los_Angeles:20240828T210000
DTSTAMP:20260422T044752
CREATED:20240825T191300Z
LAST-MODIFIED:20260111T030131Z
UID:10000956-1724868000-1724878800@loftpubvictoria.com
SUMMARY:Wednesday Night Jam
DESCRIPTION:MUSIC JAM with host Brooke Cooper. 6-9PM. Victoria’s musicians are invited to take the stage for a jam. A great place to showcase your band\, get some stage time and connect with other musicians. BYO instrument and/or mic to participate.
URL:https://loftpubvictoria.com/event/wednesday-night-jam/2024-08-28/
LOCATION:The Loft Pub\, 229 Gorge Rd E\, Victoria\, BC\, Canada
ATTACH;FMTTYPE=image/jpeg:https://loftpubvictoria.com/wp-content/uploads/2024/08/E0235B68-4619-464F-A91E-971E26DCCA88.jpeg
END:VEVENT
BEGIN:VEVENT
DTSTART;TZID=America/Los_Angeles:20240827T170000
DTEND;TZID=America/Los_Angeles:20240827T200000
DTSTAMP:20260422T044752
CREATED:20240825T191843Z
LAST-MODIFIED:20240901T163314Z
UID:10001160-1724778000-1724788800@loftpubvictoria.com
SUMMARY:Sour Bear
DESCRIPTION:Pop/Rock band SOUR BEAR features Jonathan Young leading the band on ukulele\, Eric Thier on bass and Andrew McMillan on drums for a great night of favourites. \nVoluntary Cover. 5PM.
URL:https://loftpubvictoria.com/event/sour-bear/
LOCATION:The Loft Pub\, 229 Gorge Rd E\, Victoria\, BC\, Canada
CATEGORIES:Live Music
ATTACH;FMTTYPE=image/jpeg:https://loftpubvictoria.com/wp-content/uploads/2024/08/Sour-Bear-e1727281229286.jpg
END:VEVENT
BEGIN:VEVENT
DTSTART;TZID=America/Los_Angeles:20240826T173000
DTEND;TZID=America/Los_Angeles:20240826T200000
DTSTAMP:20260422T044752
CREATED:20240825T191120Z
LAST-MODIFIED:20260111T025745Z
UID:10000918-1724693400-1724702400@loftpubvictoria.com
SUMMARY:Bill Francis - Story & Song
DESCRIPTION:BILL FRANCIS shares an acoustic evening of story and pop/rock favourites featuring Rainshadow Al… requests welcome! Voluntary Cover. 5:30PM.
URL:https://loftpubvictoria.com/event/bill-francis-story-song/2024-08-26/
LOCATION:The Loft Pub\, 229 Gorge Rd E\, Victoria\, BC\, Canada
CATEGORIES:Live Music
ATTACH;FMTTYPE=image/jpeg:https://loftpubvictoria.com/wp-content/uploads/2024/08/2BEBE66B-998C-42D0-9213-FA9EFC095D24.jpeg
END:VEVENT
BEGIN:VEVENT
DTSTART;TZID=America/Vancouver:20240825T150000
DTEND;TZID=America/Vancouver:20240825T190000
DTSTAMP:20260422T044752
CREATED:20240821T021630Z
LAST-MODIFIED:20251113T234655Z
UID:10000869-1724598000-1724612400@loftpubvictoria.com
SUMMARY:Sunday Afternoon Jam
DESCRIPTION:Join us every Sunday for an afternoon of great music\, connection and encouragement.  Whether you are a music appreciator or musician yourself\, you are invited to take in the immense talent this jam attracts.  With host Rainshadow Al.  3-7PM. \nIf participating\, show up and sign up with Al.  Bring your own instrument/mic.
URL:https://loftpubvictoria.com/event/sunday-afternoon-jam/2024-08-25/
LOCATION:The Loft Pub\, 229 Gorge Rd E\, Victoria\, BC\, Canada
CATEGORIES:Live Music
ATTACH;FMTTYPE=image/jpeg:https://loftpubvictoria.com/wp-content/uploads/2024/08/D5770DBE-5911-4E37-A15B-4D01EA10B116.jpeg
END:VEVENT
BEGIN:VEVENT
DTSTART;TZID=America/Vancouver:20230617T190000
DTEND;TZID=America/Vancouver:20230617T220000
DTSTAMP:20260422T044752
CREATED:20221108T183539Z
LAST-MODIFIED:20221108T183539Z
UID:10000244-1687028400-1687039200@loftpubvictoria.com
SUMMARY:The Fabulous B-Sides
DESCRIPTION:The Fabulous B-Sides is a hard-rocking dance band reinterpreting hits by the likes of Badfinger\,  Faces\, Stones\, Prince\, Lynyrd Skynyrd and Booker T and the MGs. Veteran musicians who’ve played everything from nightclubs to musical festivals and fairs.  Members have previously played in such top Victoria acts as Groove Kitchen\, That ’70s Band\, The Sutcliffes\, The Waybacks and the Soul Shakers.
URL:https://loftpubvictoria.com/event/the-fabulous-b-sides-4/2023-06-17/
LOCATION:Events
CATEGORIES:Live Music
ATTACH;FMTTYPE=:
END:VEVENT
BEGIN:VEVENT
DTSTART;TZID=America/Vancouver:20230415T190000
DTEND;TZID=America/Vancouver:20230415T220000
DTSTAMP:20260422T044752
CREATED:20221108T183539Z
LAST-MODIFIED:20221108T183539Z
UID:10000243-1681585200-1681596000@loftpubvictoria.com
SUMMARY:The Fabulous B-Sides
DESCRIPTION:The Fabulous B-Sides is a hard-rocking dance band reinterpreting hits by the likes of Badfinger\,  Faces\, Stones\, Prince\, Lynyrd Skynyrd and Booker T and the MGs. Veteran musicians who’ve played everything from nightclubs to musical festivals and fairs.  Members have previously played in such top Victoria acts as Groove Kitchen\, That ’70s Band\, The Sutcliffes\, The Waybacks and the Soul Shakers.
URL:https://loftpubvictoria.com/event/the-fabulous-b-sides-4/2023-04-15/
LOCATION:Events
CATEGORIES:Live Music
ATTACH;FMTTYPE=:
END:VEVENT
BEGIN:VEVENT
DTSTART;TZID=America/Vancouver:20230218T190000
DTEND;TZID=America/Vancouver:20230218T220000
DTSTAMP:20260422T044752
CREATED:20221108T183539Z
LAST-MODIFIED:20221108T183539Z
UID:10000242-1676746800-1676757600@loftpubvictoria.com
SUMMARY:The Fabulous B-Sides
DESCRIPTION:The Fabulous B-Sides is a hard-rocking dance band reinterpreting hits by the likes of Badfinger\,  Faces\, Stones\, Prince\, Lynyrd Skynyrd and Booker T and the MGs. Veteran musicians who’ve played everything from nightclubs to musical festivals and fairs.  Members have previously played in such top Victoria acts as Groove Kitchen\, That ’70s Band\, The Sutcliffes\, The Waybacks and the Soul Shakers.
URL:https://loftpubvictoria.com/event/the-fabulous-b-sides-4/2023-02-18/
LOCATION:Events
CATEGORIES:Live Music
ATTACH;FMTTYPE=:
END:VEVENT
BEGIN:VEVENT
DTSTART;TZID=America/Vancouver:20221231T200000
DTEND;TZID=America/Vancouver:20221231T235900
DTSTAMP:20260422T044752
CREATED:20221124T203656Z
LAST-MODIFIED:20221124T203656Z
UID:10000249-1672516800-1672531140@loftpubvictoria.com
SUMMARY:NYE 2023 - The Big Awesome Band
DESCRIPTION:Bring in the New Year with us! \nReserved Seating\, Live Music\, Party Favours\, Champagne/Sandwiches at Midnight. \nFeaturing The Big Awesome Band performing West Coast Soul – party tunes and dance music with an edge. \n$40/ticket.  Tickets available for purchase at the bar.
URL:https://loftpubvictoria.com/event/nye-2023-the-big-awesome-band/
LOCATION:Events
CATEGORIES:Live Music
ATTACH;FMTTYPE=:
END:VEVENT
BEGIN:VEVENT
DTSTART;TZID=America/Vancouver:20221230T190000
DTEND;TZID=America/Vancouver:20221230T220000
DTSTAMP:20260422T044752
CREATED:20221124T202934Z
LAST-MODIFIED:20221124T202934Z
UID:10000248-1672426800-1672437600@loftpubvictoria.com
SUMMARY:Acoustic Night
DESCRIPTION:Acoustic Night with some of The Loft’s favourite Singer/Songwriters and Musicians.
URL:https://loftpubvictoria.com/event/acoustic-night/
LOCATION:Events
CATEGORIES:Live Music
END:VEVENT
BEGIN:VEVENT
DTSTART;TZID=America/Vancouver:20221229T180000
DTEND;TZID=America/Vancouver:20221229T210000
DTSTAMP:20260422T044752
CREATED:20210723T232115Z
LAST-MODIFIED:20210723T232115Z
UID:10000033-1672336800-1672347600@loftpubvictoria.com
SUMMARY:Rhythm Train
DESCRIPTION:A top-notch line-up of musicians every Thursday offering up a great mix of blues\, rock\, R&B and more.  Jack Lavin on bass/harmonica/guitar/vocals\, Jordie Edmonds on guitar and Ross Hall on drums. \n\n\n\n\nJack Lavin Bass\, harmonica\, guitar\, vocals \nHailing from Chicago\, Jack Lavin was a mainstay in the Vancouver music scene for over 45 years. He was the founding member of the W.C. Handy Award winning Powder Blues and has performed with numerous blues luminaries. As house band leader and jam host at the Yale for nearly 10 years\, he brought some of the best performers in the blues idiom to the Yale\, Fairview Pub and lots more. Jack has penned many songs and was nominated by the Juno Awards Society as Composer of the Year for his hit Thirsty Ears in ’81. Since then he has been producing albums\, recording\, writing songs and performing in nightclubs and at concerts. Lavin moved to Victoria\, BC in 2018 and continues to bring blues music and musicians to his city. He has performed with: Chuck Berry\, Bo Diddley\, Robert Cray\, Lowell Fulson\, Elvin Bishop\, John Hammond\, Taj Mahal\, John Lee Hooker\, Otis Rush\, Pinetop Perkins\, Doug Sahm\, Amos Garrett\, Shuggie Otis\, Long John Baldry\, Lazy Lester\, Guitar Shorty\, Pee Wee Crayton\, Jim Byrnes and plenty of others. \nRoss Hall Drums \nCalgary\, Alberta born drummer Ross Hall began his career at age 12 as he played in the stage band through junior and senior high school. He turned pro in the early ‘70s when he joined the notorious rock cover band Micky Rat and toured throughout Alberta for nearly 15 years. In ’88 Ross joined up with the Blues/Zydeco band Daddy Long Legs and continued his touring in the Western provinces till ’02 when he relocated to Victoria\, BC. In ’14\, Hall teamed up with the Bill Johnson Band performing roots/blues till ’17 when he met Hank Lionhart and joined Hank’s bands The Toasters\, Uncle Wiggly’s Hot Shoes Blues Band and the Kingpins. Most recently he has performed with blues master Brandon Isaak\, Maple Blues Award winners Chris Whiteley and Diana Braithwaite and esteemed blues/jazz singer LJ Mounteney. Ross is a heavy hitting player with a wicked shuffle and is well known for his metronomic time-keeping and dynamics. He is a first-call session man and the perfect addition to any serious rhythm section.
URL:https://loftpubvictoria.com/event/rhythm-train-2022-09-29-2022-11-03-2022-11-17/2022-12-29/
LOCATION:Events
CATEGORIES:Live Music
ATTACH;FMTTYPE=:
END:VEVENT
BEGIN:VEVENT
DTSTART;TZID=America/Vancouver:20221228T180000
DTEND;TZID=America/Vancouver:20221228T210000
DTSTAMP:20260422T044752
CREATED:20210728T173759Z
LAST-MODIFIED:20210728T173759Z
UID:10000133-1672250400-1672261200@loftpubvictoria.com
SUMMARY:Wednesday Night Jam
DESCRIPTION:Come on out and experience the incredible talent Victoria has to offer!  Bring your own instrument and mic – drum kit\, bass/guitar amp provided.
URL:https://loftpubvictoria.com/event/wednesday-night-jam-13/2022-12-28/
LOCATION:Events
CATEGORIES:Live Music
ATTACH;FMTTYPE=:
END:VEVENT
BEGIN:VEVENT
DTSTART;TZID=America/Vancouver:20221227T180000
DTEND;TZID=America/Vancouver:20221227T210000
DTSTAMP:20260422T044752
CREATED:20210728T173149Z
LAST-MODIFIED:20210728T173149Z
UID:10000072-1672164000-1672174800@loftpubvictoria.com
SUMMARY:The Blue Lights
DESCRIPTION:THE BLUE LIGHTS offer up an eclectic mix of blues\, western swing and rockabilly – featuring multi-instrumentalist Dave Harris\, bassist and guitar player Clark Brendon\, and legendary sax man Al Pease. Special guests Slim Sandy on drums and vocalist Willa Mae.
URL:https://loftpubvictoria.com/event/dave-harrisand-friends-2022-07-26/2022-12-27/
LOCATION:Events
CATEGORIES:Live Music
ATTACH;FMTTYPE=:
END:VEVENT
BEGIN:VEVENT
DTSTART;TZID=America/Vancouver:20221226T173000
DTEND;TZID=America/Vancouver:20221226T200000
DTSTAMP:20260422T044752
CREATED:20211130T010226Z
LAST-MODIFIED:20211130T010226Z
UID:10000200-1672075800-1672084800@loftpubvictoria.com
SUMMARY:The Helen Davies Band
DESCRIPTION:The Helen Davies Band perform blues and R&B\, alongside some originals.
URL:https://loftpubvictoria.com/event/curl-2022-01-24-2022-05-16-2022-11-14/2022-12-26/
LOCATION:Events
ATTACH;FMTTYPE=:
END:VEVENT
BEGIN:VEVENT
DTSTART;TZID=America/Vancouver:20221225T150000
DTEND;TZID=America/Vancouver:20221225T190000
DTSTAMP:20260422T044752
CREATED:20210728T164949Z
LAST-MODIFIED:20210728T164949Z
UID:10000080-1671980400-1671994800@loftpubvictoria.com
SUMMARY:Sunday Afternoon Jam
DESCRIPTION:Sit back and enjoy a musical afternoon with Rainshadow Al and Victoria’s talented musicians and singers\, on stage to jam a few tunes.  If you plan to come out and play\, please bring your own instrument and/or microphone.
URL:https://loftpubvictoria.com/event/sunday-afternoon-jam-17-2022-02-06/2022-12-25/
LOCATION:Events
CATEGORIES:Live Music
ATTACH;FMTTYPE=:
END:VEVENT
BEGIN:VEVENT
DTSTART;TZID=America/Vancouver:20221224T150000
DTEND;TZID=America/Vancouver:20221224T170000
DTSTAMP:20260422T044752
CREATED:20221124T202805Z
LAST-MODIFIED:20221124T202805Z
UID:10000247-1671894000-1671901200@loftpubvictoria.com
SUMMARY:Christmas Carol Sing-Along
DESCRIPTION:Carla Olive shares Christmas favourites on piano and guitar.
URL:https://loftpubvictoria.com/event/christmas-carol-sing-along/
LOCATION:Events
CATEGORIES:Live Music
ATTACH;FMTTYPE=:
END:VEVENT
BEGIN:VEVENT
DTSTART;TZID=America/Vancouver:20221223T180000
DTEND;TZID=America/Vancouver:20221223T220000
DTSTAMP:20260422T044752
CREATED:20221108T184103Z
LAST-MODIFIED:20221108T184103Z
UID:10000246-1671818400-1671832800@loftpubvictoria.com
SUMMARY:Rainshadow Al & Friends - Mustard Seed Fundraiser
DESCRIPTION:
URL:https://loftpubvictoria.com/event/rainshadow-al-friends-mustard-seed-fundraiser/
LOCATION:Events
CATEGORIES:Live Music
END:VEVENT
BEGIN:VEVENT
DTSTART;TZID=America/Vancouver:20221222T180000
DTEND;TZID=America/Vancouver:20221222T210000
DTSTAMP:20260422T044752
CREATED:20210723T232115Z
LAST-MODIFIED:20210723T232115Z
UID:10000032-1671732000-1671742800@loftpubvictoria.com
SUMMARY:Rhythm Train
DESCRIPTION:A top-notch line-up of musicians every Thursday offering up a great mix of blues\, rock\, R&B and more.  Jack Lavin on bass/harmonica/guitar/vocals\, Jordie Edmonds on guitar and Ross Hall on drums. \n\n\n\n\nJack Lavin Bass\, harmonica\, guitar\, vocals \nHailing from Chicago\, Jack Lavin was a mainstay in the Vancouver music scene for over 45 years. He was the founding member of the W.C. Handy Award winning Powder Blues and has performed with numerous blues luminaries. As house band leader and jam host at the Yale for nearly 10 years\, he brought some of the best performers in the blues idiom to the Yale\, Fairview Pub and lots more. Jack has penned many songs and was nominated by the Juno Awards Society as Composer of the Year for his hit Thirsty Ears in ’81. Since then he has been producing albums\, recording\, writing songs and performing in nightclubs and at concerts. Lavin moved to Victoria\, BC in 2018 and continues to bring blues music and musicians to his city. He has performed with: Chuck Berry\, Bo Diddley\, Robert Cray\, Lowell Fulson\, Elvin Bishop\, John Hammond\, Taj Mahal\, John Lee Hooker\, Otis Rush\, Pinetop Perkins\, Doug Sahm\, Amos Garrett\, Shuggie Otis\, Long John Baldry\, Lazy Lester\, Guitar Shorty\, Pee Wee Crayton\, Jim Byrnes and plenty of others. \nRoss Hall Drums \nCalgary\, Alberta born drummer Ross Hall began his career at age 12 as he played in the stage band through junior and senior high school. He turned pro in the early ‘70s when he joined the notorious rock cover band Micky Rat and toured throughout Alberta for nearly 15 years. In ’88 Ross joined up with the Blues/Zydeco band Daddy Long Legs and continued his touring in the Western provinces till ’02 when he relocated to Victoria\, BC. In ’14\, Hall teamed up with the Bill Johnson Band performing roots/blues till ’17 when he met Hank Lionhart and joined Hank’s bands The Toasters\, Uncle Wiggly’s Hot Shoes Blues Band and the Kingpins. Most recently he has performed with blues master Brandon Isaak\, Maple Blues Award winners Chris Whiteley and Diana Braithwaite and esteemed blues/jazz singer LJ Mounteney. Ross is a heavy hitting player with a wicked shuffle and is well known for his metronomic time-keeping and dynamics. He is a first-call session man and the perfect addition to any serious rhythm section.
URL:https://loftpubvictoria.com/event/rhythm-train-2022-09-29-2022-11-03-2022-11-17/2022-12-22/
LOCATION:Events
CATEGORIES:Live Music
ATTACH;FMTTYPE=:
END:VEVENT
BEGIN:VEVENT
DTSTART;TZID=America/Vancouver:20221221T180000
DTEND;TZID=America/Vancouver:20221221T210000
DTSTAMP:20260422T044752
CREATED:20210728T173759Z
LAST-MODIFIED:20210728T173759Z
UID:10000132-1671645600-1671656400@loftpubvictoria.com
SUMMARY:Wednesday Night Jam
DESCRIPTION:Come on out and experience the incredible talent Victoria has to offer!  Bring your own instrument and mic – drum kit\, bass/guitar amp provided.
URL:https://loftpubvictoria.com/event/wednesday-night-jam-13/2022-12-21/
LOCATION:Events
CATEGORIES:Live Music
ATTACH;FMTTYPE=:
END:VEVENT
BEGIN:VEVENT
DTSTART;TZID=America/Vancouver:20221220T180000
DTEND;TZID=America/Vancouver:20221220T210000
DTSTAMP:20260422T044752
CREATED:20210728T173149Z
LAST-MODIFIED:20210728T173149Z
UID:10000100-1671559200-1671570000@loftpubvictoria.com
SUMMARY:The Blue Lights
DESCRIPTION:THE BLUE LIGHTS offer up an eclectic mix of blues\, western swing and rockabilly – featuring multi-instrumentalist Dave Harris\, bassist and guitar player Clark Brendon\, and legendary sax man Al Pease. Special guests Slim Sandy on drums and vocalist Willa Mae.
URL:https://loftpubvictoria.com/event/dave-harrisand-friends-2022-07-26/2022-12-20/
LOCATION:Events
CATEGORIES:Live Music
ATTACH;FMTTYPE=:
END:VEVENT
BEGIN:VEVENT
DTSTART;TZID=America/Vancouver:20221219T173000
DTEND;TZID=America/Vancouver:20221219T200000
DTSTAMP:20260422T044752
CREATED:20210925T061728Z
LAST-MODIFIED:20210925T061728Z
UID:10000180-1671471000-1671480000@loftpubvictoria.com
SUMMARY:Los Gringos Locos
DESCRIPTION:The instrumental acoustic duo\, featuring Al Sabourin and Mike Sampson entertaining us with their unique blend of standards and original compositions.
URL:https://loftpubvictoria.com/event/losgringoslocos/2022-12-19/
LOCATION:Events
CATEGORIES:Live Music
END:VEVENT
BEGIN:VEVENT
DTSTART;TZID=America/Vancouver:20221218T150000
DTEND;TZID=America/Vancouver:20221218T190000
DTSTAMP:20260422T044752
CREATED:20210728T164949Z
LAST-MODIFIED:20210728T164949Z
UID:10000079-1671375600-1671390000@loftpubvictoria.com
SUMMARY:Sunday Afternoon Jam
DESCRIPTION:Sit back and enjoy a musical afternoon with Rainshadow Al and Victoria’s talented musicians and singers\, on stage to jam a few tunes.  If you plan to come out and play\, please bring your own instrument and/or microphone.
URL:https://loftpubvictoria.com/event/sunday-afternoon-jam-17-2022-02-06/2022-12-18/
LOCATION:Events
CATEGORIES:Live Music
ATTACH;FMTTYPE=:
END:VEVENT
BEGIN:VEVENT
DTSTART;TZID=America/Vancouver:20221217T190000
DTEND;TZID=America/Vancouver:20221217T220000
DTSTAMP:20260422T044752
CREATED:20210728T180400Z
LAST-MODIFIED:20210728T180400Z
UID:10000140-1671303600-1671314400@loftpubvictoria.com
SUMMARY:McKinley Wolf
DESCRIPTION:Blues tribute band to the masters McKinley Wolf\, present\nmusic from Freddie King\, Howlin’ Wolf\, Jimmy Reed\, B.B. King\, Muddy Waters\,\nAlbert King to name a few\, for a truly authentic blues experience.
URL:https://loftpubvictoria.com/event/mckinley-wolf-3-2022-06-11-2022-12-10/
LOCATION:Events
CATEGORIES:Live Music
ATTACH;FMTTYPE=:
END:VEVENT
BEGIN:VEVENT
DTSTART;TZID=America/Vancouver:20221216T190000
DTEND;TZID=America/Vancouver:20221216T220000
DTSTAMP:20260422T044752
CREATED:20221108T183539Z
LAST-MODIFIED:20221108T183539Z
UID:10000241-1671217200-1671228000@loftpubvictoria.com
SUMMARY:The Fabulous B-Sides
DESCRIPTION:The Fabulous B-Sides is a hard-rocking dance band reinterpreting hits by the likes of Badfinger\,  Faces\, Stones\, Prince\, Lynyrd Skynyrd and Booker T and the MGs. Veteran musicians who’ve played everything from nightclubs to musical festivals and fairs.  Members have previously played in such top Victoria acts as Groove Kitchen\, That ’70s Band\, The Sutcliffes\, The Waybacks and the Soul Shakers.
URL:https://loftpubvictoria.com/event/the-fabulous-b-sides-4/2022-12-16/
LOCATION:Events
CATEGORIES:Live Music
ATTACH;FMTTYPE=:
END:VEVENT
BEGIN:VEVENT
DTSTART;TZID=America/Vancouver:20221215T180000
DTEND;TZID=America/Vancouver:20221215T210000
DTSTAMP:20260422T044752
CREATED:20210723T232115Z
LAST-MODIFIED:20210723T232115Z
UID:10000031-1671127200-1671138000@loftpubvictoria.com
SUMMARY:Rhythm Train
DESCRIPTION:A top-notch line-up of musicians every Thursday offering up a great mix of blues\, rock\, R&B and more.  Jack Lavin on bass/harmonica/guitar/vocals\, Jordie Edmonds on guitar and Ross Hall on drums. \n\n\n\n\nJack Lavin Bass\, harmonica\, guitar\, vocals \nHailing from Chicago\, Jack Lavin was a mainstay in the Vancouver music scene for over 45 years. He was the founding member of the W.C. Handy Award winning Powder Blues and has performed with numerous blues luminaries. As house band leader and jam host at the Yale for nearly 10 years\, he brought some of the best performers in the blues idiom to the Yale\, Fairview Pub and lots more. Jack has penned many songs and was nominated by the Juno Awards Society as Composer of the Year for his hit Thirsty Ears in ’81. Since then he has been producing albums\, recording\, writing songs and performing in nightclubs and at concerts. Lavin moved to Victoria\, BC in 2018 and continues to bring blues music and musicians to his city. He has performed with: Chuck Berry\, Bo Diddley\, Robert Cray\, Lowell Fulson\, Elvin Bishop\, John Hammond\, Taj Mahal\, John Lee Hooker\, Otis Rush\, Pinetop Perkins\, Doug Sahm\, Amos Garrett\, Shuggie Otis\, Long John Baldry\, Lazy Lester\, Guitar Shorty\, Pee Wee Crayton\, Jim Byrnes and plenty of others. \nRoss Hall Drums \nCalgary\, Alberta born drummer Ross Hall began his career at age 12 as he played in the stage band through junior and senior high school. He turned pro in the early ‘70s when he joined the notorious rock cover band Micky Rat and toured throughout Alberta for nearly 15 years. In ’88 Ross joined up with the Blues/Zydeco band Daddy Long Legs and continued his touring in the Western provinces till ’02 when he relocated to Victoria\, BC. In ’14\, Hall teamed up with the Bill Johnson Band performing roots/blues till ’17 when he met Hank Lionhart and joined Hank’s bands The Toasters\, Uncle Wiggly’s Hot Shoes Blues Band and the Kingpins. Most recently he has performed with blues master Brandon Isaak\, Maple Blues Award winners Chris Whiteley and Diana Braithwaite and esteemed blues/jazz singer LJ Mounteney. Ross is a heavy hitting player with a wicked shuffle and is well known for his metronomic time-keeping and dynamics. He is a first-call session man and the perfect addition to any serious rhythm section.
URL:https://loftpubvictoria.com/event/rhythm-train-2022-09-29-2022-11-03-2022-11-17/2022-12-15/
LOCATION:Events
CATEGORIES:Live Music
ATTACH;FMTTYPE=:
END:VEVENT
END:VCALENDAR