BEGIN:VCALENDAR
VERSION:2.0
PRODID:-//The Loft Pub Victoria - ECPv6.15.20//NONSGML v1.0//EN
CALSCALE:GREGORIAN
METHOD:PUBLISH
X-WR-CALNAME:The Loft Pub Victoria
X-ORIGINAL-URL:https://loftpubvictoria.com
X-WR-CALDESC:Events for The Loft Pub Victoria
REFRESH-INTERVAL;VALUE=DURATION:PT1H
X-Robots-Tag:noindex
X-PUBLISHED-TTL:PT1H
BEGIN:VTIMEZONE
TZID:America/Los_Angeles
BEGIN:DAYLIGHT
TZOFFSETFROM:-0800
TZOFFSETTO:-0700
TZNAME:PDT
DTSTART:20230312T100000
END:DAYLIGHT
BEGIN:STANDARD
TZOFFSETFROM:-0700
TZOFFSETTO:-0800
TZNAME:PST
DTSTART:20231105T090000
END:STANDARD
BEGIN:DAYLIGHT
TZOFFSETFROM:-0800
TZOFFSETTO:-0700
TZNAME:PDT
DTSTART:20240310T100000
END:DAYLIGHT
BEGIN:STANDARD
TZOFFSETFROM:-0700
TZOFFSETTO:-0800
TZNAME:PST
DTSTART:20241103T090000
END:STANDARD
BEGIN:DAYLIGHT
TZOFFSETFROM:-0800
TZOFFSETTO:-0700
TZNAME:PDT
DTSTART:20250309T100000
END:DAYLIGHT
BEGIN:STANDARD
TZOFFSETFROM:-0700
TZOFFSETTO:-0800
TZNAME:PST
DTSTART:20251102T090000
END:STANDARD
END:VTIMEZONE
BEGIN:VTIMEZONE
TZID:America/Vancouver
BEGIN:DAYLIGHT
TZOFFSETFROM:-0800
TZOFFSETTO:-0700
TZNAME:PDT
DTSTART:20230312T100000
END:DAYLIGHT
BEGIN:STANDARD
TZOFFSETFROM:-0700
TZOFFSETTO:-0800
TZNAME:PST
DTSTART:20231105T090000
END:STANDARD
BEGIN:DAYLIGHT
TZOFFSETFROM:-0800
TZOFFSETTO:-0700
TZNAME:PDT
DTSTART:20240310T100000
END:DAYLIGHT
BEGIN:STANDARD
TZOFFSETFROM:-0700
TZOFFSETTO:-0800
TZNAME:PST
DTSTART:20241103T090000
END:STANDARD
BEGIN:DAYLIGHT
TZOFFSETFROM:-0800
TZOFFSETTO:-0700
TZNAME:PDT
DTSTART:20250309T100000
END:DAYLIGHT
BEGIN:STANDARD
TZOFFSETFROM:-0700
TZOFFSETTO:-0800
TZNAME:PST
DTSTART:20251102T090000
END:STANDARD
END:VTIMEZONE
BEGIN:VEVENT
DTSTART;TZID=America/Los_Angeles:20241010T180000
DTEND;TZID=America/Los_Angeles:20241010T210000
DTSTAMP:20260422T000833
CREATED:20240825T191411Z
LAST-MODIFIED:20260111T030050Z
UID:10001063-1728583200-1728594000@loftpubvictoria.com
SUMMARY:Rhythm Train
DESCRIPTION:RHYTHM TRAIN is a top-notch line-up of musicians offering up a great mix of blues\, rock\, R&B and more. Featuring Jack Lavin and Ross Hall with special guests every week. Voluntary Cover. 6-9PM.
URL:https://loftpubvictoria.com/event/rhythm-train/2024-10-10/
LOCATION:The Loft Pub\, 229 Gorge Rd E\, Victoria\, BC\, Canada
CATEGORIES:Live Music
ATTACH;FMTTYPE=image/jpeg:https://loftpubvictoria.com/wp-content/uploads/2024/08/Rhythm-Train-1-scaled.jpg
END:VEVENT
BEGIN:VEVENT
DTSTART;TZID=America/Los_Angeles:20241009T180000
DTEND;TZID=America/Los_Angeles:20241009T210000
DTSTAMP:20260422T000833
CREATED:20240825T191300Z
LAST-MODIFIED:20260111T030131Z
UID:10000962-1728496800-1728507600@loftpubvictoria.com
SUMMARY:Wednesday Night Jam
DESCRIPTION:MUSIC JAM with host Brooke Cooper. 6-9PM. Victoria’s musicians are invited to take the stage for a jam. A great place to showcase your band\, get some stage time and connect with other musicians. BYO instrument and/or mic to participate.
URL:https://loftpubvictoria.com/event/wednesday-night-jam/2024-10-09/
LOCATION:The Loft Pub\, 229 Gorge Rd E\, Victoria\, BC\, Canada
ATTACH;FMTTYPE=image/jpeg:https://loftpubvictoria.com/wp-content/uploads/2024/08/E0235B68-4619-464F-A91E-971E26DCCA88.jpeg
END:VEVENT
BEGIN:VEVENT
DTSTART;TZID=America/Los_Angeles:20241008T170000
DTEND;TZID=America/Los_Angeles:20241008T200000
DTSTAMP:20260422T000833
CREATED:20240826T211913Z
LAST-MODIFIED:20240826T225703Z
UID:10001293-1728406800-1728417600@loftpubvictoria.com
SUMMARY:Jan Randall & Friends
DESCRIPTION:Jan Randall & Friends all-request show. \nJan is a multi award-winning Canadian singer-songwriter and pianist who has opened for Ray Charles and Bruce Cockburn\, and worked with Amos Garrett\, Gary US Bonds\,  Bo Diddly\, Otis Rush\, Catherine O’Hara\, ShaNaNa\, Mike Myers\, Eugene Levy\, Bob Newhart\, and Steve Allen. \nVoluntary Cover.
URL:https://loftpubvictoria.com/event/jan-randall-friends/2024-10-08/
LOCATION:The Loft Pub\, 229 Gorge Rd E\, Victoria\, BC\, Canada
CATEGORIES:Live Music
ATTACH;FMTTYPE=image/jpeg:https://loftpubvictoria.com/wp-content/uploads/2024/08/449713734_1756396585099807_8740605675071477576_n-e1724706882547.jpg
END:VEVENT
BEGIN:VEVENT
DTSTART;TZID=America/Los_Angeles:20241007T173000
DTEND;TZID=America/Los_Angeles:20241007T200000
DTSTAMP:20260422T000833
CREATED:20240825T191120Z
LAST-MODIFIED:20260111T025745Z
UID:10000921-1728322200-1728331200@loftpubvictoria.com
SUMMARY:Bill Francis - Story & Song
DESCRIPTION:BILL FRANCIS shares an acoustic evening of story and pop/rock favourites featuring Rainshadow Al… requests welcome! Voluntary Cover. 5:30PM.
URL:https://loftpubvictoria.com/event/bill-francis-story-song/2024-10-07/
LOCATION:The Loft Pub\, 229 Gorge Rd E\, Victoria\, BC\, Canada
CATEGORIES:Live Music
ATTACH;FMTTYPE=image/jpeg:https://loftpubvictoria.com/wp-content/uploads/2024/08/2BEBE66B-998C-42D0-9213-FA9EFC095D24.jpeg
END:VEVENT
BEGIN:VEVENT
DTSTART;TZID=America/Vancouver:20241006T150000
DTEND;TZID=America/Vancouver:20241006T190000
DTSTAMP:20260422T000833
CREATED:20240821T021630Z
LAST-MODIFIED:20251113T234655Z
UID:10000875-1728226800-1728241200@loftpubvictoria.com
SUMMARY:Sunday Afternoon Jam
DESCRIPTION:Join us every Sunday for an afternoon of great music\, connection and encouragement.  Whether you are a music appreciator or musician yourself\, you are invited to take in the immense talent this jam attracts.  With host Rainshadow Al.  3-7PM. \nIf participating\, show up and sign up with Al.  Bring your own instrument/mic.
URL:https://loftpubvictoria.com/event/sunday-afternoon-jam/2024-10-06/
LOCATION:The Loft Pub\, 229 Gorge Rd E\, Victoria\, BC\, Canada
CATEGORIES:Live Music
ATTACH;FMTTYPE=image/jpeg:https://loftpubvictoria.com/wp-content/uploads/2024/08/D5770DBE-5911-4E37-A15B-4D01EA10B116.jpeg
END:VEVENT
BEGIN:VEVENT
DTSTART;TZID=America/Los_Angeles:20241005T190000
DTEND;TZID=America/Los_Angeles:20241005T220000
DTSTAMP:20260422T000833
CREATED:20240826T205246Z
LAST-MODIFIED:20260111T025638Z
UID:10001263-1728154800-1728165600@loftpubvictoria.com
SUMMARY:McKinley Wolf
DESCRIPTION:Blues tribute band to the masters McKINLEY WOLF\, present music from Freddie King\, Howlin’ Wolf\, Jimmy Reed\, B.B. King\, Muddy Waters\, Albert King to name a few – for a truly authentic blues experience. \nVoluntary Cover $10.
URL:https://loftpubvictoria.com/event/mckinley-wolf/2024-10-05/
LOCATION:The Loft Pub\, 229 Gorge Rd E\, Victoria\, BC\, Canada
CATEGORIES:Live Music
ATTACH;FMTTYPE=image/jpeg:https://loftpubvictoria.com/wp-content/uploads/2024/08/409213806_10232369946377190_4767116637105138791_n.jpg
END:VEVENT
BEGIN:VEVENT
DTSTART;TZID=America/Los_Angeles:20241004T190000
DTEND;TZID=America/Los_Angeles:20241004T220000
DTSTAMP:20260422T000833
CREATED:20240826T221742Z
LAST-MODIFIED:20251108T210456Z
UID:10001308-1728068400-1728079200@loftpubvictoria.com
SUMMARY:Aftershock
DESCRIPTION:Playing all your favourite classic rock hits! \nDelia Bilhete-Vocals / Mike Hogg-Guitar / Dean Caplan-Keyboards / Tom Sherk-Bass / Gregor Kowalski-Drums \nVoluntary Cover $10.
URL:https://loftpubvictoria.com/event/aftershock/2024-10-04/
LOCATION:The Loft Pub\, 229 Gorge Rd E\, Victoria\, BC\, Canada
CATEGORIES:Live Music
ATTACH;FMTTYPE=image/png:https://loftpubvictoria.com/wp-content/uploads/2024/08/332726777_720477956292413_6778776621932261109_n.png
END:VEVENT
BEGIN:VEVENT
DTSTART;TZID=America/Los_Angeles:20241003T180000
DTEND;TZID=America/Los_Angeles:20241003T210000
DTSTAMP:20260422T000833
CREATED:20240825T191411Z
LAST-MODIFIED:20260111T030050Z
UID:10001062-1727978400-1727989200@loftpubvictoria.com
SUMMARY:Rhythm Train
DESCRIPTION:RHYTHM TRAIN is a top-notch line-up of musicians offering up a great mix of blues\, rock\, R&B and more. Featuring Jack Lavin and Ross Hall with special guests every week. Voluntary Cover. 6-9PM.
URL:https://loftpubvictoria.com/event/rhythm-train/2024-10-03/
LOCATION:The Loft Pub\, 229 Gorge Rd E\, Victoria\, BC\, Canada
CATEGORIES:Live Music
ATTACH;FMTTYPE=image/jpeg:https://loftpubvictoria.com/wp-content/uploads/2024/08/Rhythm-Train-1-scaled.jpg
END:VEVENT
BEGIN:VEVENT
DTSTART;TZID=America/Los_Angeles:20241002T180000
DTEND;TZID=America/Los_Angeles:20241002T210000
DTSTAMP:20260422T000833
CREATED:20240825T191300Z
LAST-MODIFIED:20260111T030131Z
UID:10000961-1727892000-1727902800@loftpubvictoria.com
SUMMARY:Wednesday Night Jam
DESCRIPTION:MUSIC JAM with host Brooke Cooper. 6-9PM. Victoria’s musicians are invited to take the stage for a jam. A great place to showcase your band\, get some stage time and connect with other musicians. BYO instrument and/or mic to participate.
URL:https://loftpubvictoria.com/event/wednesday-night-jam/2024-10-02/
LOCATION:The Loft Pub\, 229 Gorge Rd E\, Victoria\, BC\, Canada
ATTACH;FMTTYPE=image/jpeg:https://loftpubvictoria.com/wp-content/uploads/2024/08/E0235B68-4619-464F-A91E-971E26DCCA88.jpeg
END:VEVENT
BEGIN:VEVENT
DTSTART;TZID=America/Los_Angeles:20241001T170000
DTEND;TZID=America/Los_Angeles:20241001T200000
DTSTAMP:20260422T000833
CREATED:20240825T192445Z
LAST-MODIFIED:20260111T025711Z
UID:10001195-1727802000-1727812800@loftpubvictoria.com
SUMMARY:Dave Harris & Friends
DESCRIPTION:DAVE HARRIS & FRIENDS Longtime blues musician and one man band\, joined by some of Victoria’s finest musicians including Al Pease and Clark Brendon. 5:00PM. Voluntary Cover.
URL:https://loftpubvictoria.com/event/dave-harris-friends/2024-10-01/
LOCATION:The Loft Pub\, 229 Gorge Rd E\, Victoria\, BC\, Canada
ATTACH;FMTTYPE=image/jpeg:https://loftpubvictoria.com/wp-content/uploads/2024/08/61FAB7A2-83C8-41CA-928B-45632448F698.jpeg
END:VEVENT
BEGIN:VEVENT
DTSTART;TZID=America/Los_Angeles:20240930T170000
DTEND;TZID=America/Los_Angeles:20240930T200000
DTSTAMP:20260422T000833
CREATED:20240828T182227Z
LAST-MODIFIED:20240925T172825Z
UID:10001335-1727715600-1727726400@loftpubvictoria.com
SUMMARY:Rae Vinyl
DESCRIPTION:Rae Vinyl shares acoustic pop/rock favourites and originals. \nVoluntary Cover.
URL:https://loftpubvictoria.com/event/rae-vinyl/2024-09-30/
LOCATION:The Loft Pub\, 229 Gorge Rd E\, Victoria\, BC\, Canada
CATEGORIES:Live Music
END:VEVENT
BEGIN:VEVENT
DTSTART;TZID=America/Vancouver:20240929T150000
DTEND;TZID=America/Vancouver:20240929T190000
DTSTAMP:20260422T000833
CREATED:20240821T021630Z
LAST-MODIFIED:20251113T234655Z
UID:10000874-1727622000-1727636400@loftpubvictoria.com
SUMMARY:Sunday Afternoon Jam
DESCRIPTION:Join us every Sunday for an afternoon of great music\, connection and encouragement.  Whether you are a music appreciator or musician yourself\, you are invited to take in the immense talent this jam attracts.  With host Rainshadow Al.  3-7PM. \nIf participating\, show up and sign up with Al.  Bring your own instrument/mic.
URL:https://loftpubvictoria.com/event/sunday-afternoon-jam/2024-09-29/
LOCATION:The Loft Pub\, 229 Gorge Rd E\, Victoria\, BC\, Canada
CATEGORIES:Live Music
ATTACH;FMTTYPE=image/jpeg:https://loftpubvictoria.com/wp-content/uploads/2024/08/D5770DBE-5911-4E37-A15B-4D01EA10B116.jpeg
END:VEVENT
BEGIN:VEVENT
DTSTART;TZID=America/Los_Angeles:20240928T190000
DTEND;TZID=America/Los_Angeles:20240928T220000
DTSTAMP:20260422T000833
CREATED:20240828T182804Z
LAST-MODIFIED:20250708T041441Z
UID:10001328-1727550000-1727560800@loftpubvictoria.com
SUMMARY:High Voltage
DESCRIPTION:Bon Scott era AC/DC Tribute Band. \nVoluntary Cover $10.
URL:https://loftpubvictoria.com/event/high-voltage/2024-09-28/
LOCATION:The Loft Pub\, 229 Gorge Rd E\, Victoria\, BC\, Canada
CATEGORIES:Live Music
ATTACH;FMTTYPE=image/jpeg:https://loftpubvictoria.com/wp-content/uploads/2024/08/the-loft-scaled-e1751948072901.jpeg
END:VEVENT
BEGIN:VEVENT
DTSTART;TZID=America/Los_Angeles:20240927T190000
DTEND;TZID=America/Los_Angeles:20240927T220000
DTSTAMP:20260422T000833
CREATED:20240910T170013Z
LAST-MODIFIED:20250405T170106Z
UID:10001331-1727463600-1727474400@loftpubvictoria.com
SUMMARY:Neil & the Damage Done
DESCRIPTION:Neil Young & Crazy Horse Tribute Band. \nVoluntary Cover $10.
URL:https://loftpubvictoria.com/event/neil-the-damage-done/2024-09-27/
LOCATION:The Loft Pub\, 229 Gorge Rd E\, Victoria\, BC\, Canada
CATEGORIES:Live Music
ATTACH;FMTTYPE=image/jpeg:https://loftpubvictoria.com/wp-content/uploads/2024/09/The-Loft-gig-poster-September-27th-2024-scaled-e1743872457183.jpg
END:VEVENT
BEGIN:VEVENT
DTSTART;TZID=America/Los_Angeles:20240926T180000
DTEND;TZID=America/Los_Angeles:20240926T210000
DTSTAMP:20260422T000833
CREATED:20240825T191411Z
LAST-MODIFIED:20260111T030050Z
UID:10001061-1727373600-1727384400@loftpubvictoria.com
SUMMARY:Rhythm Train
DESCRIPTION:RHYTHM TRAIN is a top-notch line-up of musicians offering up a great mix of blues\, rock\, R&B and more. Featuring Jack Lavin and Ross Hall with special guests every week. Voluntary Cover. 6-9PM.
URL:https://loftpubvictoria.com/event/rhythm-train/2024-09-26/
LOCATION:The Loft Pub\, 229 Gorge Rd E\, Victoria\, BC\, Canada
CATEGORIES:Live Music
ATTACH;FMTTYPE=image/jpeg:https://loftpubvictoria.com/wp-content/uploads/2024/08/Rhythm-Train-1-scaled.jpg
END:VEVENT
BEGIN:VEVENT
DTSTART;TZID=America/Los_Angeles:20240925T180000
DTEND;TZID=America/Los_Angeles:20240925T210000
DTSTAMP:20260422T000833
CREATED:20240825T191300Z
LAST-MODIFIED:20260111T030131Z
UID:10000960-1727287200-1727298000@loftpubvictoria.com
SUMMARY:Wednesday Night Jam
DESCRIPTION:MUSIC JAM with host Brooke Cooper. 6-9PM. Victoria’s musicians are invited to take the stage for a jam. A great place to showcase your band\, get some stage time and connect with other musicians. BYO instrument and/or mic to participate.
URL:https://loftpubvictoria.com/event/wednesday-night-jam/2024-09-25/
LOCATION:The Loft Pub\, 229 Gorge Rd E\, Victoria\, BC\, Canada
ATTACH;FMTTYPE=image/jpeg:https://loftpubvictoria.com/wp-content/uploads/2024/08/E0235B68-4619-464F-A91E-971E26DCCA88.jpeg
END:VEVENT
BEGIN:VEVENT
DTSTART;TZID=America/Los_Angeles:20240924T170000
DTEND;TZID=America/Los_Angeles:20240924T200000
DTSTAMP:20260422T000833
CREATED:20240923T195620Z
LAST-MODIFIED:20241125T193617Z
UID:10001161-1727197200-1727208000@loftpubvictoria.com
SUMMARY:Sour Bear
DESCRIPTION:Pop/Rock band SOUR BEAR features Jonathan Young leading the band on ukulele\, Eric Thier on bass and Andrew McMillan on drums for a great night of favourites. \nVoluntary Cover. 5PM.
URL:https://loftpubvictoria.com/event/sour-bear-2/2024-09-24/
LOCATION:The Loft Pub\, 229 Gorge Rd E\, Victoria\, BC\, Canada
CATEGORIES:Live Music
ATTACH;FMTTYPE=image/jpeg:https://loftpubvictoria.com/wp-content/uploads/2024/08/Sour-Bear-e1727281229286.jpg
END:VEVENT
BEGIN:VEVENT
DTSTART;TZID=America/Los_Angeles:20240923T173000
DTEND;TZID=America/Los_Angeles:20240923T200000
DTSTAMP:20260422T000833
CREATED:20240825T191120Z
LAST-MODIFIED:20260111T025745Z
UID:10000920-1727112600-1727121600@loftpubvictoria.com
SUMMARY:Bill Francis - Story & Song
DESCRIPTION:BILL FRANCIS shares an acoustic evening of story and pop/rock favourites featuring Rainshadow Al… requests welcome! Voluntary Cover. 5:30PM.
URL:https://loftpubvictoria.com/event/bill-francis-story-song/2024-09-23/
LOCATION:The Loft Pub\, 229 Gorge Rd E\, Victoria\, BC\, Canada
CATEGORIES:Live Music
ATTACH;FMTTYPE=image/jpeg:https://loftpubvictoria.com/wp-content/uploads/2024/08/2BEBE66B-998C-42D0-9213-FA9EFC095D24.jpeg
END:VEVENT
BEGIN:VEVENT
DTSTART;TZID=America/Vancouver:20240922T150000
DTEND;TZID=America/Vancouver:20240922T190000
DTSTAMP:20260422T000833
CREATED:20240821T021630Z
LAST-MODIFIED:20251113T234655Z
UID:10000873-1727017200-1727031600@loftpubvictoria.com
SUMMARY:Sunday Afternoon Jam
DESCRIPTION:Join us every Sunday for an afternoon of great music\, connection and encouragement.  Whether you are a music appreciator or musician yourself\, you are invited to take in the immense talent this jam attracts.  With host Rainshadow Al.  3-7PM. \nIf participating\, show up and sign up with Al.  Bring your own instrument/mic.
URL:https://loftpubvictoria.com/event/sunday-afternoon-jam/2024-09-22/
LOCATION:The Loft Pub\, 229 Gorge Rd E\, Victoria\, BC\, Canada
CATEGORIES:Live Music
ATTACH;FMTTYPE=image/jpeg:https://loftpubvictoria.com/wp-content/uploads/2024/08/D5770DBE-5911-4E37-A15B-4D01EA10B116.jpeg
END:VEVENT
BEGIN:VEVENT
DTSTART;TZID=America/Los_Angeles:20240921T190000
DTEND;TZID=America/Los_Angeles:20240921T220000
DTSTAMP:20260422T000833
CREATED:20240828T182547Z
LAST-MODIFIED:20251220T181057Z
UID:10001327-1726945200-1726956000@loftpubvictoria.com
SUMMARY:Thorns & Roses
DESCRIPTION:Classic Covers\, including ZZtop\, Van Halen\, Pat Benatar\, Blondie\, and other surprise covers that makes for a fun party mix! \nVoluntary Cover $10.
URL:https://loftpubvictoria.com/event/thorns-roses/2024-09-21/
LOCATION:The Loft Pub\, 229 Gorge Rd E\, Victoria\, BC\, Canada
CATEGORIES:Live Music
ATTACH;FMTTYPE=image/jpeg:https://loftpubvictoria.com/wp-content/uploads/2024/08/405725629_853404006790273_6245521511008396896_n.jpg
END:VEVENT
BEGIN:VEVENT
DTSTART;TZID=America/Los_Angeles:20240919T180000
DTEND;TZID=America/Los_Angeles:20240919T210000
DTSTAMP:20260422T000833
CREATED:20240825T191411Z
LAST-MODIFIED:20260111T030050Z
UID:10001060-1726768800-1726779600@loftpubvictoria.com
SUMMARY:Rhythm Train
DESCRIPTION:RHYTHM TRAIN is a top-notch line-up of musicians offering up a great mix of blues\, rock\, R&B and more. Featuring Jack Lavin and Ross Hall with special guests every week. Voluntary Cover. 6-9PM.
URL:https://loftpubvictoria.com/event/rhythm-train/2024-09-19/
LOCATION:The Loft Pub\, 229 Gorge Rd E\, Victoria\, BC\, Canada
CATEGORIES:Live Music
ATTACH;FMTTYPE=image/jpeg:https://loftpubvictoria.com/wp-content/uploads/2024/08/Rhythm-Train-1-scaled.jpg
END:VEVENT
BEGIN:VEVENT
DTSTART;TZID=America/Los_Angeles:20240918T180000
DTEND;TZID=America/Los_Angeles:20240918T210000
DTSTAMP:20260422T000833
CREATED:20240825T191300Z
LAST-MODIFIED:20260111T030131Z
UID:10000959-1726682400-1726693200@loftpubvictoria.com
SUMMARY:Wednesday Night Jam
DESCRIPTION:MUSIC JAM with host Brooke Cooper. 6-9PM. Victoria’s musicians are invited to take the stage for a jam. A great place to showcase your band\, get some stage time and connect with other musicians. BYO instrument and/or mic to participate.
URL:https://loftpubvictoria.com/event/wednesday-night-jam/2024-09-18/
LOCATION:The Loft Pub\, 229 Gorge Rd E\, Victoria\, BC\, Canada
ATTACH;FMTTYPE=image/jpeg:https://loftpubvictoria.com/wp-content/uploads/2024/08/E0235B68-4619-464F-A91E-971E26DCCA88.jpeg
END:VEVENT
BEGIN:VEVENT
DTSTART;TZID=America/Los_Angeles:20240917T170000
DTEND;TZID=America/Los_Angeles:20240917T200000
DTSTAMP:20260422T000833
CREATED:20240825T192445Z
LAST-MODIFIED:20260111T025711Z
UID:10001194-1726592400-1726603200@loftpubvictoria.com
SUMMARY:Dave Harris & Friends
DESCRIPTION:DAVE HARRIS & FRIENDS Longtime blues musician and one man band\, joined by some of Victoria’s finest musicians including Al Pease and Clark Brendon. 5:00PM. Voluntary Cover.
URL:https://loftpubvictoria.com/event/dave-harris-friends/2024-09-17/
LOCATION:The Loft Pub\, 229 Gorge Rd E\, Victoria\, BC\, Canada
ATTACH;FMTTYPE=image/jpeg:https://loftpubvictoria.com/wp-content/uploads/2024/08/61FAB7A2-83C8-41CA-928B-45632448F698.jpeg
END:VEVENT
BEGIN:VEVENT
DTSTART;TZID=America/Los_Angeles:20240916T170000
DTEND;TZID=America/Los_Angeles:20240916T200000
DTSTAMP:20260422T000833
CREATED:20240825T192310Z
LAST-MODIFIED:20240826T223844Z
UID:10001315-1726506000-1726516800@loftpubvictoria.com
SUMMARY:Suzie Q & Sean Duhaime Duo
DESCRIPTION:SUZIE Q & SEAN DUHAIME DUO: Suzie Q is a vocalist that delivers a jazz/blues style with a contemporary touch. She will be accompanied by guitarist\, composer and music teacher\, Sean Duhaime. Suzie Q and Sean are a dynamic duo. 5:00PM. Voluntary Cover.
URL:https://loftpubvictoria.com/event/suzie-q-sean-duhaime-duo/2024-09-16/
LOCATION:The Loft Pub\, 229 Gorge Rd E\, Victoria\, BC\, Canada
CATEGORIES:Live Music
ATTACH;FMTTYPE=image/jpeg:https://loftpubvictoria.com/wp-content/uploads/2024/08/Suzie-e1724613780111.jpg
END:VEVENT
BEGIN:VEVENT
DTSTART;TZID=America/Vancouver:20240915T150000
DTEND;TZID=America/Vancouver:20240915T190000
DTSTAMP:20260422T000833
CREATED:20240821T021630Z
LAST-MODIFIED:20251113T234655Z
UID:10000872-1726412400-1726426800@loftpubvictoria.com
SUMMARY:Sunday Afternoon Jam
DESCRIPTION:Join us every Sunday for an afternoon of great music\, connection and encouragement.  Whether you are a music appreciator or musician yourself\, you are invited to take in the immense talent this jam attracts.  With host Rainshadow Al.  3-7PM. \nIf participating\, show up and sign up with Al.  Bring your own instrument/mic.
URL:https://loftpubvictoria.com/event/sunday-afternoon-jam/2024-09-15/
LOCATION:The Loft Pub\, 229 Gorge Rd E\, Victoria\, BC\, Canada
CATEGORIES:Live Music
ATTACH;FMTTYPE=image/jpeg:https://loftpubvictoria.com/wp-content/uploads/2024/08/D5770DBE-5911-4E37-A15B-4D01EA10B116.jpeg
END:VEVENT
BEGIN:VEVENT
DTSTART;TZID=America/Los_Angeles:20240914T190000
DTEND;TZID=America/Los_Angeles:20240914T220000
DTSTAMP:20260422T000833
CREATED:20240826T210430Z
LAST-MODIFIED:20241008T172720Z
UID:10001287-1726340400-1726351200@loftpubvictoria.com
SUMMARY:The Distractions
DESCRIPTION:The Distractions are a collective of experienced and enthusiastic Musicians specializing in the music of the 70’s and 80’s. \nVoluntary Cover $10.
URL:https://loftpubvictoria.com/event/the-distractions/
LOCATION:The Loft Pub\, 229 Gorge Rd E\, Victoria\, BC\, Canada
CATEGORIES:Live Music
ATTACH;FMTTYPE=image/jpeg:https://loftpubvictoria.com/wp-content/uploads/2024/08/429511367_428647369683472_5412480701699456477_n.jpg
END:VEVENT
BEGIN:VEVENT
DTSTART;TZID=America/Los_Angeles:20240913T190000
DTEND;TZID=America/Los_Angeles:20240913T220000
DTSTAMP:20260422T000833
CREATED:20240826T204954Z
LAST-MODIFIED:20260111T025402Z
UID:10001246-1726254000-1726264800@loftpubvictoria.com
SUMMARY:Tom Morrissey
DESCRIPTION:Acoustic roots/folk musician TOM MORRISSEY\, blends traditional East Coast tunes with a variety of modern classics. Voluntary Cover $10. 7-10PM.
URL:https://loftpubvictoria.com/event/tom-morrissey/2024-09-13/
LOCATION:The Loft Pub\, 229 Gorge Rd E\, Victoria\, BC\, Canada
CATEGORIES:Live Music
ATTACH;FMTTYPE=image/jpeg:https://loftpubvictoria.com/wp-content/uploads/2024/08/279561744_10159903778696420_4207796972645183688_n.jpg
END:VEVENT
BEGIN:VEVENT
DTSTART;TZID=America/Los_Angeles:20240912T180000
DTEND;TZID=America/Los_Angeles:20240912T210000
DTSTAMP:20260422T000833
CREATED:20240825T191411Z
LAST-MODIFIED:20260111T030050Z
UID:10001059-1726164000-1726174800@loftpubvictoria.com
SUMMARY:Rhythm Train
DESCRIPTION:RHYTHM TRAIN is a top-notch line-up of musicians offering up a great mix of blues\, rock\, R&B and more. Featuring Jack Lavin and Ross Hall with special guests every week. Voluntary Cover. 6-9PM.
URL:https://loftpubvictoria.com/event/rhythm-train/2024-09-12/
LOCATION:The Loft Pub\, 229 Gorge Rd E\, Victoria\, BC\, Canada
CATEGORIES:Live Music
ATTACH;FMTTYPE=image/jpeg:https://loftpubvictoria.com/wp-content/uploads/2024/08/Rhythm-Train-1-scaled.jpg
END:VEVENT
BEGIN:VEVENT
DTSTART;TZID=America/Los_Angeles:20240911T180000
DTEND;TZID=America/Los_Angeles:20240911T210000
DTSTAMP:20260422T000833
CREATED:20240825T191300Z
LAST-MODIFIED:20260111T030131Z
UID:10000958-1726077600-1726088400@loftpubvictoria.com
SUMMARY:Wednesday Night Jam
DESCRIPTION:MUSIC JAM with host Brooke Cooper. 6-9PM. Victoria’s musicians are invited to take the stage for a jam. A great place to showcase your band\, get some stage time and connect with other musicians. BYO instrument and/or mic to participate.
URL:https://loftpubvictoria.com/event/wednesday-night-jam/2024-09-11/
LOCATION:The Loft Pub\, 229 Gorge Rd E\, Victoria\, BC\, Canada
ATTACH;FMTTYPE=image/jpeg:https://loftpubvictoria.com/wp-content/uploads/2024/08/E0235B68-4619-464F-A91E-971E26DCCA88.jpeg
END:VEVENT
BEGIN:VEVENT
DTSTART;TZID=America/Los_Angeles:20240910T170000
DTEND;TZID=America/Los_Angeles:20240910T200000
DTSTAMP:20260422T000833
CREATED:20240826T211913Z
LAST-MODIFIED:20240826T225703Z
UID:10001292-1725987600-1725998400@loftpubvictoria.com
SUMMARY:Jan Randall & Friends
DESCRIPTION:Jan Randall & Friends all-request show. \nJan is a multi award-winning Canadian singer-songwriter and pianist who has opened for Ray Charles and Bruce Cockburn\, and worked with Amos Garrett\, Gary US Bonds\,  Bo Diddly\, Otis Rush\, Catherine O’Hara\, ShaNaNa\, Mike Myers\, Eugene Levy\, Bob Newhart\, and Steve Allen. \nVoluntary Cover.
URL:https://loftpubvictoria.com/event/jan-randall-friends/2024-09-10/
LOCATION:The Loft Pub\, 229 Gorge Rd E\, Victoria\, BC\, Canada
CATEGORIES:Live Music
ATTACH;FMTTYPE=image/jpeg:https://loftpubvictoria.com/wp-content/uploads/2024/08/449713734_1756396585099807_8740605675071477576_n-e1724706882547.jpg
END:VEVENT
END:VCALENDAR