BEGIN:VCALENDAR
VERSION:2.0
PRODID:-//The Loft Pub Victoria - ECPv6.15.20//NONSGML v1.0//EN
CALSCALE:GREGORIAN
METHOD:PUBLISH
X-WR-CALNAME:The Loft Pub Victoria
X-ORIGINAL-URL:https://loftpubvictoria.com
X-WR-CALDESC:Events for The Loft Pub Victoria
REFRESH-INTERVAL;VALUE=DURATION:PT1H
X-Robots-Tag:noindex
X-PUBLISHED-TTL:PT1H
BEGIN:VTIMEZONE
TZID:America/Los_Angeles
BEGIN:DAYLIGHT
TZOFFSETFROM:-0800
TZOFFSETTO:-0700
TZNAME:PDT
DTSTART:20240310T100000
END:DAYLIGHT
BEGIN:STANDARD
TZOFFSETFROM:-0700
TZOFFSETTO:-0800
TZNAME:PST
DTSTART:20241103T090000
END:STANDARD
BEGIN:DAYLIGHT
TZOFFSETFROM:-0800
TZOFFSETTO:-0700
TZNAME:PDT
DTSTART:20250309T100000
END:DAYLIGHT
BEGIN:STANDARD
TZOFFSETFROM:-0700
TZOFFSETTO:-0800
TZNAME:PST
DTSTART:20251102T090000
END:STANDARD
BEGIN:DAYLIGHT
TZOFFSETFROM:-0800
TZOFFSETTO:-0700
TZNAME:PDT
DTSTART:20260308T100000
END:DAYLIGHT
BEGIN:STANDARD
TZOFFSETFROM:-0700
TZOFFSETTO:-0800
TZNAME:PST
DTSTART:20261101T090000
END:STANDARD
END:VTIMEZONE
BEGIN:VTIMEZONE
TZID:America/Vancouver
BEGIN:DAYLIGHT
TZOFFSETFROM:-0800
TZOFFSETTO:-0700
TZNAME:PDT
DTSTART:20240310T100000
END:DAYLIGHT
BEGIN:STANDARD
TZOFFSETFROM:-0700
TZOFFSETTO:-0800
TZNAME:PST
DTSTART:20241103T090000
END:STANDARD
BEGIN:DAYLIGHT
TZOFFSETFROM:-0800
TZOFFSETTO:-0700
TZNAME:PDT
DTSTART:20250309T100000
END:DAYLIGHT
BEGIN:STANDARD
TZOFFSETFROM:-0700
TZOFFSETTO:-0800
TZNAME:PST
DTSTART:20251102T090000
END:STANDARD
BEGIN:DAYLIGHT
TZOFFSETFROM:-0800
TZOFFSETTO:-0700
TZNAME:PDT
DTSTART:20260308T100000
END:DAYLIGHT
BEGIN:STANDARD
TZOFFSETFROM:-0700
TZOFFSETTO:-0800
TZNAME:PST
DTSTART:20261101T090000
END:STANDARD
END:VTIMEZONE
BEGIN:VEVENT
DTSTART;TZID=America/Los_Angeles:20250218T170000
DTEND;TZID=America/Los_Angeles:20250218T200000
DTSTAMP:20260421T111704
CREATED:20240825T192445Z
LAST-MODIFIED:20260111T025711Z
UID:10001205-1739898000-1739908800@loftpubvictoria.com
SUMMARY:Dave Harris & Friends
DESCRIPTION:DAVE HARRIS & FRIENDS Longtime blues musician and one man band\, joined by some of Victoria’s finest musicians including Al Pease and Clark Brendon. 5:00PM. Voluntary Cover.
URL:https://loftpubvictoria.com/event/dave-harris-friends/2025-02-18/
LOCATION:The Loft Pub\, 229 Gorge Rd E\, Victoria\, BC\, Canada
ATTACH;FMTTYPE=image/jpeg:https://loftpubvictoria.com/wp-content/uploads/2024/08/61FAB7A2-83C8-41CA-928B-45632448F698.jpeg
END:VEVENT
BEGIN:VEVENT
DTSTART;TZID=America/Los_Angeles:20250217T170000
DTEND;TZID=America/Los_Angeles:20250217T200000
DTSTAMP:20260421T111704
CREATED:20241226T200658Z
LAST-MODIFIED:20251220T181303Z
UID:10001394-1739811600-1739822400@loftpubvictoria.com
SUMMARY:Mather Hewison
DESCRIPTION:Longtime Musician Mather Hewison shares country and rock favourites. \nVoluntary Cover.
URL:https://loftpubvictoria.com/event/mather-hewison/2025-02-17/
LOCATION:The Loft Pub\, 229 Gorge Rd E\, Victoria\, BC\, Canada
CATEGORIES:Live Music
ATTACH;FMTTYPE=image/jpeg:https://loftpubvictoria.com/wp-content/uploads/2024/12/MATHER-HEWISON-scaled-e1740859231858.jpg
END:VEVENT
BEGIN:VEVENT
DTSTART;TZID=America/Vancouver:20250216T150000
DTEND;TZID=America/Vancouver:20250216T190000
DTSTAMP:20260421T111704
CREATED:20240821T021630Z
LAST-MODIFIED:20251113T234655Z
UID:10000894-1739718000-1739732400@loftpubvictoria.com
SUMMARY:Sunday Afternoon Jam
DESCRIPTION:Join us every Sunday for an afternoon of great music\, connection and encouragement.  Whether you are a music appreciator or musician yourself\, you are invited to take in the immense talent this jam attracts.  With host Rainshadow Al.  3-7PM. \nIf participating\, show up and sign up with Al.  Bring your own instrument/mic.
URL:https://loftpubvictoria.com/event/sunday-afternoon-jam/2025-02-16/
LOCATION:The Loft Pub\, 229 Gorge Rd E\, Victoria\, BC\, Canada
CATEGORIES:Live Music
ATTACH;FMTTYPE=image/jpeg:https://loftpubvictoria.com/wp-content/uploads/2024/08/D5770DBE-5911-4E37-A15B-4D01EA10B116.jpeg
END:VEVENT
BEGIN:VEVENT
DTSTART;TZID=America/Los_Angeles:20250215T190000
DTEND;TZID=America/Los_Angeles:20250215T220000
DTSTAMP:20260421T111704
CREATED:20250121T000641Z
LAST-MODIFIED:20251108T210616Z
UID:10001379-1739646000-1739656800@loftpubvictoria.com
SUMMARY:The Crawl
DESCRIPTION:Victoria based band\, The Crawl\, has been together for over 20 years and is comprised of Todd Boutin\, Rick Groovy\, James Austin\, Pete Wilson and Brett Vokes with special guest\, Ashlee Vanzetta. A bunch of fun is ready to be had when these players come to perform! Classic rock covers from AC/DC to The Hip to ZZ Top.  \n\nVoluntary Cover $10.
URL:https://loftpubvictoria.com/event/the-crawl/2025-02-15/
LOCATION:The Loft Pub\, 229 Gorge Rd E\, Victoria\, BC\, Canada
CATEGORIES:Live Music
ATTACH;FMTTYPE=image/png:https://loftpubvictoria.com/wp-content/uploads/2025/01/The-Crawl-Loft-e1756770838828.png
END:VEVENT
BEGIN:VEVENT
DTSTART;TZID=America/Los_Angeles:20250214T190000
DTEND;TZID=America/Los_Angeles:20250214T220000
DTSTAMP:20260421T111704
CREATED:20240826T204954Z
LAST-MODIFIED:20260111T025402Z
UID:10001251-1739559600-1739570400@loftpubvictoria.com
SUMMARY:Tom Morrissey
DESCRIPTION:Acoustic roots/folk musician TOM MORRISSEY\, blends traditional East Coast tunes with a variety of modern classics. Voluntary Cover $10. 7-10PM.
URL:https://loftpubvictoria.com/event/tom-morrissey/2025-02-14/
LOCATION:The Loft Pub\, 229 Gorge Rd E\, Victoria\, BC\, Canada
CATEGORIES:Live Music
ATTACH;FMTTYPE=image/jpeg:https://loftpubvictoria.com/wp-content/uploads/2024/08/279561744_10159903778696420_4207796972645183688_n.jpg
END:VEVENT
BEGIN:VEVENT
DTSTART;TZID=America/Los_Angeles:20250213T180000
DTEND;TZID=America/Los_Angeles:20250213T210000
DTSTAMP:20260421T111704
CREATED:20240825T191411Z
LAST-MODIFIED:20260111T030050Z
UID:10001081-1739469600-1739480400@loftpubvictoria.com
SUMMARY:Rhythm Train
DESCRIPTION:RHYTHM TRAIN is a top-notch line-up of musicians offering up a great mix of blues\, rock\, R&B and more. Featuring Jack Lavin and Ross Hall with special guests every week. Voluntary Cover. 6-9PM.
URL:https://loftpubvictoria.com/event/rhythm-train/2025-02-13/
LOCATION:The Loft Pub\, 229 Gorge Rd E\, Victoria\, BC\, Canada
CATEGORIES:Live Music
ATTACH;FMTTYPE=image/jpeg:https://loftpubvictoria.com/wp-content/uploads/2024/08/Rhythm-Train-1-scaled.jpg
END:VEVENT
BEGIN:VEVENT
DTSTART;TZID=America/Los_Angeles:20250212T180000
DTEND;TZID=America/Los_Angeles:20250212T210000
DTSTAMP:20260421T111704
CREATED:20240825T191300Z
LAST-MODIFIED:20260111T030131Z
UID:10000980-1739383200-1739394000@loftpubvictoria.com
SUMMARY:Wednesday Night Jam
DESCRIPTION:MUSIC JAM with host Brooke Cooper. 6-9PM. Victoria’s musicians are invited to take the stage for a jam. A great place to showcase your band\, get some stage time and connect with other musicians. BYO instrument and/or mic to participate.
URL:https://loftpubvictoria.com/event/wednesday-night-jam/2025-02-12/
LOCATION:The Loft Pub\, 229 Gorge Rd E\, Victoria\, BC\, Canada
ATTACH;FMTTYPE=image/jpeg:https://loftpubvictoria.com/wp-content/uploads/2024/08/E0235B68-4619-464F-A91E-971E26DCCA88.jpeg
END:VEVENT
BEGIN:VEVENT
DTSTART;TZID=America/Los_Angeles:20250211T170000
DTEND;TZID=America/Los_Angeles:20250211T200000
DTSTAMP:20260421T111704
CREATED:20250126T201844Z
LAST-MODIFIED:20260328T183158Z
UID:10001392-1739293200-1739304000@loftpubvictoria.com
SUMMARY:Smith and Vuur
DESCRIPTION:Norm Smith and Pete Vuur share classic rock ballads. \nVoluntary Cover.
URL:https://loftpubvictoria.com/event/smith-and-vuur/2025-02-11/
LOCATION:The Loft Pub\, 229 Gorge Rd E\, Victoria\, BC\, Canada
ATTACH;FMTTYPE=image/jpeg:https://loftpubvictoria.com/wp-content/uploads/2025/01/429526496_993432745719433_3727186800420991241_n.jpg
END:VEVENT
BEGIN:VEVENT
DTSTART;TZID=America/Los_Angeles:20250210T173000
DTEND;TZID=America/Los_Angeles:20250210T200000
DTSTAMP:20260421T111704
CREATED:20240825T191120Z
LAST-MODIFIED:20260111T025745Z
UID:10000930-1739208600-1739217600@loftpubvictoria.com
SUMMARY:Bill Francis - Story & Song
DESCRIPTION:BILL FRANCIS shares an acoustic evening of story and pop/rock favourites featuring Rainshadow Al… requests welcome! Voluntary Cover. 5:30PM.
URL:https://loftpubvictoria.com/event/bill-francis-story-song/2025-02-10/
LOCATION:The Loft Pub\, 229 Gorge Rd E\, Victoria\, BC\, Canada
CATEGORIES:Live Music
ATTACH;FMTTYPE=image/jpeg:https://loftpubvictoria.com/wp-content/uploads/2024/08/2BEBE66B-998C-42D0-9213-FA9EFC095D24.jpeg
END:VEVENT
BEGIN:VEVENT
DTSTART;TZID=America/Vancouver:20250209T150000
DTEND;TZID=America/Vancouver:20250209T190000
DTSTAMP:20260421T111704
CREATED:20240821T021630Z
LAST-MODIFIED:20251113T234655Z
UID:10000893-1739113200-1739127600@loftpubvictoria.com
SUMMARY:Sunday Afternoon Jam
DESCRIPTION:Join us every Sunday for an afternoon of great music\, connection and encouragement.  Whether you are a music appreciator or musician yourself\, you are invited to take in the immense talent this jam attracts.  With host Rainshadow Al.  3-7PM. \nIf participating\, show up and sign up with Al.  Bring your own instrument/mic.
URL:https://loftpubvictoria.com/event/sunday-afternoon-jam/2025-02-09/
LOCATION:The Loft Pub\, 229 Gorge Rd E\, Victoria\, BC\, Canada
CATEGORIES:Live Music
ATTACH;FMTTYPE=image/jpeg:https://loftpubvictoria.com/wp-content/uploads/2024/08/D5770DBE-5911-4E37-A15B-4D01EA10B116.jpeg
END:VEVENT
BEGIN:VEVENT
DTSTART;TZID=America/Los_Angeles:20250208T190000
DTEND;TZID=America/Los_Angeles:20250208T220000
DTSTAMP:20260421T111704
CREATED:20240826T222721Z
LAST-MODIFIED:20251108T203958Z
UID:10001368-1739041200-1739052000@loftpubvictoria.com
SUMMARY:The Lovecats
DESCRIPTION:LOVECATS showcase an eclectic blend of classic rock\, pop\, R&B\, and country genres. Enjoy danceable music from the 60s through the 90s and beyond! Discover why LOVECATS are one of Victoria’s favorite party bands\, playing all killer\, no filler. \nVoluntary Cover $10
URL:https://loftpubvictoria.com/event/the-lovecats-6/2025-02-08/
LOCATION:The Loft Pub\, 229 Gorge Rd E\, Victoria\, BC\, Canada
CATEGORIES:Live Music
ATTACH;FMTTYPE=image/jpeg:https://loftpubvictoria.com/wp-content/uploads/2024/08/457109165_1042939767840877_2127686871480290585_n.jpg
END:VEVENT
BEGIN:VEVENT
DTSTART;TZID=America/Los_Angeles:20250207T190000
DTEND;TZID=America/Los_Angeles:20250207T220000
DTSTAMP:20260421T111704
CREATED:20240826T205604Z
LAST-MODIFIED:20260311T181526Z
UID:10001374-1738954800-1738965600@loftpubvictoria.com
SUMMARY:The Groove Diggers
DESCRIPTION:THE GROOVE DIGGERS are a Victoria-based cover band that plays the latest in top 40 hits and classic party music that keeps the night alive. \nVoluntary Cover $10.
URL:https://loftpubvictoria.com/event/groovediggers/2025-02-07/
LOCATION:The Loft Pub\, 229 Gorge Rd E\, Victoria\, BC\, Canada
CATEGORIES:Live Music
ATTACH;FMTTYPE=image/jpeg:https://loftpubvictoria.com/wp-content/uploads/2024/08/327145341_3322621924621778_3727057408526086479_n.jpg
END:VEVENT
BEGIN:VEVENT
DTSTART;TZID=America/Los_Angeles:20250206T180000
DTEND;TZID=America/Los_Angeles:20250206T210000
DTSTAMP:20260421T111704
CREATED:20240825T191411Z
LAST-MODIFIED:20260111T030050Z
UID:10001080-1738864800-1738875600@loftpubvictoria.com
SUMMARY:Rhythm Train
DESCRIPTION:RHYTHM TRAIN is a top-notch line-up of musicians offering up a great mix of blues\, rock\, R&B and more. Featuring Jack Lavin and Ross Hall with special guests every week. Voluntary Cover. 6-9PM.
URL:https://loftpubvictoria.com/event/rhythm-train/2025-02-06/
LOCATION:The Loft Pub\, 229 Gorge Rd E\, Victoria\, BC\, Canada
CATEGORIES:Live Music
ATTACH;FMTTYPE=image/jpeg:https://loftpubvictoria.com/wp-content/uploads/2024/08/Rhythm-Train-1-scaled.jpg
END:VEVENT
BEGIN:VEVENT
DTSTART;TZID=America/Los_Angeles:20250205T180000
DTEND;TZID=America/Los_Angeles:20250205T210000
DTSTAMP:20260421T111704
CREATED:20240825T191300Z
LAST-MODIFIED:20260111T030131Z
UID:10000979-1738778400-1738789200@loftpubvictoria.com
SUMMARY:Wednesday Night Jam
DESCRIPTION:MUSIC JAM with host Brooke Cooper. 6-9PM. Victoria’s musicians are invited to take the stage for a jam. A great place to showcase your band\, get some stage time and connect with other musicians. BYO instrument and/or mic to participate.
URL:https://loftpubvictoria.com/event/wednesday-night-jam/2025-02-05/
LOCATION:The Loft Pub\, 229 Gorge Rd E\, Victoria\, BC\, Canada
ATTACH;FMTTYPE=image/jpeg:https://loftpubvictoria.com/wp-content/uploads/2024/08/E0235B68-4619-464F-A91E-971E26DCCA88.jpeg
END:VEVENT
BEGIN:VEVENT
DTSTART;TZID=America/Los_Angeles:20250204T170000
DTEND;TZID=America/Los_Angeles:20250204T200000
DTSTAMP:20260421T111704
CREATED:20240825T192445Z
LAST-MODIFIED:20260111T025711Z
UID:10001204-1738688400-1738699200@loftpubvictoria.com
SUMMARY:Dave Harris & Friends
DESCRIPTION:DAVE HARRIS & FRIENDS Longtime blues musician and one man band\, joined by some of Victoria’s finest musicians including Al Pease and Clark Brendon. 5:00PM. Voluntary Cover.
URL:https://loftpubvictoria.com/event/dave-harris-friends/2025-02-04/
LOCATION:The Loft Pub\, 229 Gorge Rd E\, Victoria\, BC\, Canada
ATTACH;FMTTYPE=image/jpeg:https://loftpubvictoria.com/wp-content/uploads/2024/08/61FAB7A2-83C8-41CA-928B-45632448F698.jpeg
END:VEVENT
BEGIN:VEVENT
DTSTART;TZID=America/Vancouver:20250202T150000
DTEND;TZID=America/Vancouver:20250202T190000
DTSTAMP:20260421T111704
CREATED:20240821T021630Z
LAST-MODIFIED:20251113T234655Z
UID:10000892-1738508400-1738522800@loftpubvictoria.com
SUMMARY:Sunday Afternoon Jam
DESCRIPTION:Join us every Sunday for an afternoon of great music\, connection and encouragement.  Whether you are a music appreciator or musician yourself\, you are invited to take in the immense talent this jam attracts.  With host Rainshadow Al.  3-7PM. \nIf participating\, show up and sign up with Al.  Bring your own instrument/mic.
URL:https://loftpubvictoria.com/event/sunday-afternoon-jam/2025-02-02/
LOCATION:The Loft Pub\, 229 Gorge Rd E\, Victoria\, BC\, Canada
CATEGORIES:Live Music
ATTACH;FMTTYPE=image/jpeg:https://loftpubvictoria.com/wp-content/uploads/2024/08/D5770DBE-5911-4E37-A15B-4D01EA10B116.jpeg
END:VEVENT
BEGIN:VEVENT
DTSTART;TZID=America/Los_Angeles:20250201T190000
DTEND;TZID=America/Los_Angeles:20250201T220000
DTSTAMP:20260421T111704
CREATED:20240826T205246Z
LAST-MODIFIED:20260111T025638Z
UID:10001267-1738436400-1738447200@loftpubvictoria.com
SUMMARY:McKinley Wolf
DESCRIPTION:Blues tribute band to the masters McKINLEY WOLF\, present music from Freddie King\, Howlin’ Wolf\, Jimmy Reed\, B.B. King\, Muddy Waters\, Albert King to name a few – for a truly authentic blues experience. \nVoluntary Cover $10.
URL:https://loftpubvictoria.com/event/mckinley-wolf/2025-02-01/
LOCATION:The Loft Pub\, 229 Gorge Rd E\, Victoria\, BC\, Canada
CATEGORIES:Live Music
ATTACH;FMTTYPE=image/jpeg:https://loftpubvictoria.com/wp-content/uploads/2024/08/409213806_10232369946377190_4767116637105138791_n.jpg
END:VEVENT
BEGIN:VEVENT
DTSTART;TZID=America/Los_Angeles:20250131T190000
DTEND;TZID=America/Los_Angeles:20250131T220000
DTSTAMP:20260421T111704
CREATED:20241226T200243Z
LAST-MODIFIED:20250124T203841Z
UID:10001356-1738350000-1738360800@loftpubvictoria.com
SUMMARY:Mason Burns & The Budget Cuts
DESCRIPTION:Mason Burns brings the groovy sounds of the 60s and 70s with a modern flare. A veteran performer at 27\, he has played many stages in his life including Canada\, Europe and Asia. Some of the acts Mason has opened for include Kim Mitchell\, 54-40\, April Wine\, Trooper and Finger 11.  Performing with The Budget Cuts.\nVoluntary Cover $10.
URL:https://loftpubvictoria.com/event/damsel-with-mason-burns/
LOCATION:The Loft Pub\, 229 Gorge Rd E\, Victoria\, BC\, Canada
CATEGORIES:Live Music
ATTACH;FMTTYPE=image/png:https://loftpubvictoria.com/wp-content/uploads/2024/12/Black-White-Minimal-Alone-Movie-Poster-2.png
END:VEVENT
BEGIN:VEVENT
DTSTART;TZID=America/Los_Angeles:20250130T180000
DTEND;TZID=America/Los_Angeles:20250130T210000
DTSTAMP:20260421T111704
CREATED:20240825T191411Z
LAST-MODIFIED:20260111T030050Z
UID:10001079-1738260000-1738270800@loftpubvictoria.com
SUMMARY:Rhythm Train
DESCRIPTION:RHYTHM TRAIN is a top-notch line-up of musicians offering up a great mix of blues\, rock\, R&B and more. Featuring Jack Lavin and Ross Hall with special guests every week. Voluntary Cover. 6-9PM.
URL:https://loftpubvictoria.com/event/rhythm-train/2025-01-30/
LOCATION:The Loft Pub\, 229 Gorge Rd E\, Victoria\, BC\, Canada
CATEGORIES:Live Music
ATTACH;FMTTYPE=image/jpeg:https://loftpubvictoria.com/wp-content/uploads/2024/08/Rhythm-Train-1-scaled.jpg
END:VEVENT
BEGIN:VEVENT
DTSTART;TZID=America/Los_Angeles:20250129T180000
DTEND;TZID=America/Los_Angeles:20250129T210000
DTSTAMP:20260421T111704
CREATED:20240825T191300Z
LAST-MODIFIED:20260111T030131Z
UID:10000978-1738173600-1738184400@loftpubvictoria.com
SUMMARY:Wednesday Night Jam
DESCRIPTION:MUSIC JAM with host Brooke Cooper. 6-9PM. Victoria’s musicians are invited to take the stage for a jam. A great place to showcase your band\, get some stage time and connect with other musicians. BYO instrument and/or mic to participate.
URL:https://loftpubvictoria.com/event/wednesday-night-jam/2025-01-29/
LOCATION:The Loft Pub\, 229 Gorge Rd E\, Victoria\, BC\, Canada
ATTACH;FMTTYPE=image/jpeg:https://loftpubvictoria.com/wp-content/uploads/2024/08/E0235B68-4619-464F-A91E-971E26DCCA88.jpeg
END:VEVENT
BEGIN:VEVENT
DTSTART;TZID=America/Los_Angeles:20250128T170000
DTEND;TZID=America/Los_Angeles:20250128T200000
DTSTAMP:20260421T111704
CREATED:20241125T193757Z
LAST-MODIFIED:20251210T205816Z
UID:10001362-1738083600-1738094400@loftpubvictoria.com
SUMMARY:Sour Bear
DESCRIPTION:Pop/Rock band SOUR BEAR features Jonathan Young leading the band on ukulele\, Eric Thier on bass and Andrew McMillan on drums for a great night of favourites. \nVoluntary Cover
URL:https://loftpubvictoria.com/event/sour-bear-2-2/2025-01-28/
LOCATION:The Loft Pub\, 229 Gorge Rd E\, Victoria\, BC\, Canada
CATEGORIES:Live Music
ATTACH;FMTTYPE=image/jpeg:https://loftpubvictoria.com/wp-content/uploads/2024/08/Sour-Bear-e1727281229286.jpg
END:VEVENT
BEGIN:VEVENT
DTSTART;TZID=America/Los_Angeles:20250127T173000
DTEND;TZID=America/Los_Angeles:20250127T200000
DTSTAMP:20260421T111704
CREATED:20240825T191120Z
LAST-MODIFIED:20260111T025745Z
UID:10000929-1737999000-1738008000@loftpubvictoria.com
SUMMARY:Bill Francis - Story & Song
DESCRIPTION:BILL FRANCIS shares an acoustic evening of story and pop/rock favourites featuring Rainshadow Al… requests welcome! Voluntary Cover. 5:30PM.
URL:https://loftpubvictoria.com/event/bill-francis-story-song/2025-01-27/
LOCATION:The Loft Pub\, 229 Gorge Rd E\, Victoria\, BC\, Canada
CATEGORIES:Live Music
ATTACH;FMTTYPE=image/jpeg:https://loftpubvictoria.com/wp-content/uploads/2024/08/2BEBE66B-998C-42D0-9213-FA9EFC095D24.jpeg
END:VEVENT
BEGIN:VEVENT
DTSTART;TZID=America/Vancouver:20250126T150000
DTEND;TZID=America/Vancouver:20250126T190000
DTSTAMP:20260421T111704
CREATED:20240821T021630Z
LAST-MODIFIED:20251113T234655Z
UID:10000891-1737903600-1737918000@loftpubvictoria.com
SUMMARY:Sunday Afternoon Jam
DESCRIPTION:Join us every Sunday for an afternoon of great music\, connection and encouragement.  Whether you are a music appreciator or musician yourself\, you are invited to take in the immense talent this jam attracts.  With host Rainshadow Al.  3-7PM. \nIf participating\, show up and sign up with Al.  Bring your own instrument/mic.
URL:https://loftpubvictoria.com/event/sunday-afternoon-jam/2025-01-26/
LOCATION:The Loft Pub\, 229 Gorge Rd E\, Victoria\, BC\, Canada
CATEGORIES:Live Music
ATTACH;FMTTYPE=image/jpeg:https://loftpubvictoria.com/wp-content/uploads/2024/08/D5770DBE-5911-4E37-A15B-4D01EA10B116.jpeg
END:VEVENT
BEGIN:VEVENT
DTSTART;TZID=America/Los_Angeles:20250125T190000
DTEND;TZID=America/Los_Angeles:20250125T220000
DTSTAMP:20260421T111704
CREATED:20241226T195747Z
LAST-MODIFIED:20251108T211102Z
UID:10001355-1737831600-1737842400@loftpubvictoria.com
SUMMARY:Reign Down
DESCRIPTION:REIGN DOWN is Victoria’s 80’s classic rock/metal band who brings the thunder with all your favourite hits from the era of high-voltage energy. \nVoluntary Cover $10
URL:https://loftpubvictoria.com/event/reign-down/2025-01-25/
LOCATION:The Loft Pub\, 229 Gorge Rd E\, Victoria\, BC\, Canada
CATEGORIES:Live Music
ATTACH;FMTTYPE=image/jpeg:https://loftpubvictoria.com/wp-content/uploads/2024/12/422424898_998678225235572_377687048837645329_n-e1740861395139.jpg
END:VEVENT
BEGIN:VEVENT
DTSTART;TZID=America/Los_Angeles:20250124T190000
DTEND;TZID=America/Los_Angeles:20250124T220000
DTSTAMP:20260421T111704
CREATED:20250119T213717Z
LAST-MODIFIED:20250119T213717Z
UID:10001349-1737745200-1737756000@loftpubvictoria.com
SUMMARY:The Fabulous B-Sides
DESCRIPTION:THE FABULOUS B-SIDES is a hard-rocking dance band reinterpreting hits by the likes of Badfinger\, Faces\, Stones\, Prince\, Lynyrd Skynyrd and Booker T and the MGs. \nVoluntary Cover $10.
URL:https://loftpubvictoria.com/event/the-fabulous-b-sides-5-2-2/
LOCATION:The Loft Pub\, 229 Gorge Rd E\, Victoria\, BC\, Canada
CATEGORIES:Live Music
ATTACH;FMTTYPE=image/jpeg:https://loftpubvictoria.com/wp-content/uploads/2024/11/Copy-of-Vintage-Rock-Venue-Style-Simple-1970s-1960s-Posters-Band-Festival-Music-Club-Bar-Event-Made-with-PosterMyWall10.jpg
END:VEVENT
BEGIN:VEVENT
DTSTART;TZID=America/Los_Angeles:20250123T180000
DTEND;TZID=America/Los_Angeles:20250123T210000
DTSTAMP:20260421T111704
CREATED:20240825T191411Z
LAST-MODIFIED:20260111T030050Z
UID:10001078-1737655200-1737666000@loftpubvictoria.com
SUMMARY:Rhythm Train
DESCRIPTION:RHYTHM TRAIN is a top-notch line-up of musicians offering up a great mix of blues\, rock\, R&B and more. Featuring Jack Lavin and Ross Hall with special guests every week. Voluntary Cover. 6-9PM.
URL:https://loftpubvictoria.com/event/rhythm-train/2025-01-23/
LOCATION:The Loft Pub\, 229 Gorge Rd E\, Victoria\, BC\, Canada
CATEGORIES:Live Music
ATTACH;FMTTYPE=image/jpeg:https://loftpubvictoria.com/wp-content/uploads/2024/08/Rhythm-Train-1-scaled.jpg
END:VEVENT
BEGIN:VEVENT
DTSTART;TZID=America/Los_Angeles:20250122T180000
DTEND;TZID=America/Los_Angeles:20250122T210000
DTSTAMP:20260421T111704
CREATED:20240825T191300Z
LAST-MODIFIED:20260111T030131Z
UID:10000977-1737568800-1737579600@loftpubvictoria.com
SUMMARY:Wednesday Night Jam
DESCRIPTION:MUSIC JAM with host Brooke Cooper. 6-9PM. Victoria’s musicians are invited to take the stage for a jam. A great place to showcase your band\, get some stage time and connect with other musicians. BYO instrument and/or mic to participate.
URL:https://loftpubvictoria.com/event/wednesday-night-jam/2025-01-22/
LOCATION:The Loft Pub\, 229 Gorge Rd E\, Victoria\, BC\, Canada
ATTACH;FMTTYPE=image/jpeg:https://loftpubvictoria.com/wp-content/uploads/2024/08/E0235B68-4619-464F-A91E-971E26DCCA88.jpeg
END:VEVENT
BEGIN:VEVENT
DTSTART;TZID=America/Los_Angeles:20250121T170000
DTEND;TZID=America/Los_Angeles:20250121T200000
DTSTAMP:20260421T111704
CREATED:20240825T192445Z
LAST-MODIFIED:20260111T025711Z
UID:10001203-1737478800-1737489600@loftpubvictoria.com
SUMMARY:Dave Harris & Friends
DESCRIPTION:DAVE HARRIS & FRIENDS Longtime blues musician and one man band\, joined by some of Victoria’s finest musicians including Al Pease and Clark Brendon. 5:00PM. Voluntary Cover.
URL:https://loftpubvictoria.com/event/dave-harris-friends/2025-01-21/
LOCATION:The Loft Pub\, 229 Gorge Rd E\, Victoria\, BC\, Canada
ATTACH;FMTTYPE=image/jpeg:https://loftpubvictoria.com/wp-content/uploads/2024/08/61FAB7A2-83C8-41CA-928B-45632448F698.jpeg
END:VEVENT
BEGIN:VEVENT
DTSTART;TZID=America/Los_Angeles:20250120T170000
DTEND;TZID=America/Los_Angeles:20250120T200000
DTSTAMP:20260421T111704
CREATED:20241226T200547Z
LAST-MODIFIED:20250329T205039Z
UID:10001358-1737392400-1737403200@loftpubvictoria.com
SUMMARY:Blake Andison
DESCRIPTION:Singer/Songwriter Blake Andison shares pop/rock covers and originals. \nVoluntary Cover
URL:https://loftpubvictoria.com/event/blake-andison/2025-01-20/
LOCATION:The Loft Pub\, 229 Gorge Rd E\, Victoria\, BC\, Canada
CATEGORIES:Live Music
ATTACH;FMTTYPE=image/jpeg:https://loftpubvictoria.com/wp-content/uploads/2024/12/BLAKE-ANDISON-scaled-e1743281431438.jpg
END:VEVENT
BEGIN:VEVENT
DTSTART;TZID=America/Vancouver:20250119T150000
DTEND;TZID=America/Vancouver:20250119T190000
DTSTAMP:20260421T111704
CREATED:20240821T021630Z
LAST-MODIFIED:20251113T234655Z
UID:10000890-1737298800-1737313200@loftpubvictoria.com
SUMMARY:Sunday Afternoon Jam
DESCRIPTION:Join us every Sunday for an afternoon of great music\, connection and encouragement.  Whether you are a music appreciator or musician yourself\, you are invited to take in the immense talent this jam attracts.  With host Rainshadow Al.  3-7PM. \nIf participating\, show up and sign up with Al.  Bring your own instrument/mic.
URL:https://loftpubvictoria.com/event/sunday-afternoon-jam/2025-01-19/
LOCATION:The Loft Pub\, 229 Gorge Rd E\, Victoria\, BC\, Canada
CATEGORIES:Live Music
ATTACH;FMTTYPE=image/jpeg:https://loftpubvictoria.com/wp-content/uploads/2024/08/D5770DBE-5911-4E37-A15B-4D01EA10B116.jpeg
END:VEVENT
END:VCALENDAR