BEGIN:VCALENDAR
VERSION:2.0
PRODID:-//The Loft Pub Victoria - ECPv6.15.20//NONSGML v1.0//EN
CALSCALE:GREGORIAN
METHOD:PUBLISH
X-WR-CALNAME:The Loft Pub Victoria
X-ORIGINAL-URL:https://loftpubvictoria.com
X-WR-CALDESC:Events for The Loft Pub Victoria
REFRESH-INTERVAL;VALUE=DURATION:PT1H
X-Robots-Tag:noindex
X-PUBLISHED-TTL:PT1H
BEGIN:VTIMEZONE
TZID:America/Los_Angeles
BEGIN:DAYLIGHT
TZOFFSETFROM:-0800
TZOFFSETTO:-0700
TZNAME:PDT
DTSTART:20240310T100000
END:DAYLIGHT
BEGIN:STANDARD
TZOFFSETFROM:-0700
TZOFFSETTO:-0800
TZNAME:PST
DTSTART:20241103T090000
END:STANDARD
BEGIN:DAYLIGHT
TZOFFSETFROM:-0800
TZOFFSETTO:-0700
TZNAME:PDT
DTSTART:20250309T100000
END:DAYLIGHT
BEGIN:STANDARD
TZOFFSETFROM:-0700
TZOFFSETTO:-0800
TZNAME:PST
DTSTART:20251102T090000
END:STANDARD
BEGIN:DAYLIGHT
TZOFFSETFROM:-0800
TZOFFSETTO:-0700
TZNAME:PDT
DTSTART:20260308T100000
END:DAYLIGHT
BEGIN:STANDARD
TZOFFSETFROM:-0700
TZOFFSETTO:-0800
TZNAME:PST
DTSTART:20261101T090000
END:STANDARD
END:VTIMEZONE
BEGIN:VTIMEZONE
TZID:America/Vancouver
BEGIN:DAYLIGHT
TZOFFSETFROM:-0800
TZOFFSETTO:-0700
TZNAME:PDT
DTSTART:20240310T100000
END:DAYLIGHT
BEGIN:STANDARD
TZOFFSETFROM:-0700
TZOFFSETTO:-0800
TZNAME:PST
DTSTART:20241103T090000
END:STANDARD
BEGIN:DAYLIGHT
TZOFFSETFROM:-0800
TZOFFSETTO:-0700
TZNAME:PDT
DTSTART:20250309T100000
END:DAYLIGHT
BEGIN:STANDARD
TZOFFSETFROM:-0700
TZOFFSETTO:-0800
TZNAME:PST
DTSTART:20251102T090000
END:STANDARD
BEGIN:DAYLIGHT
TZOFFSETFROM:-0800
TZOFFSETTO:-0700
TZNAME:PDT
DTSTART:20260308T100000
END:DAYLIGHT
BEGIN:STANDARD
TZOFFSETFROM:-0700
TZOFFSETTO:-0800
TZNAME:PST
DTSTART:20261101T090000
END:STANDARD
END:VTIMEZONE
BEGIN:VEVENT
DTSTART;TZID=America/Los_Angeles:20250425T190000
DTEND;TZID=America/Los_Angeles:20250425T220000
DTSTAMP:20260421T091540
CREATED:20240826T204449Z
LAST-MODIFIED:20250320T190304Z
UID:10001397-1745607600-1745618400@loftpubvictoria.com
SUMMARY:Tom Lang Band
DESCRIPTION:Tom Lang Band plays instantly recognizable yet original music drenched in Rock\, Roots\, Funk and Reggae vibes. The tempos and moods are upbeat and the players are some of Victoria’s best. Come on out and support a great local venue and band! \nVoluntary Cover $10
URL:https://loftpubvictoria.com/event/tom-lang-trio/2025-04-25/
LOCATION:The Loft Pub\, 229 Gorge Rd E\, Victoria\, BC\, Canada
CATEGORIES:Live Music
ATTACH;FMTTYPE=image/jpeg:https://loftpubvictoria.com/wp-content/uploads/2024/08/TLB-Loft-scaled.jpg
END:VEVENT
BEGIN:VEVENT
DTSTART;TZID=America/Los_Angeles:20250424T180000
DTEND;TZID=America/Los_Angeles:20250424T210000
DTSTAMP:20260421T091540
CREATED:20240825T191411Z
LAST-MODIFIED:20260111T030050Z
UID:10001091-1745517600-1745528400@loftpubvictoria.com
SUMMARY:Rhythm Train
DESCRIPTION:RHYTHM TRAIN is a top-notch line-up of musicians offering up a great mix of blues\, rock\, R&B and more. Featuring Jack Lavin and Ross Hall with special guests every week. Voluntary Cover. 6-9PM.
URL:https://loftpubvictoria.com/event/rhythm-train/2025-04-24/
LOCATION:The Loft Pub\, 229 Gorge Rd E\, Victoria\, BC\, Canada
CATEGORIES:Live Music
ATTACH;FMTTYPE=image/jpeg:https://loftpubvictoria.com/wp-content/uploads/2024/08/Rhythm-Train-1-scaled.jpg
END:VEVENT
BEGIN:VEVENT
DTSTART;TZID=America/Los_Angeles:20250423T180000
DTEND;TZID=America/Los_Angeles:20250423T210000
DTSTAMP:20260421T091540
CREATED:20240825T191300Z
LAST-MODIFIED:20260111T030131Z
UID:10000990-1745431200-1745442000@loftpubvictoria.com
SUMMARY:Wednesday Night Jam
DESCRIPTION:MUSIC JAM with host Brooke Cooper. 6-9PM. Victoria’s musicians are invited to take the stage for a jam. A great place to showcase your band\, get some stage time and connect with other musicians. BYO instrument and/or mic to participate.
URL:https://loftpubvictoria.com/event/wednesday-night-jam/2025-04-23/
LOCATION:The Loft Pub\, 229 Gorge Rd E\, Victoria\, BC\, Canada
ATTACH;FMTTYPE=image/jpeg:https://loftpubvictoria.com/wp-content/uploads/2024/08/E0235B68-4619-464F-A91E-971E26DCCA88.jpeg
END:VEVENT
BEGIN:VEVENT
DTSTART;TZID=America/Los_Angeles:20250422T180000
DTEND;TZID=America/Los_Angeles:20250422T210000
DTSTAMP:20260421T091540
CREATED:20250405T170642Z
LAST-MODIFIED:20260327T181648Z
UID:10001798-1745344800-1745355600@loftpubvictoria.com
SUMMARY:SWANG THANG!
DESCRIPTION:SWANG THANG! is an upbeat and vibrant ensemble bringing the infectious energy of Swing\, Blues\, and Latin dance party music straight from the golden era of 1940 to 1965. With a repertoire packed full of vintage gems and irresistible grooves\, they deliver a joyful\, high-energy performance that’s as fun as it is timeless. \nVoluntary Cover
URL:https://loftpubvictoria.com/event/the-swing-jump-blues-band/2025-04-22/
LOCATION:The Loft Pub\, 229 Gorge Rd E\, Victoria\, BC\, Canada
CATEGORIES:Live Music
ATTACH;FMTTYPE=image/jpeg:https://loftpubvictoria.com/wp-content/uploads/2025/04/Swang-Thang.jpg
END:VEVENT
BEGIN:VEVENT
DTSTART;TZID=America/Los_Angeles:20250421T173000
DTEND;TZID=America/Los_Angeles:20250421T200000
DTSTAMP:20260421T091540
CREATED:20240825T191120Z
LAST-MODIFIED:20260111T025745Z
UID:10000935-1745256600-1745265600@loftpubvictoria.com
SUMMARY:Bill Francis - Story & Song
DESCRIPTION:BILL FRANCIS shares an acoustic evening of story and pop/rock favourites featuring Rainshadow Al… requests welcome! Voluntary Cover. 5:30PM.
URL:https://loftpubvictoria.com/event/bill-francis-story-song/2025-04-21/
LOCATION:The Loft Pub\, 229 Gorge Rd E\, Victoria\, BC\, Canada
CATEGORIES:Live Music
ATTACH;FMTTYPE=image/jpeg:https://loftpubvictoria.com/wp-content/uploads/2024/08/2BEBE66B-998C-42D0-9213-FA9EFC095D24.jpeg
END:VEVENT
BEGIN:VEVENT
DTSTART;TZID=America/Vancouver:20250420T150000
DTEND;TZID=America/Vancouver:20250420T190000
DTSTAMP:20260421T091540
CREATED:20240821T021630Z
LAST-MODIFIED:20251113T234655Z
UID:10000903-1745161200-1745175600@loftpubvictoria.com
SUMMARY:Sunday Afternoon Jam
DESCRIPTION:Join us every Sunday for an afternoon of great music\, connection and encouragement.  Whether you are a music appreciator or musician yourself\, you are invited to take in the immense talent this jam attracts.  With host Rainshadow Al.  3-7PM. \nIf participating\, show up and sign up with Al.  Bring your own instrument/mic.
URL:https://loftpubvictoria.com/event/sunday-afternoon-jam/2025-04-20/
LOCATION:The Loft Pub\, 229 Gorge Rd E\, Victoria\, BC\, Canada
CATEGORIES:Live Music
ATTACH;FMTTYPE=image/jpeg:https://loftpubvictoria.com/wp-content/uploads/2024/08/D5770DBE-5911-4E37-A15B-4D01EA10B116.jpeg
END:VEVENT
BEGIN:VEVENT
DTSTART;TZID=America/Los_Angeles:20250419T190000
DTEND;TZID=America/Los_Angeles:20250419T220000
DTSTAMP:20260421T091540
CREATED:20250301T203820Z
LAST-MODIFIED:20260304T040431Z
UID:10001408-1745089200-1745100000@loftpubvictoria.com
SUMMARY:Don Peterson & The Tone Rangers
DESCRIPTION:Don Peterson and the Tone Rangers feature four of Victoria’s finest musicians\, fronted by premier guitarist Don Peterson. With dynamic and soulful vocalist/keyboardist Tom Lang\, exceptional singer/bassist Gavin Dixon\, and versatile drummer/vocalist Don Restall presenting classic rock and blues. \nVoluntary Cover $10.
URL:https://loftpubvictoria.com/event/don-peterson-the-tone-rangers/2025-04-19/
LOCATION:The Loft Pub\, 229 Gorge Rd E\, Victoria\, BC\, Canada
CATEGORIES:Live Music
ATTACH;FMTTYPE=image/png:https://loftpubvictoria.com/wp-content/uploads/2025/03/2322967171596178786.png
END:VEVENT
BEGIN:VEVENT
DTSTART;TZID=America/Los_Angeles:20250418T190000
DTEND;TZID=America/Los_Angeles:20250418T220000
DTSTAMP:20260421T091540
CREATED:20241226T195747Z
LAST-MODIFIED:20251108T211102Z
UID:10001407-1745002800-1745013600@loftpubvictoria.com
SUMMARY:Reign Down
DESCRIPTION:REIGN DOWN is Victoria’s 80’s classic rock/metal band who brings the thunder with all your favourite hits from the era of high-voltage energy. \nVoluntary Cover $10
URL:https://loftpubvictoria.com/event/reign-down/2025-04-18/
LOCATION:The Loft Pub\, 229 Gorge Rd E\, Victoria\, BC\, Canada
CATEGORIES:Live Music
ATTACH;FMTTYPE=image/jpeg:https://loftpubvictoria.com/wp-content/uploads/2024/12/422424898_998678225235572_377687048837645329_n-e1740861395139.jpg
END:VEVENT
BEGIN:VEVENT
DTSTART;TZID=America/Los_Angeles:20250417T180000
DTEND;TZID=America/Los_Angeles:20250417T210000
DTSTAMP:20260421T091540
CREATED:20240825T191411Z
LAST-MODIFIED:20260111T030050Z
UID:10001090-1744912800-1744923600@loftpubvictoria.com
SUMMARY:Rhythm Train
DESCRIPTION:RHYTHM TRAIN is a top-notch line-up of musicians offering up a great mix of blues\, rock\, R&B and more. Featuring Jack Lavin and Ross Hall with special guests every week. Voluntary Cover. 6-9PM.
URL:https://loftpubvictoria.com/event/rhythm-train/2025-04-17/
LOCATION:The Loft Pub\, 229 Gorge Rd E\, Victoria\, BC\, Canada
CATEGORIES:Live Music
ATTACH;FMTTYPE=image/jpeg:https://loftpubvictoria.com/wp-content/uploads/2024/08/Rhythm-Train-1-scaled.jpg
END:VEVENT
BEGIN:VEVENT
DTSTART;TZID=America/Los_Angeles:20250416T180000
DTEND;TZID=America/Los_Angeles:20250416T210000
DTSTAMP:20260421T091540
CREATED:20240825T191300Z
LAST-MODIFIED:20260111T030131Z
UID:10000989-1744826400-1744837200@loftpubvictoria.com
SUMMARY:Wednesday Night Jam
DESCRIPTION:MUSIC JAM with host Brooke Cooper. 6-9PM. Victoria’s musicians are invited to take the stage for a jam. A great place to showcase your band\, get some stage time and connect with other musicians. BYO instrument and/or mic to participate.
URL:https://loftpubvictoria.com/event/wednesday-night-jam/2025-04-16/
LOCATION:The Loft Pub\, 229 Gorge Rd E\, Victoria\, BC\, Canada
ATTACH;FMTTYPE=image/jpeg:https://loftpubvictoria.com/wp-content/uploads/2024/08/E0235B68-4619-464F-A91E-971E26DCCA88.jpeg
END:VEVENT
BEGIN:VEVENT
DTSTART;TZID=America/Los_Angeles:20250415T170000
DTEND;TZID=America/Los_Angeles:20250415T200000
DTSTAMP:20260421T091540
CREATED:20240825T192445Z
LAST-MODIFIED:20260111T025711Z
UID:10001209-1744736400-1744747200@loftpubvictoria.com
SUMMARY:Dave Harris & Friends
DESCRIPTION:DAVE HARRIS & FRIENDS Longtime blues musician and one man band\, joined by some of Victoria’s finest musicians including Al Pease and Clark Brendon. 5:00PM. Voluntary Cover.
URL:https://loftpubvictoria.com/event/dave-harris-friends/2025-04-15/
LOCATION:The Loft Pub\, 229 Gorge Rd E\, Victoria\, BC\, Canada
ATTACH;FMTTYPE=image/jpeg:https://loftpubvictoria.com/wp-content/uploads/2024/08/61FAB7A2-83C8-41CA-928B-45632448F698.jpeg
END:VEVENT
BEGIN:VEVENT
DTSTART;TZID=America/Los_Angeles:20250414T170000
DTEND;TZID=America/Los_Angeles:20250414T200000
DTSTAMP:20260421T091540
CREATED:20241226T200547Z
LAST-MODIFIED:20250329T205039Z
UID:10001410-1744650000-1744660800@loftpubvictoria.com
SUMMARY:Blake Andison
DESCRIPTION:Singer/Songwriter Blake Andison shares pop/rock covers and originals. \nVoluntary Cover
URL:https://loftpubvictoria.com/event/blake-andison/2025-04-14/
LOCATION:The Loft Pub\, 229 Gorge Rd E\, Victoria\, BC\, Canada
CATEGORIES:Live Music
ATTACH;FMTTYPE=image/jpeg:https://loftpubvictoria.com/wp-content/uploads/2024/12/BLAKE-ANDISON-scaled-e1743281431438.jpg
END:VEVENT
BEGIN:VEVENT
DTSTART;TZID=America/Vancouver:20250413T150000
DTEND;TZID=America/Vancouver:20250413T190000
DTSTAMP:20260421T091540
CREATED:20240821T021630Z
LAST-MODIFIED:20251113T234655Z
UID:10000902-1744556400-1744570800@loftpubvictoria.com
SUMMARY:Sunday Afternoon Jam
DESCRIPTION:Join us every Sunday for an afternoon of great music\, connection and encouragement.  Whether you are a music appreciator or musician yourself\, you are invited to take in the immense talent this jam attracts.  With host Rainshadow Al.  3-7PM. \nIf participating\, show up and sign up with Al.  Bring your own instrument/mic.
URL:https://loftpubvictoria.com/event/sunday-afternoon-jam/2025-04-13/
LOCATION:The Loft Pub\, 229 Gorge Rd E\, Victoria\, BC\, Canada
CATEGORIES:Live Music
ATTACH;FMTTYPE=image/jpeg:https://loftpubvictoria.com/wp-content/uploads/2024/08/D5770DBE-5911-4E37-A15B-4D01EA10B116.jpeg
END:VEVENT
BEGIN:VEVENT
DTSTART;TZID=America/Los_Angeles:20250412T190000
DTEND;TZID=America/Los_Angeles:20250412T220000
DTSTAMP:20260421T091540
CREATED:20240826T222349Z
LAST-MODIFIED:20251108T204340Z
UID:10001399-1744484400-1744495200@loftpubvictoria.com
SUMMARY:Demographix
DESCRIPTION:Demographix delivers all your favourite classic rock tunes to keep you dancing and singing along all night long! \nVoluntary Cover $10.
URL:https://loftpubvictoria.com/event/demographix/2025-04-12/
LOCATION:The Loft Pub\, 229 Gorge Rd E\, Victoria\, BC\, Canada
CATEGORIES:Live Music
ATTACH;FMTTYPE=image/jpeg:https://loftpubvictoria.com/wp-content/uploads/2024/08/67619257_104389634245921_2339465241567428608_n.jpg
END:VEVENT
BEGIN:VEVENT
DTSTART;TZID=America/Los_Angeles:20250411T190000
DTEND;TZID=America/Los_Angeles:20250411T220000
DTSTAMP:20260421T091540
CREATED:20240826T204954Z
LAST-MODIFIED:20260111T025402Z
UID:10001253-1744398000-1744408800@loftpubvictoria.com
SUMMARY:Tom Morrissey
DESCRIPTION:Acoustic roots/folk musician TOM MORRISSEY\, blends traditional East Coast tunes with a variety of modern classics. Voluntary Cover $10. 7-10PM.
URL:https://loftpubvictoria.com/event/tom-morrissey/2025-04-11/
LOCATION:The Loft Pub\, 229 Gorge Rd E\, Victoria\, BC\, Canada
CATEGORIES:Live Music
ATTACH;FMTTYPE=image/jpeg:https://loftpubvictoria.com/wp-content/uploads/2024/08/279561744_10159903778696420_4207796972645183688_n.jpg
END:VEVENT
BEGIN:VEVENT
DTSTART;TZID=America/Los_Angeles:20250410T180000
DTEND;TZID=America/Los_Angeles:20250410T210000
DTSTAMP:20260421T091540
CREATED:20240825T191411Z
LAST-MODIFIED:20260111T030050Z
UID:10001089-1744308000-1744318800@loftpubvictoria.com
SUMMARY:Rhythm Train
DESCRIPTION:RHYTHM TRAIN is a top-notch line-up of musicians offering up a great mix of blues\, rock\, R&B and more. Featuring Jack Lavin and Ross Hall with special guests every week. Voluntary Cover. 6-9PM.
URL:https://loftpubvictoria.com/event/rhythm-train/2025-04-10/
LOCATION:The Loft Pub\, 229 Gorge Rd E\, Victoria\, BC\, Canada
CATEGORIES:Live Music
ATTACH;FMTTYPE=image/jpeg:https://loftpubvictoria.com/wp-content/uploads/2024/08/Rhythm-Train-1-scaled.jpg
END:VEVENT
BEGIN:VEVENT
DTSTART;TZID=America/Los_Angeles:20250409T180000
DTEND;TZID=America/Los_Angeles:20250409T210000
DTSTAMP:20260421T091540
CREATED:20240825T191300Z
LAST-MODIFIED:20260111T030131Z
UID:10000988-1744221600-1744232400@loftpubvictoria.com
SUMMARY:Wednesday Night Jam
DESCRIPTION:MUSIC JAM with host Brooke Cooper. 6-9PM. Victoria’s musicians are invited to take the stage for a jam. A great place to showcase your band\, get some stage time and connect with other musicians. BYO instrument and/or mic to participate.
URL:https://loftpubvictoria.com/event/wednesday-night-jam/2025-04-09/
LOCATION:The Loft Pub\, 229 Gorge Rd E\, Victoria\, BC\, Canada
ATTACH;FMTTYPE=image/jpeg:https://loftpubvictoria.com/wp-content/uploads/2024/08/E0235B68-4619-464F-A91E-971E26DCCA88.jpeg
END:VEVENT
BEGIN:VEVENT
DTSTART;TZID=America/Los_Angeles:20250408T170000
DTEND;TZID=America/Los_Angeles:20250408T200000
DTSTAMP:20260421T091540
CREATED:20250126T201844Z
LAST-MODIFIED:20260328T183158Z
UID:10001412-1744131600-1744142400@loftpubvictoria.com
SUMMARY:Smith and Vuur
DESCRIPTION:Norm Smith and Pete Vuur share classic rock ballads. \nVoluntary Cover.
URL:https://loftpubvictoria.com/event/smith-and-vuur/2025-04-08/
LOCATION:The Loft Pub\, 229 Gorge Rd E\, Victoria\, BC\, Canada
ATTACH;FMTTYPE=image/jpeg:https://loftpubvictoria.com/wp-content/uploads/2025/01/429526496_993432745719433_3727186800420991241_n.jpg
END:VEVENT
BEGIN:VEVENT
DTSTART;TZID=America/Los_Angeles:20250407T173000
DTEND;TZID=America/Los_Angeles:20250407T200000
DTSTAMP:20260421T091540
CREATED:20240825T191120Z
LAST-MODIFIED:20260111T025745Z
UID:10000934-1744047000-1744056000@loftpubvictoria.com
SUMMARY:Bill Francis - Story & Song
DESCRIPTION:BILL FRANCIS shares an acoustic evening of story and pop/rock favourites featuring Rainshadow Al… requests welcome! Voluntary Cover. 5:30PM.
URL:https://loftpubvictoria.com/event/bill-francis-story-song/2025-04-07/
LOCATION:The Loft Pub\, 229 Gorge Rd E\, Victoria\, BC\, Canada
CATEGORIES:Live Music
ATTACH;FMTTYPE=image/jpeg:https://loftpubvictoria.com/wp-content/uploads/2024/08/2BEBE66B-998C-42D0-9213-FA9EFC095D24.jpeg
END:VEVENT
BEGIN:VEVENT
DTSTART;TZID=America/Vancouver:20250406T150000
DTEND;TZID=America/Vancouver:20250406T190000
DTSTAMP:20260421T091540
CREATED:20240821T021630Z
LAST-MODIFIED:20251113T234655Z
UID:10000901-1743951600-1743966000@loftpubvictoria.com
SUMMARY:Sunday Afternoon Jam
DESCRIPTION:Join us every Sunday for an afternoon of great music\, connection and encouragement.  Whether you are a music appreciator or musician yourself\, you are invited to take in the immense talent this jam attracts.  With host Rainshadow Al.  3-7PM. \nIf participating\, show up and sign up with Al.  Bring your own instrument/mic.
URL:https://loftpubvictoria.com/event/sunday-afternoon-jam/2025-04-06/
LOCATION:The Loft Pub\, 229 Gorge Rd E\, Victoria\, BC\, Canada
CATEGORIES:Live Music
ATTACH;FMTTYPE=image/jpeg:https://loftpubvictoria.com/wp-content/uploads/2024/08/D5770DBE-5911-4E37-A15B-4D01EA10B116.jpeg
END:VEVENT
BEGIN:VEVENT
DTSTART;TZID=America/Los_Angeles:20250405T190000
DTEND;TZID=America/Los_Angeles:20250405T220000
DTSTAMP:20260421T091540
CREATED:20240826T222721Z
LAST-MODIFIED:20251108T203958Z
UID:10001414-1743879600-1743890400@loftpubvictoria.com
SUMMARY:The Lovecats
DESCRIPTION:LOVECATS showcase an eclectic blend of classic rock\, pop\, R&B\, and country genres. Enjoy danceable music from the 60s through the 90s and beyond! Discover why LOVECATS are one of Victoria’s favorite party bands\, playing all killer\, no filler. \nVoluntary Cover $10
URL:https://loftpubvictoria.com/event/the-lovecats-6/2025-04-05/
LOCATION:The Loft Pub\, 229 Gorge Rd E\, Victoria\, BC\, Canada
CATEGORIES:Live Music
ATTACH;FMTTYPE=image/jpeg:https://loftpubvictoria.com/wp-content/uploads/2024/08/457109165_1042939767840877_2127686871480290585_n.jpg
END:VEVENT
BEGIN:VEVENT
DTSTART;TZID=America/Los_Angeles:20250404T190000
DTEND;TZID=America/Los_Angeles:20250404T220000
DTSTAMP:20260421T091540
CREATED:20250402T050930Z
LAST-MODIFIED:20250621T221630Z
UID:10001415-1743793200-1743804000@loftpubvictoria.com
SUMMARY:The Blue Screamers
DESCRIPTION:The Blue Screamers present high energy blues to keep you dancing all night long! \nVoluntary Cover $10.
URL:https://loftpubvictoria.com/event/the-blues-screamers/2025-04-04/
LOCATION:The Loft Pub\, 229 Gorge Rd E\, Victoria\, BC\, Canada
CATEGORIES:Live Music
ATTACH;FMTTYPE=image/jpeg:https://loftpubvictoria.com/wp-content/uploads/2025/04/The-Blues-Screamers-1-scaled-e1750544179484.jpg
END:VEVENT
BEGIN:VEVENT
DTSTART;TZID=America/Los_Angeles:20250403T180000
DTEND;TZID=America/Los_Angeles:20250403T210000
DTSTAMP:20260421T091540
CREATED:20240825T191411Z
LAST-MODIFIED:20260111T030050Z
UID:10001088-1743703200-1743714000@loftpubvictoria.com
SUMMARY:Rhythm Train
DESCRIPTION:RHYTHM TRAIN is a top-notch line-up of musicians offering up a great mix of blues\, rock\, R&B and more. Featuring Jack Lavin and Ross Hall with special guests every week. Voluntary Cover. 6-9PM.
URL:https://loftpubvictoria.com/event/rhythm-train/2025-04-03/
LOCATION:The Loft Pub\, 229 Gorge Rd E\, Victoria\, BC\, Canada
CATEGORIES:Live Music
ATTACH;FMTTYPE=image/jpeg:https://loftpubvictoria.com/wp-content/uploads/2024/08/Rhythm-Train-1-scaled.jpg
END:VEVENT
BEGIN:VEVENT
DTSTART;TZID=America/Los_Angeles:20250402T180000
DTEND;TZID=America/Los_Angeles:20250402T210000
DTSTAMP:20260421T091540
CREATED:20240825T191300Z
LAST-MODIFIED:20260111T030131Z
UID:10000987-1743616800-1743627600@loftpubvictoria.com
SUMMARY:Wednesday Night Jam
DESCRIPTION:MUSIC JAM with host Brooke Cooper. 6-9PM. Victoria’s musicians are invited to take the stage for a jam. A great place to showcase your band\, get some stage time and connect with other musicians. BYO instrument and/or mic to participate.
URL:https://loftpubvictoria.com/event/wednesday-night-jam/2025-04-02/
LOCATION:The Loft Pub\, 229 Gorge Rd E\, Victoria\, BC\, Canada
ATTACH;FMTTYPE=image/jpeg:https://loftpubvictoria.com/wp-content/uploads/2024/08/E0235B68-4619-464F-A91E-971E26DCCA88.jpeg
END:VEVENT
BEGIN:VEVENT
DTSTART;TZID=America/Los_Angeles:20250401T170000
DTEND;TZID=America/Los_Angeles:20250401T200000
DTSTAMP:20260421T091540
CREATED:20240825T192445Z
LAST-MODIFIED:20260111T025711Z
UID:10001208-1743526800-1743537600@loftpubvictoria.com
SUMMARY:Dave Harris & Friends
DESCRIPTION:DAVE HARRIS & FRIENDS Longtime blues musician and one man band\, joined by some of Victoria’s finest musicians including Al Pease and Clark Brendon. 5:00PM. Voluntary Cover.
URL:https://loftpubvictoria.com/event/dave-harris-friends/2025-04-01/
LOCATION:The Loft Pub\, 229 Gorge Rd E\, Victoria\, BC\, Canada
ATTACH;FMTTYPE=image/jpeg:https://loftpubvictoria.com/wp-content/uploads/2024/08/61FAB7A2-83C8-41CA-928B-45632448F698.jpeg
END:VEVENT
BEGIN:VEVENT
DTSTART;TZID=America/Los_Angeles:20250331T170000
DTEND;TZID=America/Los_Angeles:20250331T200000
DTSTAMP:20260421T091540
CREATED:20241226T200658Z
LAST-MODIFIED:20251220T181303Z
UID:10001406-1743440400-1743451200@loftpubvictoria.com
SUMMARY:Mather Hewison
DESCRIPTION:Longtime Musician Mather Hewison shares country and rock favourites. \nVoluntary Cover.
URL:https://loftpubvictoria.com/event/mather-hewison/2025-03-31/
LOCATION:The Loft Pub\, 229 Gorge Rd E\, Victoria\, BC\, Canada
CATEGORIES:Live Music
ATTACH;FMTTYPE=image/jpeg:https://loftpubvictoria.com/wp-content/uploads/2024/12/MATHER-HEWISON-scaled-e1740859231858.jpg
END:VEVENT
BEGIN:VEVENT
DTSTART;TZID=America/Vancouver:20250330T150000
DTEND;TZID=America/Vancouver:20250330T190000
DTSTAMP:20260421T091540
CREATED:20240821T021630Z
LAST-MODIFIED:20251113T234655Z
UID:10000900-1743346800-1743361200@loftpubvictoria.com
SUMMARY:Sunday Afternoon Jam
DESCRIPTION:Join us every Sunday for an afternoon of great music\, connection and encouragement.  Whether you are a music appreciator or musician yourself\, you are invited to take in the immense talent this jam attracts.  With host Rainshadow Al.  3-7PM. \nIf participating\, show up and sign up with Al.  Bring your own instrument/mic.
URL:https://loftpubvictoria.com/event/sunday-afternoon-jam/2025-03-30/
LOCATION:The Loft Pub\, 229 Gorge Rd E\, Victoria\, BC\, Canada
CATEGORIES:Live Music
ATTACH;FMTTYPE=image/jpeg:https://loftpubvictoria.com/wp-content/uploads/2024/08/D5770DBE-5911-4E37-A15B-4D01EA10B116.jpeg
END:VEVENT
BEGIN:VEVENT
DTSTART;TZID=America/Los_Angeles:20250329T190000
DTEND;TZID=America/Los_Angeles:20250329T220000
DTSTAMP:20260421T091540
CREATED:20240826T223454Z
LAST-MODIFIED:20251108T210212Z
UID:10001396-1743274800-1743285600@loftpubvictoria.com
SUMMARY:Thick As Thieves
DESCRIPTION:Thick as Thieves is a Cowichan Valley based classic and country rock band that has entertained crowds from small town bars to summer festivals including Sunfest\, corporate and charitable events up and down Vancouver Island. The band has shared the stage for over 25 years. When you come to see them play you will hear a wide variety of classic rock and southern blues/new country ranging from Chris Stapleton and Marcus King to 54-40 and The Hip. \nThe line up includes Matt Lemay on lead vocals/guitar\, Steve Hutcheson on bass/vocals\, Rob Lise on lead guitar and Darrell Posehn on drums/vocals. \nVoluntary Cover $10.
URL:https://loftpubvictoria.com/event/thick-as-thieves/2025-03-29/
LOCATION:The Loft Pub\, 229 Gorge Rd E\, Victoria\, BC\, Canada
CATEGORIES:Live Music
ATTACH;FMTTYPE=image/jpeg:https://loftpubvictoria.com/wp-content/uploads/2024/08/Thick-as-Thieves-bio-and-poster-May-2024-2.jpg
END:VEVENT
BEGIN:VEVENT
DTSTART;TZID=America/Los_Angeles:20250328T190000
DTEND;TZID=America/Los_Angeles:20250328T220000
DTSTAMP:20260421T091540
CREATED:20241226T194815Z
LAST-MODIFIED:20260130T012305Z
UID:10001348-1743188400-1743199200@loftpubvictoria.com
SUMMARY:Bill Johnson Quartet
DESCRIPTION:The Bill Johnson Band plays white hot Blues straight out of the furnace…Victoria’s guitar flamethrower supported by 3 true hot shots!
URL:https://loftpubvictoria.com/event/bill-johnson-quartet/2025-03-28/
LOCATION:BC
CATEGORIES:Live Music
ATTACH;FMTTYPE=image/jpeg:https://loftpubvictoria.com/wp-content/uploads/2024/12/Bill-Johnson-scaled-e1769736151467.jpg
END:VEVENT
BEGIN:VEVENT
DTSTART;TZID=America/Los_Angeles:20250327T180000
DTEND;TZID=America/Los_Angeles:20250327T210000
DTSTAMP:20260421T091540
CREATED:20240825T191411Z
LAST-MODIFIED:20260111T030050Z
UID:10001087-1743098400-1743109200@loftpubvictoria.com
SUMMARY:Rhythm Train
DESCRIPTION:RHYTHM TRAIN is a top-notch line-up of musicians offering up a great mix of blues\, rock\, R&B and more. Featuring Jack Lavin and Ross Hall with special guests every week. Voluntary Cover. 6-9PM.
URL:https://loftpubvictoria.com/event/rhythm-train/2025-03-27/
LOCATION:The Loft Pub\, 229 Gorge Rd E\, Victoria\, BC\, Canada
CATEGORIES:Live Music
ATTACH;FMTTYPE=image/jpeg:https://loftpubvictoria.com/wp-content/uploads/2024/08/Rhythm-Train-1-scaled.jpg
END:VEVENT
END:VCALENDAR