BEGIN:VCALENDAR
VERSION:2.0
PRODID:-//The Loft Pub Victoria - ECPv6.15.20//NONSGML v1.0//EN
CALSCALE:GREGORIAN
METHOD:PUBLISH
X-WR-CALNAME:The Loft Pub Victoria
X-ORIGINAL-URL:https://loftpubvictoria.com
X-WR-CALDESC:Events for The Loft Pub Victoria
REFRESH-INTERVAL;VALUE=DURATION:PT1H
X-Robots-Tag:noindex
X-PUBLISHED-TTL:PT1H
BEGIN:VTIMEZONE
TZID:America/Los_Angeles
BEGIN:DAYLIGHT
TZOFFSETFROM:-0800
TZOFFSETTO:-0700
TZNAME:PDT
DTSTART:20240310T100000
END:DAYLIGHT
BEGIN:STANDARD
TZOFFSETFROM:-0700
TZOFFSETTO:-0800
TZNAME:PST
DTSTART:20241103T090000
END:STANDARD
BEGIN:DAYLIGHT
TZOFFSETFROM:-0800
TZOFFSETTO:-0700
TZNAME:PDT
DTSTART:20250309T100000
END:DAYLIGHT
BEGIN:STANDARD
TZOFFSETFROM:-0700
TZOFFSETTO:-0800
TZNAME:PST
DTSTART:20251102T090000
END:STANDARD
BEGIN:DAYLIGHT
TZOFFSETFROM:-0800
TZOFFSETTO:-0700
TZNAME:PDT
DTSTART:20260308T100000
END:DAYLIGHT
BEGIN:STANDARD
TZOFFSETFROM:-0700
TZOFFSETTO:-0800
TZNAME:PST
DTSTART:20261101T090000
END:STANDARD
END:VTIMEZONE
BEGIN:VTIMEZONE
TZID:America/Vancouver
BEGIN:DAYLIGHT
TZOFFSETFROM:-0800
TZOFFSETTO:-0700
TZNAME:PDT
DTSTART:20240310T100000
END:DAYLIGHT
BEGIN:STANDARD
TZOFFSETFROM:-0700
TZOFFSETTO:-0800
TZNAME:PST
DTSTART:20241103T090000
END:STANDARD
BEGIN:DAYLIGHT
TZOFFSETFROM:-0800
TZOFFSETTO:-0700
TZNAME:PDT
DTSTART:20250309T100000
END:DAYLIGHT
BEGIN:STANDARD
TZOFFSETFROM:-0700
TZOFFSETTO:-0800
TZNAME:PST
DTSTART:20251102T090000
END:STANDARD
BEGIN:DAYLIGHT
TZOFFSETFROM:-0800
TZOFFSETTO:-0700
TZNAME:PDT
DTSTART:20260308T100000
END:DAYLIGHT
BEGIN:STANDARD
TZOFFSETFROM:-0700
TZOFFSETTO:-0800
TZNAME:PST
DTSTART:20261101T090000
END:STANDARD
END:VTIMEZONE
BEGIN:VEVENT
DTSTART;TZID=America/Los_Angeles:20250324T173000
DTEND;TZID=America/Los_Angeles:20250324T200000
DTSTAMP:20260421T103816
CREATED:20240825T191120Z
LAST-MODIFIED:20260111T025745Z
UID:10000933-1742837400-1742846400@loftpubvictoria.com
SUMMARY:Bill Francis - Story & Song
DESCRIPTION:BILL FRANCIS shares an acoustic evening of story and pop/rock favourites featuring Rainshadow Al… requests welcome! Voluntary Cover. 5:30PM.
URL:https://loftpubvictoria.com/event/bill-francis-story-song/2025-03-24/
LOCATION:The Loft Pub\, 229 Gorge Rd E\, Victoria\, BC\, Canada
CATEGORIES:Live Music
ATTACH;FMTTYPE=image/jpeg:https://loftpubvictoria.com/wp-content/uploads/2024/08/2BEBE66B-998C-42D0-9213-FA9EFC095D24.jpeg
END:VEVENT
BEGIN:VEVENT
DTSTART;TZID=America/Vancouver:20250323T150000
DTEND;TZID=America/Vancouver:20250323T190000
DTSTAMP:20260421T103816
CREATED:20240821T021630Z
LAST-MODIFIED:20251113T234655Z
UID:10000899-1742742000-1742756400@loftpubvictoria.com
SUMMARY:Sunday Afternoon Jam
DESCRIPTION:Join us every Sunday for an afternoon of great music\, connection and encouragement.  Whether you are a music appreciator or musician yourself\, you are invited to take in the immense talent this jam attracts.  With host Rainshadow Al.  3-7PM. \nIf participating\, show up and sign up with Al.  Bring your own instrument/mic.
URL:https://loftpubvictoria.com/event/sunday-afternoon-jam/2025-03-23/
LOCATION:The Loft Pub\, 229 Gorge Rd E\, Victoria\, BC\, Canada
CATEGORIES:Live Music
ATTACH;FMTTYPE=image/jpeg:https://loftpubvictoria.com/wp-content/uploads/2024/08/D5770DBE-5911-4E37-A15B-4D01EA10B116.jpeg
END:VEVENT
BEGIN:VEVENT
DTSTART;TZID=America/Los_Angeles:20250322T190000
DTEND;TZID=America/Los_Angeles:20250322T220000
DTSTAMP:20260421T103816
CREATED:20241113T184554Z
LAST-MODIFIED:20241226T195153Z
UID:10001350-1742670000-1742680800@loftpubvictoria.com
SUMMARY:The Fabulous B-Sides
DESCRIPTION:THE FABULOUS B-SIDES is a hard-rocking dance band reinterpreting hits by the likes of Badfinger\, Faces\, Stones\, Prince\, Lynyrd Skynyrd and Booker T and the MGs. \nVoluntary Cover $10.
URL:https://loftpubvictoria.com/event/the-fabulous-b-sides-5-2/2025-03-22/
LOCATION:The Loft Pub\, 229 Gorge Rd E\, Victoria\, BC\, Canada
CATEGORIES:Live Music
ATTACH;FMTTYPE=image/jpeg:https://loftpubvictoria.com/wp-content/uploads/2024/08/THE-FABULOUS-B-SIDES.jpg
END:VEVENT
BEGIN:VEVENT
DTSTART;TZID=America/Los_Angeles:20250321T190000
DTEND;TZID=America/Los_Angeles:20250321T220000
DTSTAMP:20260421T103816
CREATED:20240826T205604Z
LAST-MODIFIED:20260311T181526Z
UID:10001375-1742583600-1742594400@loftpubvictoria.com
SUMMARY:The Groove Diggers
DESCRIPTION:THE GROOVE DIGGERS are a Victoria-based cover band that plays the latest in top 40 hits and classic party music that keeps the night alive. \nVoluntary Cover $10.
URL:https://loftpubvictoria.com/event/groovediggers/2025-03-21/
LOCATION:The Loft Pub\, 229 Gorge Rd E\, Victoria\, BC\, Canada
CATEGORIES:Live Music
ATTACH;FMTTYPE=image/jpeg:https://loftpubvictoria.com/wp-content/uploads/2024/08/327145341_3322621924621778_3727057408526086479_n.jpg
END:VEVENT
BEGIN:VEVENT
DTSTART;TZID=America/Los_Angeles:20250320T180000
DTEND;TZID=America/Los_Angeles:20250320T210000
DTSTAMP:20260421T103816
CREATED:20240825T191411Z
LAST-MODIFIED:20260111T030050Z
UID:10001086-1742493600-1742504400@loftpubvictoria.com
SUMMARY:Rhythm Train
DESCRIPTION:RHYTHM TRAIN is a top-notch line-up of musicians offering up a great mix of blues\, rock\, R&B and more. Featuring Jack Lavin and Ross Hall with special guests every week. Voluntary Cover. 6-9PM.
URL:https://loftpubvictoria.com/event/rhythm-train/2025-03-20/
LOCATION:The Loft Pub\, 229 Gorge Rd E\, Victoria\, BC\, Canada
CATEGORIES:Live Music
ATTACH;FMTTYPE=image/jpeg:https://loftpubvictoria.com/wp-content/uploads/2024/08/Rhythm-Train-1-scaled.jpg
END:VEVENT
BEGIN:VEVENT
DTSTART;TZID=America/Los_Angeles:20250319T180000
DTEND;TZID=America/Los_Angeles:20250319T210000
DTSTAMP:20260421T103816
CREATED:20240825T191300Z
LAST-MODIFIED:20260111T030131Z
UID:10000985-1742407200-1742418000@loftpubvictoria.com
SUMMARY:Wednesday Night Jam
DESCRIPTION:MUSIC JAM with host Brooke Cooper. 6-9PM. Victoria’s musicians are invited to take the stage for a jam. A great place to showcase your band\, get some stage time and connect with other musicians. BYO instrument and/or mic to participate.
URL:https://loftpubvictoria.com/event/wednesday-night-jam/2025-03-19/
LOCATION:The Loft Pub\, 229 Gorge Rd E\, Victoria\, BC\, Canada
ATTACH;FMTTYPE=image/jpeg:https://loftpubvictoria.com/wp-content/uploads/2024/08/E0235B68-4619-464F-A91E-971E26DCCA88.jpeg
END:VEVENT
BEGIN:VEVENT
DTSTART;TZID=America/Los_Angeles:20250318T170000
DTEND;TZID=America/Los_Angeles:20250318T200000
DTSTAMP:20260421T103816
CREATED:20240825T192445Z
LAST-MODIFIED:20260111T025711Z
UID:10001207-1742317200-1742328000@loftpubvictoria.com
SUMMARY:Dave Harris & Friends
DESCRIPTION:DAVE HARRIS & FRIENDS Longtime blues musician and one man band\, joined by some of Victoria’s finest musicians including Al Pease and Clark Brendon. 5:00PM. Voluntary Cover.
URL:https://loftpubvictoria.com/event/dave-harris-friends/2025-03-18/
LOCATION:The Loft Pub\, 229 Gorge Rd E\, Victoria\, BC\, Canada
ATTACH;FMTTYPE=image/jpeg:https://loftpubvictoria.com/wp-content/uploads/2024/08/61FAB7A2-83C8-41CA-928B-45632448F698.jpeg
END:VEVENT
BEGIN:VEVENT
DTSTART;TZID=America/Los_Angeles:20250317T170000
DTEND;TZID=America/Los_Angeles:20250317T200000
DTSTAMP:20260421T103816
CREATED:20241226T200547Z
LAST-MODIFIED:20250329T205039Z
UID:10001400-1742230800-1742241600@loftpubvictoria.com
SUMMARY:Blake Andison
DESCRIPTION:Singer/Songwriter Blake Andison shares pop/rock covers and originals. \nVoluntary Cover
URL:https://loftpubvictoria.com/event/blake-andison/2025-03-17/
LOCATION:The Loft Pub\, 229 Gorge Rd E\, Victoria\, BC\, Canada
CATEGORIES:Live Music
ATTACH;FMTTYPE=image/jpeg:https://loftpubvictoria.com/wp-content/uploads/2024/12/BLAKE-ANDISON-scaled-e1743281431438.jpg
END:VEVENT
BEGIN:VEVENT
DTSTART;TZID=America/Vancouver:20250316T150000
DTEND;TZID=America/Vancouver:20250316T190000
DTSTAMP:20260421T103816
CREATED:20240821T021630Z
LAST-MODIFIED:20251113T234655Z
UID:10000898-1742137200-1742151600@loftpubvictoria.com
SUMMARY:Sunday Afternoon Jam
DESCRIPTION:Join us every Sunday for an afternoon of great music\, connection and encouragement.  Whether you are a music appreciator or musician yourself\, you are invited to take in the immense talent this jam attracts.  With host Rainshadow Al.  3-7PM. \nIf participating\, show up and sign up with Al.  Bring your own instrument/mic.
URL:https://loftpubvictoria.com/event/sunday-afternoon-jam/2025-03-16/
LOCATION:The Loft Pub\, 229 Gorge Rd E\, Victoria\, BC\, Canada
CATEGORIES:Live Music
ATTACH;FMTTYPE=image/jpeg:https://loftpubvictoria.com/wp-content/uploads/2024/08/D5770DBE-5911-4E37-A15B-4D01EA10B116.jpeg
END:VEVENT
BEGIN:VEVENT
DTSTART;TZID=America/Los_Angeles:20250315T190000
DTEND;TZID=America/Los_Angeles:20250315T220000
DTSTAMP:20260421T103816
CREATED:20240826T222349Z
LAST-MODIFIED:20251108T204340Z
UID:10001345-1742065200-1742076000@loftpubvictoria.com
SUMMARY:Demographix
DESCRIPTION:Demographix delivers all your favourite classic rock tunes to keep you dancing and singing along all night long! \nVoluntary Cover $10.
URL:https://loftpubvictoria.com/event/demographix/2025-03-15/
LOCATION:The Loft Pub\, 229 Gorge Rd E\, Victoria\, BC\, Canada
CATEGORIES:Live Music
ATTACH;FMTTYPE=image/jpeg:https://loftpubvictoria.com/wp-content/uploads/2024/08/67619257_104389634245921_2339465241567428608_n.jpg
END:VEVENT
BEGIN:VEVENT
DTSTART;TZID=America/Los_Angeles:20250314T190000
DTEND;TZID=America/Los_Angeles:20250314T220000
DTSTAMP:20260421T103816
CREATED:20250311T185036Z
LAST-MODIFIED:20251108T212553Z
UID:10001409-1741978800-1741989600@loftpubvictoria.com
SUMMARY:Rattleshake
DESCRIPTION:RATTLESHAKE is a fresh blues/roots band based in Victoria\, BC\, showcasing a fusion of traditional blues and modern flair. \nVoluntary Cover $10
URL:https://loftpubvictoria.com/event/rattleshake/2025-03-14/
LOCATION:The Loft Pub\, 229 Gorge Rd E\, Victoria\, BC\, Canada
ATTACH;FMTTYPE=image/jpeg:https://loftpubvictoria.com/wp-content/uploads/2025/03/Rattleshake-scaled-e1743871190339.jpg
END:VEVENT
BEGIN:VEVENT
DTSTART;TZID=America/Los_Angeles:20250313T180000
DTEND;TZID=America/Los_Angeles:20250313T210000
DTSTAMP:20260421T103816
CREATED:20240825T191411Z
LAST-MODIFIED:20260111T030050Z
UID:10001085-1741888800-1741899600@loftpubvictoria.com
SUMMARY:Rhythm Train
DESCRIPTION:RHYTHM TRAIN is a top-notch line-up of musicians offering up a great mix of blues\, rock\, R&B and more. Featuring Jack Lavin and Ross Hall with special guests every week. Voluntary Cover. 6-9PM.
URL:https://loftpubvictoria.com/event/rhythm-train/2025-03-13/
LOCATION:The Loft Pub\, 229 Gorge Rd E\, Victoria\, BC\, Canada
CATEGORIES:Live Music
ATTACH;FMTTYPE=image/jpeg:https://loftpubvictoria.com/wp-content/uploads/2024/08/Rhythm-Train-1-scaled.jpg
END:VEVENT
BEGIN:VEVENT
DTSTART;TZID=America/Los_Angeles:20250312T180000
DTEND;TZID=America/Los_Angeles:20250312T210000
DTSTAMP:20260421T103817
CREATED:20240825T191300Z
LAST-MODIFIED:20260111T030131Z
UID:10000984-1741802400-1741813200@loftpubvictoria.com
SUMMARY:Wednesday Night Jam
DESCRIPTION:MUSIC JAM with host Brooke Cooper. 6-9PM. Victoria’s musicians are invited to take the stage for a jam. A great place to showcase your band\, get some stage time and connect with other musicians. BYO instrument and/or mic to participate.
URL:https://loftpubvictoria.com/event/wednesday-night-jam/2025-03-12/
LOCATION:The Loft Pub\, 229 Gorge Rd E\, Victoria\, BC\, Canada
ATTACH;FMTTYPE=image/jpeg:https://loftpubvictoria.com/wp-content/uploads/2024/08/E0235B68-4619-464F-A91E-971E26DCCA88.jpeg
END:VEVENT
BEGIN:VEVENT
DTSTART;TZID=America/Los_Angeles:20250311T170000
DTEND;TZID=America/Los_Angeles:20250311T200000
DTSTAMP:20260421T103817
CREATED:20250126T201844Z
LAST-MODIFIED:20260328T183158Z
UID:10001393-1741712400-1741723200@loftpubvictoria.com
SUMMARY:Smith and Vuur
DESCRIPTION:Norm Smith and Pete Vuur share classic rock ballads. \nVoluntary Cover.
URL:https://loftpubvictoria.com/event/smith-and-vuur/2025-03-11/
LOCATION:The Loft Pub\, 229 Gorge Rd E\, Victoria\, BC\, Canada
ATTACH;FMTTYPE=image/jpeg:https://loftpubvictoria.com/wp-content/uploads/2025/01/429526496_993432745719433_3727186800420991241_n.jpg
END:VEVENT
BEGIN:VEVENT
DTSTART;TZID=America/Los_Angeles:20250310T173000
DTEND;TZID=America/Los_Angeles:20250310T200000
DTSTAMP:20260421T103817
CREATED:20240825T191120Z
LAST-MODIFIED:20260111T025745Z
UID:10000932-1741627800-1741636800@loftpubvictoria.com
SUMMARY:Bill Francis - Story & Song
DESCRIPTION:BILL FRANCIS shares an acoustic evening of story and pop/rock favourites featuring Rainshadow Al… requests welcome! Voluntary Cover. 5:30PM.
URL:https://loftpubvictoria.com/event/bill-francis-story-song/2025-03-10/
LOCATION:The Loft Pub\, 229 Gorge Rd E\, Victoria\, BC\, Canada
CATEGORIES:Live Music
ATTACH;FMTTYPE=image/jpeg:https://loftpubvictoria.com/wp-content/uploads/2024/08/2BEBE66B-998C-42D0-9213-FA9EFC095D24.jpeg
END:VEVENT
BEGIN:VEVENT
DTSTART;TZID=America/Vancouver:20250309T150000
DTEND;TZID=America/Vancouver:20250309T190000
DTSTAMP:20260421T103817
CREATED:20240821T021630Z
LAST-MODIFIED:20251113T234655Z
UID:10000897-1741532400-1741546800@loftpubvictoria.com
SUMMARY:Sunday Afternoon Jam
DESCRIPTION:Join us every Sunday for an afternoon of great music\, connection and encouragement.  Whether you are a music appreciator or musician yourself\, you are invited to take in the immense talent this jam attracts.  With host Rainshadow Al.  3-7PM. \nIf participating\, show up and sign up with Al.  Bring your own instrument/mic.
URL:https://loftpubvictoria.com/event/sunday-afternoon-jam/2025-03-09/
LOCATION:The Loft Pub\, 229 Gorge Rd E\, Victoria\, BC\, Canada
CATEGORIES:Live Music
ATTACH;FMTTYPE=image/jpeg:https://loftpubvictoria.com/wp-content/uploads/2024/08/D5770DBE-5911-4E37-A15B-4D01EA10B116.jpeg
END:VEVENT
BEGIN:VEVENT
DTSTART;TZID=America/Los_Angeles:20250308T150000
DTEND;TZID=America/Los_Angeles:20250308T220000
DTSTAMP:20260421T103817
CREATED:20250121T001345Z
LAST-MODIFIED:20250219T211339Z
UID:10001384-1741446000-1741471200@loftpubvictoria.com
SUMMARY:Women in Music Fest - St. Cecilia
DESCRIPTION:Celebrate International Women’s Day with St. Cecilia * 3-10PM! \nExcited to celebrate with some of our Sisters in Music! We’ve invited some of our previous guests of our St. Cecilia shows to share their music. Check out this more than stellar line-up: \n3PM: Kira Kaj \n3:45PM: Jordan Bell \n4:30PM: SueMack \n5:15PM: r.mason \n6PM: Alli Bean \n6:45PM: High Def Chicks \n7:30PM: St. Cecilia \n* Proceeds to Bridges For Women Society *
URL:https://loftpubvictoria.com/event/women-in-music-fest-st-cecilia/
LOCATION:The Loft Pub\, 229 Gorge Rd E\, Victoria\, BC\, Canada
CATEGORIES:Live Music
ATTACH;FMTTYPE=image/jpeg:https://loftpubvictoria.com/wp-content/uploads/2025/01/WOMEN-IN-MUSIC-FEST-2025-scaled.jpg
END:VEVENT
BEGIN:VEVENT
DTSTART;TZID=America/Los_Angeles:20250307T190000
DTEND;TZID=America/Los_Angeles:20250307T220000
DTSTAMP:20260421T103817
CREATED:20241125T193757Z
LAST-MODIFIED:20251210T205816Z
UID:10001404-1741374000-1741384800@loftpubvictoria.com
SUMMARY:Sour Bear
DESCRIPTION:Pop/Rock band SOUR BEAR features Jonathan Young leading the band on ukulele\, Eric Thier on bass and Andrew McMillan on drums for a great night of favourites. \nVoluntary Cover
URL:https://loftpubvictoria.com/event/sour-bear-2-2/2025-03-07/
LOCATION:The Loft Pub\, 229 Gorge Rd E\, Victoria\, BC\, Canada
CATEGORIES:Live Music
ATTACH;FMTTYPE=image/jpeg:https://loftpubvictoria.com/wp-content/uploads/2024/08/Sour-Bear-e1727281229286.jpg
END:VEVENT
BEGIN:VEVENT
DTSTART;TZID=America/Los_Angeles:20250306T180000
DTEND;TZID=America/Los_Angeles:20250306T210000
DTSTAMP:20260421T103817
CREATED:20240825T191411Z
LAST-MODIFIED:20260111T030050Z
UID:10001084-1741284000-1741294800@loftpubvictoria.com
SUMMARY:Rhythm Train
DESCRIPTION:RHYTHM TRAIN is a top-notch line-up of musicians offering up a great mix of blues\, rock\, R&B and more. Featuring Jack Lavin and Ross Hall with special guests every week. Voluntary Cover. 6-9PM.
URL:https://loftpubvictoria.com/event/rhythm-train/2025-03-06/
LOCATION:The Loft Pub\, 229 Gorge Rd E\, Victoria\, BC\, Canada
CATEGORIES:Live Music
ATTACH;FMTTYPE=image/jpeg:https://loftpubvictoria.com/wp-content/uploads/2024/08/Rhythm-Train-1-scaled.jpg
END:VEVENT
BEGIN:VEVENT
DTSTART;TZID=America/Los_Angeles:20250305T180000
DTEND;TZID=America/Los_Angeles:20250305T210000
DTSTAMP:20260421T103817
CREATED:20240825T191300Z
LAST-MODIFIED:20260111T030131Z
UID:10000983-1741197600-1741208400@loftpubvictoria.com
SUMMARY:Wednesday Night Jam
DESCRIPTION:MUSIC JAM with host Brooke Cooper. 6-9PM. Victoria’s musicians are invited to take the stage for a jam. A great place to showcase your band\, get some stage time and connect with other musicians. BYO instrument and/or mic to participate.
URL:https://loftpubvictoria.com/event/wednesday-night-jam/2025-03-05/
LOCATION:The Loft Pub\, 229 Gorge Rd E\, Victoria\, BC\, Canada
ATTACH;FMTTYPE=image/jpeg:https://loftpubvictoria.com/wp-content/uploads/2024/08/E0235B68-4619-464F-A91E-971E26DCCA88.jpeg
END:VEVENT
BEGIN:VEVENT
DTSTART;TZID=America/Los_Angeles:20250304T170000
DTEND;TZID=America/Los_Angeles:20250304T200000
DTSTAMP:20260421T103817
CREATED:20240825T192445Z
LAST-MODIFIED:20260111T025711Z
UID:10001206-1741107600-1741118400@loftpubvictoria.com
SUMMARY:Dave Harris & Friends
DESCRIPTION:DAVE HARRIS & FRIENDS Longtime blues musician and one man band\, joined by some of Victoria’s finest musicians including Al Pease and Clark Brendon. 5:00PM. Voluntary Cover.
URL:https://loftpubvictoria.com/event/dave-harris-friends/2025-03-04/
LOCATION:The Loft Pub\, 229 Gorge Rd E\, Victoria\, BC\, Canada
ATTACH;FMTTYPE=image/jpeg:https://loftpubvictoria.com/wp-content/uploads/2024/08/61FAB7A2-83C8-41CA-928B-45632448F698.jpeg
END:VEVENT
BEGIN:VEVENT
DTSTART;TZID=America/Vancouver:20250303T170000
DTEND;TZID=America/Vancouver:20250303T200000
DTSTAMP:20260421T103817
CREATED:20220703T181241Z
LAST-MODIFIED:20250901T234812Z
UID:10000214-1741021200-1741032000@loftpubvictoria.com
SUMMARY:Paul Black
DESCRIPTION:Blues Guitarist and soulful singer Paul Black\, will captivate you with some of the best of blues. www.paulblack.ca \nVoluntary Cover
URL:https://loftpubvictoria.com/event/paul-black/
LOCATION:Events
CATEGORIES:Live Music
ATTACH;FMTTYPE=image/jpeg:https://loftpubvictoria.com/wp-content/uploads/2022/07/paul-black-scaled-e1756770485421.jpg
END:VEVENT
BEGIN:VEVENT
DTSTART;TZID=America/Vancouver:20250302T150000
DTEND;TZID=America/Vancouver:20250302T190000
DTSTAMP:20260421T103817
CREATED:20240821T021630Z
LAST-MODIFIED:20251113T234655Z
UID:10000896-1740927600-1740942000@loftpubvictoria.com
SUMMARY:Sunday Afternoon Jam
DESCRIPTION:Join us every Sunday for an afternoon of great music\, connection and encouragement.  Whether you are a music appreciator or musician yourself\, you are invited to take in the immense talent this jam attracts.  With host Rainshadow Al.  3-7PM. \nIf participating\, show up and sign up with Al.  Bring your own instrument/mic.
URL:https://loftpubvictoria.com/event/sunday-afternoon-jam/2025-03-02/
LOCATION:The Loft Pub\, 229 Gorge Rd E\, Victoria\, BC\, Canada
CATEGORIES:Live Music
ATTACH;FMTTYPE=image/jpeg:https://loftpubvictoria.com/wp-content/uploads/2024/08/D5770DBE-5911-4E37-A15B-4D01EA10B116.jpeg
END:VEVENT
BEGIN:VEVENT
DTSTART;TZID=America/Los_Angeles:20250301T190000
DTEND;TZID=America/Los_Angeles:20250301T220000
DTSTAMP:20260421T103817
CREATED:20240826T205246Z
LAST-MODIFIED:20260111T025638Z
UID:10001268-1740855600-1740866400@loftpubvictoria.com
SUMMARY:McKinley Wolf
DESCRIPTION:Blues tribute band to the masters McKINLEY WOLF\, present music from Freddie King\, Howlin’ Wolf\, Jimmy Reed\, B.B. King\, Muddy Waters\, Albert King to name a few – for a truly authentic blues experience. \nVoluntary Cover $10.
URL:https://loftpubvictoria.com/event/mckinley-wolf/2025-03-01/
LOCATION:The Loft Pub\, 229 Gorge Rd E\, Victoria\, BC\, Canada
CATEGORIES:Live Music
ATTACH;FMTTYPE=image/jpeg:https://loftpubvictoria.com/wp-content/uploads/2024/08/409213806_10232369946377190_4767116637105138791_n.jpg
END:VEVENT
BEGIN:VEVENT
DTSTART;TZID=America/Los_Angeles:20250228T190000
DTEND;TZID=America/Los_Angeles:20250228T220000
DTSTAMP:20260421T103817
CREATED:20240825T191738Z
LAST-MODIFIED:20251112T214107Z
UID:10001380-1740769200-1740780000@loftpubvictoria.com
SUMMARY:The Helen Davies Band
DESCRIPTION:Singer Songwriter and powerhouse vocalist Helen Davies\, fronts THE HELEN DAVIES BAND featuring RnB\, Blues\, Rock and Pop music to keep your toes tappin’. \nVoluntary Cover $10.
URL:https://loftpubvictoria.com/event/the-helen-davies-band/2025-02-28/
LOCATION:The Loft Pub\, 229 Gorge Rd E\, Victoria\, BC\, Canada
CATEGORIES:Live Music
ATTACH;FMTTYPE=image/jpeg:https://loftpubvictoria.com/wp-content/uploads/2024/08/456666385_10163752106459307_7660200001592746351_n-e1724712716342.jpg
END:VEVENT
BEGIN:VEVENT
DTSTART;TZID=America/Los_Angeles:20250227T180000
DTEND;TZID=America/Los_Angeles:20250227T210000
DTSTAMP:20260421T103817
CREATED:20240825T191411Z
LAST-MODIFIED:20260111T030050Z
UID:10001083-1740679200-1740690000@loftpubvictoria.com
SUMMARY:Rhythm Train
DESCRIPTION:RHYTHM TRAIN is a top-notch line-up of musicians offering up a great mix of blues\, rock\, R&B and more. Featuring Jack Lavin and Ross Hall with special guests every week. Voluntary Cover. 6-9PM.
URL:https://loftpubvictoria.com/event/rhythm-train/2025-02-27/
LOCATION:The Loft Pub\, 229 Gorge Rd E\, Victoria\, BC\, Canada
CATEGORIES:Live Music
ATTACH;FMTTYPE=image/jpeg:https://loftpubvictoria.com/wp-content/uploads/2024/08/Rhythm-Train-1-scaled.jpg
END:VEVENT
BEGIN:VEVENT
DTSTART;TZID=America/Los_Angeles:20250226T180000
DTEND;TZID=America/Los_Angeles:20250226T210000
DTSTAMP:20260421T103817
CREATED:20240825T191300Z
LAST-MODIFIED:20260111T030131Z
UID:10000982-1740592800-1740603600@loftpubvictoria.com
SUMMARY:Wednesday Night Jam
DESCRIPTION:MUSIC JAM with host Brooke Cooper. 6-9PM. Victoria’s musicians are invited to take the stage for a jam. A great place to showcase your band\, get some stage time and connect with other musicians. BYO instrument and/or mic to participate.
URL:https://loftpubvictoria.com/event/wednesday-night-jam/2025-02-26/
LOCATION:The Loft Pub\, 229 Gorge Rd E\, Victoria\, BC\, Canada
ATTACH;FMTTYPE=image/jpeg:https://loftpubvictoria.com/wp-content/uploads/2024/08/E0235B68-4619-464F-A91E-971E26DCCA88.jpeg
END:VEVENT
BEGIN:VEVENT
DTSTART;TZID=America/Los_Angeles:20250225T170000
DTEND;TZID=America/Los_Angeles:20250225T200000
DTSTAMP:20260421T103817
CREATED:20241125T193757Z
LAST-MODIFIED:20251210T205816Z
UID:10001395-1740502800-1740513600@loftpubvictoria.com
SUMMARY:Sour Bear
DESCRIPTION:Pop/Rock band SOUR BEAR features Jonathan Young leading the band on ukulele\, Eric Thier on bass and Andrew McMillan on drums for a great night of favourites. \nVoluntary Cover
URL:https://loftpubvictoria.com/event/sour-bear-2-2/2025-02-25/
LOCATION:The Loft Pub\, 229 Gorge Rd E\, Victoria\, BC\, Canada
CATEGORIES:Live Music
ATTACH;FMTTYPE=image/jpeg:https://loftpubvictoria.com/wp-content/uploads/2024/08/Sour-Bear-e1727281229286.jpg
END:VEVENT
BEGIN:VEVENT
DTSTART;TZID=America/Los_Angeles:20250224T173000
DTEND;TZID=America/Los_Angeles:20250224T200000
DTSTAMP:20260421T103817
CREATED:20240825T191120Z
LAST-MODIFIED:20260111T025745Z
UID:10000931-1740418200-1740427200@loftpubvictoria.com
SUMMARY:Bill Francis - Story & Song
DESCRIPTION:BILL FRANCIS shares an acoustic evening of story and pop/rock favourites featuring Rainshadow Al… requests welcome! Voluntary Cover. 5:30PM.
URL:https://loftpubvictoria.com/event/bill-francis-story-song/2025-02-24/
LOCATION:The Loft Pub\, 229 Gorge Rd E\, Victoria\, BC\, Canada
CATEGORIES:Live Music
ATTACH;FMTTYPE=image/jpeg:https://loftpubvictoria.com/wp-content/uploads/2024/08/2BEBE66B-998C-42D0-9213-FA9EFC095D24.jpeg
END:VEVENT
BEGIN:VEVENT
DTSTART;TZID=America/Vancouver:20250223T150000
DTEND;TZID=America/Vancouver:20250223T190000
DTSTAMP:20260421T103817
CREATED:20240821T021630Z
LAST-MODIFIED:20251113T234655Z
UID:10000895-1740322800-1740337200@loftpubvictoria.com
SUMMARY:Sunday Afternoon Jam
DESCRIPTION:Join us every Sunday for an afternoon of great music\, connection and encouragement.  Whether you are a music appreciator or musician yourself\, you are invited to take in the immense talent this jam attracts.  With host Rainshadow Al.  3-7PM. \nIf participating\, show up and sign up with Al.  Bring your own instrument/mic.
URL:https://loftpubvictoria.com/event/sunday-afternoon-jam/2025-02-23/
LOCATION:The Loft Pub\, 229 Gorge Rd E\, Victoria\, BC\, Canada
CATEGORIES:Live Music
ATTACH;FMTTYPE=image/jpeg:https://loftpubvictoria.com/wp-content/uploads/2024/08/D5770DBE-5911-4E37-A15B-4D01EA10B116.jpeg
END:VEVENT
END:VCALENDAR