BEGIN:VCALENDAR
VERSION:2.0
PRODID:-//The Loft Pub Victoria - ECPv6.15.20//NONSGML v1.0//EN
CALSCALE:GREGORIAN
METHOD:PUBLISH
X-WR-CALNAME:The Loft Pub Victoria
X-ORIGINAL-URL:https://loftpubvictoria.com
X-WR-CALDESC:Events for The Loft Pub Victoria
REFRESH-INTERVAL;VALUE=DURATION:PT1H
X-Robots-Tag:noindex
X-PUBLISHED-TTL:PT1H
BEGIN:VTIMEZONE
TZID:America/Los_Angeles
BEGIN:DAYLIGHT
TZOFFSETFROM:-0800
TZOFFSETTO:-0700
TZNAME:PDT
DTSTART:20240310T100000
END:DAYLIGHT
BEGIN:STANDARD
TZOFFSETFROM:-0700
TZOFFSETTO:-0800
TZNAME:PST
DTSTART:20241103T090000
END:STANDARD
BEGIN:DAYLIGHT
TZOFFSETFROM:-0800
TZOFFSETTO:-0700
TZNAME:PDT
DTSTART:20250309T100000
END:DAYLIGHT
BEGIN:STANDARD
TZOFFSETFROM:-0700
TZOFFSETTO:-0800
TZNAME:PST
DTSTART:20251102T090000
END:STANDARD
BEGIN:DAYLIGHT
TZOFFSETFROM:-0800
TZOFFSETTO:-0700
TZNAME:PDT
DTSTART:20260308T100000
END:DAYLIGHT
BEGIN:STANDARD
TZOFFSETFROM:-0700
TZOFFSETTO:-0800
TZNAME:PST
DTSTART:20261101T090000
END:STANDARD
END:VTIMEZONE
BEGIN:VTIMEZONE
TZID:America/Vancouver
BEGIN:DAYLIGHT
TZOFFSETFROM:-0800
TZOFFSETTO:-0700
TZNAME:PDT
DTSTART:20240310T100000
END:DAYLIGHT
BEGIN:STANDARD
TZOFFSETFROM:-0700
TZOFFSETTO:-0800
TZNAME:PST
DTSTART:20241103T090000
END:STANDARD
BEGIN:DAYLIGHT
TZOFFSETFROM:-0800
TZOFFSETTO:-0700
TZNAME:PDT
DTSTART:20250309T100000
END:DAYLIGHT
BEGIN:STANDARD
TZOFFSETFROM:-0700
TZOFFSETTO:-0800
TZNAME:PST
DTSTART:20251102T090000
END:STANDARD
BEGIN:DAYLIGHT
TZOFFSETFROM:-0800
TZOFFSETTO:-0700
TZNAME:PDT
DTSTART:20260308T100000
END:DAYLIGHT
BEGIN:STANDARD
TZOFFSETFROM:-0700
TZOFFSETTO:-0800
TZNAME:PST
DTSTART:20261101T090000
END:STANDARD
END:VTIMEZONE
BEGIN:VEVENT
DTSTART;TZID=America/Los_Angeles:20251002T180000
DTEND;TZID=America/Los_Angeles:20251002T210000
DTSTAMP:20260420T194434
CREATED:20240825T191411Z
LAST-MODIFIED:20260111T030050Z
UID:10001114-1759428000-1759438800@loftpubvictoria.com
SUMMARY:Rhythm Train
DESCRIPTION:RHYTHM TRAIN is a top-notch line-up of musicians offering up a great mix of blues\, rock\, R&B and more. Featuring Jack Lavin and Ross Hall with special guests every week. Voluntary Cover. 6-9PM.
URL:https://loftpubvictoria.com/event/rhythm-train/2025-10-02/
LOCATION:The Loft Pub\, 229 Gorge Rd E\, Victoria\, BC\, Canada
CATEGORIES:Live Music
ATTACH;FMTTYPE=image/jpeg:https://loftpubvictoria.com/wp-content/uploads/2024/08/Rhythm-Train-1-scaled.jpg
END:VEVENT
BEGIN:VEVENT
DTSTART;TZID=America/Los_Angeles:20251001T180000
DTEND;TZID=America/Los_Angeles:20251001T210000
DTSTAMP:20260420T194434
CREATED:20240825T191300Z
LAST-MODIFIED:20260111T030131Z
UID:10001013-1759341600-1759352400@loftpubvictoria.com
SUMMARY:Wednesday Night Jam
DESCRIPTION:MUSIC JAM with host Brooke Cooper. 6-9PM. Victoria’s musicians are invited to take the stage for a jam. A great place to showcase your band\, get some stage time and connect with other musicians. BYO instrument and/or mic to participate.
URL:https://loftpubvictoria.com/event/wednesday-night-jam/2025-10-01/
LOCATION:The Loft Pub\, 229 Gorge Rd E\, Victoria\, BC\, Canada
ATTACH;FMTTYPE=image/jpeg:https://loftpubvictoria.com/wp-content/uploads/2024/08/E0235B68-4619-464F-A91E-971E26DCCA88.jpeg
END:VEVENT
BEGIN:VEVENT
DTSTART;TZID=America/Los_Angeles:20250930T170000
DTEND;TZID=America/Los_Angeles:20250930T200000
DTSTAMP:20260420T194434
CREATED:20240825T192445Z
LAST-MODIFIED:20260111T025711Z
UID:10001221-1759251600-1759262400@loftpubvictoria.com
SUMMARY:Dave Harris & Friends
DESCRIPTION:DAVE HARRIS & FRIENDS Longtime blues musician and one man band\, joined by some of Victoria’s finest musicians including Al Pease and Clark Brendon. 5:00PM. Voluntary Cover.
URL:https://loftpubvictoria.com/event/dave-harris-friends/2025-09-30/
LOCATION:The Loft Pub\, 229 Gorge Rd E\, Victoria\, BC\, Canada
ATTACH;FMTTYPE=image/jpeg:https://loftpubvictoria.com/wp-content/uploads/2024/08/61FAB7A2-83C8-41CA-928B-45632448F698.jpeg
END:VEVENT
BEGIN:VEVENT
DTSTART;TZID=America/Los_Angeles:20250929T170000
DTEND;TZID=America/Los_Angeles:20250929T200000
DTSTAMP:20260420T194434
CREATED:20250903T172605Z
LAST-MODIFIED:20250903T172605Z
UID:10001491-1759165200-1759176000@loftpubvictoria.com
SUMMARY:B.P. Clarke & Friends
DESCRIPTION:Longtime Victoria resident BP Clarke has been playing\, singing and performing music for more than 40 years\, from stage band and theatre in high school through various cover bands in Regina\, Edmonton Vancouver\, Victoria as well as stints as a professional musician in Taiwan\, Philippines\, Korea and India.  \nAlthough his set list touches a range of genres\, and country\, BP’s core sound is heavily influenced by the likes of Bob Dylan\, Neil Young\, Rolling Stones\, Beatles\, Eagles\, Van Morrison\, CCR and 60s psychedelia. \nIn recent years he has been rediscovering the country influences he absorbed growing up\, with a focus on Roots Americana / alt-country artists such as Steve Earle\, Wilco\, Little Feat\, Johnny Cash\, Buck Owens\, Lucinda Williams\, Gillian Welch\, Jason Isbell\, Dwight Yoakam\, Gram Parsons and of course Waylon\, Willie and Merle. \nA proficient lead and rhythm guitar player\, BP incorporates harmonica and loops into his solo shows.  \nHe’s also one half of the Victoria folk-rock duo Out of the Woods\, featuring Patty Castle on vocals and upright bass. \nVoluntary Cover
URL:https://loftpubvictoria.com/event/brennan-clark-2/
LOCATION:BC
CATEGORIES:Live Music
ATTACH;FMTTYPE=image/jpeg:https://loftpubvictoria.com/wp-content/uploads/2025/04/Clarke-Brennan-scaled-e1748458362835.jpg
END:VEVENT
BEGIN:VEVENT
DTSTART;TZID=America/Vancouver:20250928T150000
DTEND;TZID=America/Vancouver:20250928T190000
DTSTAMP:20260420T194434
CREATED:20240821T021630Z
LAST-MODIFIED:20251113T234655Z
UID:10001469-1759071600-1759086000@loftpubvictoria.com
SUMMARY:Sunday Afternoon Jam
DESCRIPTION:Join us every Sunday for an afternoon of great music\, connection and encouragement.  Whether you are a music appreciator or musician yourself\, you are invited to take in the immense talent this jam attracts.  With host Rainshadow Al.  3-7PM. \nIf participating\, show up and sign up with Al.  Bring your own instrument/mic.
URL:https://loftpubvictoria.com/event/sunday-afternoon-jam/2025-09-28/
LOCATION:The Loft Pub\, 229 Gorge Rd E\, Victoria\, BC\, Canada
CATEGORIES:Live Music
ATTACH;FMTTYPE=image/jpeg:https://loftpubvictoria.com/wp-content/uploads/2024/08/D5770DBE-5911-4E37-A15B-4D01EA10B116.jpeg
END:VEVENT
BEGIN:VEVENT
DTSTART;TZID=America/Los_Angeles:20250927T190000
DTEND;TZID=America/Los_Angeles:20250927T220000
DTSTAMP:20260420T194434
CREATED:20240826T222721Z
LAST-MODIFIED:20251108T203958Z
UID:10001371-1758999600-1759010400@loftpubvictoria.com
SUMMARY:The Lovecats
DESCRIPTION:LOVECATS showcase an eclectic blend of classic rock\, pop\, R&B\, and country genres. Enjoy danceable music from the 60s through the 90s and beyond! Discover why LOVECATS are one of Victoria’s favorite party bands\, playing all killer\, no filler. \nVoluntary Cover $10
URL:https://loftpubvictoria.com/event/the-lovecats-6/2025-09-27/
LOCATION:The Loft Pub\, 229 Gorge Rd E\, Victoria\, BC\, Canada
CATEGORIES:Live Music
ATTACH;FMTTYPE=image/jpeg:https://loftpubvictoria.com/wp-content/uploads/2024/08/457109165_1042939767840877_2127686871480290585_n.jpg
END:VEVENT
BEGIN:VEVENT
DTSTART;TZID=America/Los_Angeles:20250926T190000
DTEND;TZID=America/Los_Angeles:20250926T220000
DTSTAMP:20260420T194434
CREATED:20250608T185910Z
LAST-MODIFIED:20250608T185910Z
UID:10001446-1758913200-1758924000@loftpubvictoria.com
SUMMARY:Rock Yacht
DESCRIPTION:Cool vibes\, sweet tunes\, and a generous helping of smooth harmonies and laid back grooves. \nVoluntary Cover $10
URL:https://loftpubvictoria.com/event/rock-yacht/2025-09-26/
LOCATION:The Loft Pub\, 229 Gorge Rd E\, Victoria\, BC\, Canada
CATEGORIES:Live Music
ATTACH;FMTTYPE=image/jpeg:https://loftpubvictoria.com/wp-content/uploads/2025/06/476085396_594392533588817_2919326242107085347_n.jpg
END:VEVENT
BEGIN:VEVENT
DTSTART;TZID=America/Los_Angeles:20250925T180000
DTEND;TZID=America/Los_Angeles:20250925T210000
DTSTAMP:20260420T194434
CREATED:20240825T191411Z
LAST-MODIFIED:20260111T030050Z
UID:10001113-1758823200-1758834000@loftpubvictoria.com
SUMMARY:Rhythm Train
DESCRIPTION:RHYTHM TRAIN is a top-notch line-up of musicians offering up a great mix of blues\, rock\, R&B and more. Featuring Jack Lavin and Ross Hall with special guests every week. Voluntary Cover. 6-9PM.
URL:https://loftpubvictoria.com/event/rhythm-train/2025-09-25/
LOCATION:The Loft Pub\, 229 Gorge Rd E\, Victoria\, BC\, Canada
CATEGORIES:Live Music
ATTACH;FMTTYPE=image/jpeg:https://loftpubvictoria.com/wp-content/uploads/2024/08/Rhythm-Train-1-scaled.jpg
END:VEVENT
BEGIN:VEVENT
DTSTART;TZID=America/Los_Angeles:20250924T180000
DTEND;TZID=America/Los_Angeles:20250924T210000
DTSTAMP:20260420T194434
CREATED:20240825T191300Z
LAST-MODIFIED:20260111T030131Z
UID:10001012-1758736800-1758747600@loftpubvictoria.com
SUMMARY:Wednesday Night Jam
DESCRIPTION:MUSIC JAM with host Brooke Cooper. 6-9PM. Victoria’s musicians are invited to take the stage for a jam. A great place to showcase your band\, get some stage time and connect with other musicians. BYO instrument and/or mic to participate.
URL:https://loftpubvictoria.com/event/wednesday-night-jam/2025-09-24/
LOCATION:The Loft Pub\, 229 Gorge Rd E\, Victoria\, BC\, Canada
ATTACH;FMTTYPE=image/jpeg:https://loftpubvictoria.com/wp-content/uploads/2024/08/E0235B68-4619-464F-A91E-971E26DCCA88.jpeg
END:VEVENT
BEGIN:VEVENT
DTSTART;TZID=America/Los_Angeles:20250923T180000
DTEND;TZID=America/Los_Angeles:20250923T210000
DTSTAMP:20260420T194434
CREATED:20250405T170642Z
LAST-MODIFIED:20260327T181648Z
UID:10001809-1758650400-1758661200@loftpubvictoria.com
SUMMARY:SWANG THANG!
DESCRIPTION:SWANG THANG! is an upbeat and vibrant ensemble bringing the infectious energy of Swing\, Blues\, and Latin dance party music straight from the golden era of 1940 to 1965. With a repertoire packed full of vintage gems and irresistible grooves\, they deliver a joyful\, high-energy performance that’s as fun as it is timeless. \nVoluntary Cover
URL:https://loftpubvictoria.com/event/the-swing-jump-blues-band/2025-09-23/2/
LOCATION:The Loft Pub\, 229 Gorge Rd E\, Victoria\, BC\, Canada
CATEGORIES:Live Music
ATTACH;FMTTYPE=image/jpeg:https://loftpubvictoria.com/wp-content/uploads/2025/04/Swang-Thang.jpg
END:VEVENT
BEGIN:VEVENT
DTSTART;TZID=America/Los_Angeles:20250923T170000
DTEND;TZID=America/Los_Angeles:20250923T200000
DTSTAMP:20260420T194434
CREATED:20250405T170642Z
LAST-MODIFIED:20260327T181648Z
UID:10001488-1758646800-1758657600@loftpubvictoria.com
SUMMARY:SWANG THANG!
DESCRIPTION:SWANG THANG! is an upbeat and vibrant ensemble bringing the infectious energy of Swing\, Blues\, and Latin dance party music straight from the golden era of 1940 to 1965. With a repertoire packed full of vintage gems and irresistible grooves\, they deliver a joyful\, high-energy performance that’s as fun as it is timeless. \nVoluntary Cover
URL:https://loftpubvictoria.com/event/the-swing-jump-blues-band/2025-09-23/1/
LOCATION:The Loft Pub\, 229 Gorge Rd E\, Victoria\, BC\, Canada
CATEGORIES:Live Music
ATTACH;FMTTYPE=image/jpeg:https://loftpubvictoria.com/wp-content/uploads/2025/04/Swang-Thang.jpg
END:VEVENT
BEGIN:VEVENT
DTSTART;TZID=America/Los_Angeles:20250922T173000
DTEND;TZID=America/Los_Angeles:20250922T200000
DTSTAMP:20260420T194434
CREATED:20240825T191120Z
LAST-MODIFIED:20260111T025745Z
UID:10000946-1758562200-1758571200@loftpubvictoria.com
SUMMARY:Bill Francis - Story & Song
DESCRIPTION:BILL FRANCIS shares an acoustic evening of story and pop/rock favourites featuring Rainshadow Al… requests welcome! Voluntary Cover. 5:30PM.
URL:https://loftpubvictoria.com/event/bill-francis-story-song/2025-09-22/
LOCATION:The Loft Pub\, 229 Gorge Rd E\, Victoria\, BC\, Canada
CATEGORIES:Live Music
ATTACH;FMTTYPE=image/jpeg:https://loftpubvictoria.com/wp-content/uploads/2024/08/2BEBE66B-998C-42D0-9213-FA9EFC095D24.jpeg
END:VEVENT
BEGIN:VEVENT
DTSTART;TZID=America/Vancouver:20250921T150000
DTEND;TZID=America/Vancouver:20250921T190000
DTSTAMP:20260420T194434
CREATED:20240821T021630Z
LAST-MODIFIED:20251113T234655Z
UID:10001468-1758466800-1758481200@loftpubvictoria.com
SUMMARY:Sunday Afternoon Jam
DESCRIPTION:Join us every Sunday for an afternoon of great music\, connection and encouragement.  Whether you are a music appreciator or musician yourself\, you are invited to take in the immense talent this jam attracts.  With host Rainshadow Al.  3-7PM. \nIf participating\, show up and sign up with Al.  Bring your own instrument/mic.
URL:https://loftpubvictoria.com/event/sunday-afternoon-jam/2025-09-21/
LOCATION:The Loft Pub\, 229 Gorge Rd E\, Victoria\, BC\, Canada
CATEGORIES:Live Music
ATTACH;FMTTYPE=image/jpeg:https://loftpubvictoria.com/wp-content/uploads/2024/08/D5770DBE-5911-4E37-A15B-4D01EA10B116.jpeg
END:VEVENT
BEGIN:VEVENT
DTSTART;TZID=America/Los_Angeles:20250920T190000
DTEND;TZID=America/Los_Angeles:20250920T220000
DTSTAMP:20260420T194434
CREATED:20240826T221742Z
LAST-MODIFIED:20251108T210456Z
UID:10001390-1758394800-1758405600@loftpubvictoria.com
SUMMARY:Aftershock
DESCRIPTION:Playing all your favourite classic rock hits! \nDelia Bilhete-Vocals / Mike Hogg-Guitar / Dean Caplan-Keyboards / Tom Sherk-Bass / Gregor Kowalski-Drums \nVoluntary Cover $10.
URL:https://loftpubvictoria.com/event/aftershock/2025-09-20/
LOCATION:The Loft Pub\, 229 Gorge Rd E\, Victoria\, BC\, Canada
CATEGORIES:Live Music
ATTACH;FMTTYPE=image/png:https://loftpubvictoria.com/wp-content/uploads/2024/08/332726777_720477956292413_6778776621932261109_n.png
END:VEVENT
BEGIN:VEVENT
DTSTART;TZID=America/Vancouver:20250919T190000
DTEND;TZID=America/Vancouver:20250919T220000
DTSTAMP:20260420T194434
CREATED:20220928T193935Z
LAST-MODIFIED:20250803T192804Z
UID:10001492-1758308400-1758319200@loftpubvictoria.com
SUMMARY:Blackfish
DESCRIPTION:Since its inception in 2014\, Blackfish Blues has delivered high energy performances on Vancouver Island\, including its participation in the 2016 Jazz Society Victoria Blues Bash\, 39 days of July\, and the 2018 Nanaimo Blues Festival. Over the years\, this group had developed an extensive repertoire that ranges from traditional and contemporary blues to classic rock.
URL:https://loftpubvictoria.com/event/blackfish/2025-09-19/
LOCATION:Events
CATEGORIES:Live Music
ATTACH;FMTTYPE=:
END:VEVENT
BEGIN:VEVENT
DTSTART;TZID=America/Los_Angeles:20250918T180000
DTEND;TZID=America/Los_Angeles:20250918T210000
DTSTAMP:20260420T194434
CREATED:20240825T191411Z
LAST-MODIFIED:20260111T030050Z
UID:10001112-1758218400-1758229200@loftpubvictoria.com
SUMMARY:Rhythm Train
DESCRIPTION:RHYTHM TRAIN is a top-notch line-up of musicians offering up a great mix of blues\, rock\, R&B and more. Featuring Jack Lavin and Ross Hall with special guests every week. Voluntary Cover. 6-9PM.
URL:https://loftpubvictoria.com/event/rhythm-train/2025-09-18/
LOCATION:The Loft Pub\, 229 Gorge Rd E\, Victoria\, BC\, Canada
CATEGORIES:Live Music
ATTACH;FMTTYPE=image/jpeg:https://loftpubvictoria.com/wp-content/uploads/2024/08/Rhythm-Train-1-scaled.jpg
END:VEVENT
BEGIN:VEVENT
DTSTART;TZID=America/Los_Angeles:20250917T180000
DTEND;TZID=America/Los_Angeles:20250917T210000
DTSTAMP:20260420T194434
CREATED:20240825T191300Z
LAST-MODIFIED:20260111T030131Z
UID:10001011-1758132000-1758142800@loftpubvictoria.com
SUMMARY:Wednesday Night Jam
DESCRIPTION:MUSIC JAM with host Brooke Cooper. 6-9PM. Victoria’s musicians are invited to take the stage for a jam. A great place to showcase your band\, get some stage time and connect with other musicians. BYO instrument and/or mic to participate.
URL:https://loftpubvictoria.com/event/wednesday-night-jam/2025-09-17/
LOCATION:The Loft Pub\, 229 Gorge Rd E\, Victoria\, BC\, Canada
ATTACH;FMTTYPE=image/jpeg:https://loftpubvictoria.com/wp-content/uploads/2024/08/E0235B68-4619-464F-A91E-971E26DCCA88.jpeg
END:VEVENT
BEGIN:VEVENT
DTSTART;TZID=America/Los_Angeles:20250916T170000
DTEND;TZID=America/Los_Angeles:20250916T200000
DTSTAMP:20260420T194434
CREATED:20240825T192445Z
LAST-MODIFIED:20260111T025711Z
UID:10001220-1758042000-1758052800@loftpubvictoria.com
SUMMARY:Dave Harris & Friends
DESCRIPTION:DAVE HARRIS & FRIENDS Longtime blues musician and one man band\, joined by some of Victoria’s finest musicians including Al Pease and Clark Brendon. 5:00PM. Voluntary Cover.
URL:https://loftpubvictoria.com/event/dave-harris-friends/2025-09-16/
LOCATION:The Loft Pub\, 229 Gorge Rd E\, Victoria\, BC\, Canada
ATTACH;FMTTYPE=image/jpeg:https://loftpubvictoria.com/wp-content/uploads/2024/08/61FAB7A2-83C8-41CA-928B-45632448F698.jpeg
END:VEVENT
BEGIN:VEVENT
DTSTART;TZID=America/Los_Angeles:20250915T170000
DTEND;TZID=America/Los_Angeles:20250915T200000
DTSTAMP:20260420T194434
CREATED:20250803T193106Z
LAST-MODIFIED:20250902T000930Z
UID:10001494-1757955600-1757966400@loftpubvictoria.com
SUMMARY:Songwriter's Circle
DESCRIPTION:Songwriter’s Circle featuring touring recording artist Jenny Allen from Calgary\, AB;  and Vancouver Island’s Katrina Kadoski and Carla Olive sharing original music. \nVoluntary Cover.
URL:https://loftpubvictoria.com/event/songwriters-circle/
LOCATION:The Loft Pub\, 229 Gorge Rd E\, Victoria\, BC\, Canada
CATEGORIES:Live Music
END:VEVENT
BEGIN:VEVENT
DTSTART;TZID=America/Vancouver:20250914T150000
DTEND;TZID=America/Vancouver:20250914T190000
DTSTAMP:20260420T194434
CREATED:20240821T021630Z
LAST-MODIFIED:20251113T234655Z
UID:10001467-1757862000-1757876400@loftpubvictoria.com
SUMMARY:Sunday Afternoon Jam
DESCRIPTION:Join us every Sunday for an afternoon of great music\, connection and encouragement.  Whether you are a music appreciator or musician yourself\, you are invited to take in the immense talent this jam attracts.  With host Rainshadow Al.  3-7PM. \nIf participating\, show up and sign up with Al.  Bring your own instrument/mic.
URL:https://loftpubvictoria.com/event/sunday-afternoon-jam/2025-09-14/
LOCATION:The Loft Pub\, 229 Gorge Rd E\, Victoria\, BC\, Canada
CATEGORIES:Live Music
ATTACH;FMTTYPE=image/jpeg:https://loftpubvictoria.com/wp-content/uploads/2024/08/D5770DBE-5911-4E37-A15B-4D01EA10B116.jpeg
END:VEVENT
BEGIN:VEVENT
DTSTART;TZID=America/Los_Angeles:20250913T190000
DTEND;TZID=America/Los_Angeles:20250913T220000
DTSTAMP:20260420T194434
CREATED:20250826T040710Z
LAST-MODIFIED:20250826T040710Z
UID:10001352-1757790000-1757800800@loftpubvictoria.com
SUMMARY:The Fabulous B-Sides
DESCRIPTION:THE FABULOUS B-SIDES is a hard-rocking dance band reinterpreting hits by the likes of Badfinger\, Faces\, Stones\, Prince\, Lynyrd Skynyrd and Booker T and the MGs. \nVoluntary Cover $10.
URL:https://loftpubvictoria.com/event/the-fabulous-b-sides-5-2-3/2025-09-13/
LOCATION:The Loft Pub\, 229 Gorge Rd E\, Victoria\, BC\, Canada
CATEGORIES:Live Music
ATTACH;FMTTYPE=image/jpeg:https://loftpubvictoria.com/wp-content/uploads/2024/11/Rock-Night-Flyer-Made-with-PosterMyWall1-e1762634884158.jpg
END:VEVENT
BEGIN:VEVENT
DTSTART;TZID=America/Los_Angeles:20250912T190000
DTEND;TZID=America/Los_Angeles:20250912T220000
DTSTAMP:20260420T194434
CREATED:20240826T204954Z
LAST-MODIFIED:20260111T025402Z
UID:10001258-1757703600-1757714400@loftpubvictoria.com
SUMMARY:Tom Morrissey
DESCRIPTION:Acoustic roots/folk musician TOM MORRISSEY\, blends traditional East Coast tunes with a variety of modern classics. Voluntary Cover $10. 7-10PM.
URL:https://loftpubvictoria.com/event/tom-morrissey/2025-09-12/
LOCATION:The Loft Pub\, 229 Gorge Rd E\, Victoria\, BC\, Canada
CATEGORIES:Live Music
ATTACH;FMTTYPE=image/jpeg:https://loftpubvictoria.com/wp-content/uploads/2024/08/279561744_10159903778696420_4207796972645183688_n.jpg
END:VEVENT
BEGIN:VEVENT
DTSTART;TZID=America/Los_Angeles:20250911T180000
DTEND;TZID=America/Los_Angeles:20250911T210000
DTSTAMP:20260420T194434
CREATED:20240825T191411Z
LAST-MODIFIED:20260111T030050Z
UID:10001111-1757613600-1757624400@loftpubvictoria.com
SUMMARY:Rhythm Train
DESCRIPTION:RHYTHM TRAIN is a top-notch line-up of musicians offering up a great mix of blues\, rock\, R&B and more. Featuring Jack Lavin and Ross Hall with special guests every week. Voluntary Cover. 6-9PM.
URL:https://loftpubvictoria.com/event/rhythm-train/2025-09-11/
LOCATION:The Loft Pub\, 229 Gorge Rd E\, Victoria\, BC\, Canada
CATEGORIES:Live Music
ATTACH;FMTTYPE=image/jpeg:https://loftpubvictoria.com/wp-content/uploads/2024/08/Rhythm-Train-1-scaled.jpg
END:VEVENT
BEGIN:VEVENT
DTSTART;TZID=America/Los_Angeles:20250910T180000
DTEND;TZID=America/Los_Angeles:20250910T210000
DTSTAMP:20260420T194434
CREATED:20240825T191300Z
LAST-MODIFIED:20260111T030131Z
UID:10001010-1757527200-1757538000@loftpubvictoria.com
SUMMARY:Wednesday Night Jam
DESCRIPTION:MUSIC JAM with host Brooke Cooper. 6-9PM. Victoria’s musicians are invited to take the stage for a jam. A great place to showcase your band\, get some stage time and connect with other musicians. BYO instrument and/or mic to participate.
URL:https://loftpubvictoria.com/event/wednesday-night-jam/2025-09-10/
LOCATION:The Loft Pub\, 229 Gorge Rd E\, Victoria\, BC\, Canada
ATTACH;FMTTYPE=image/jpeg:https://loftpubvictoria.com/wp-content/uploads/2024/08/E0235B68-4619-464F-A91E-971E26DCCA88.jpeg
END:VEVENT
BEGIN:VEVENT
DTSTART;TZID=America/Los_Angeles:20250909T180000
DTEND;TZID=America/Los_Angeles:20250909T210000
DTSTAMP:20260420T194434
CREATED:20250405T170642Z
LAST-MODIFIED:20260327T181648Z
UID:10001808-1757440800-1757451600@loftpubvictoria.com
SUMMARY:SWANG THANG!
DESCRIPTION:SWANG THANG! is an upbeat and vibrant ensemble bringing the infectious energy of Swing\, Blues\, and Latin dance party music straight from the golden era of 1940 to 1965. With a repertoire packed full of vintage gems and irresistible grooves\, they deliver a joyful\, high-energy performance that’s as fun as it is timeless. \nVoluntary Cover
URL:https://loftpubvictoria.com/event/the-swing-jump-blues-band/2025-09-09/2/
LOCATION:The Loft Pub\, 229 Gorge Rd E\, Victoria\, BC\, Canada
CATEGORIES:Live Music
ATTACH;FMTTYPE=image/jpeg:https://loftpubvictoria.com/wp-content/uploads/2025/04/Swang-Thang.jpg
END:VEVENT
BEGIN:VEVENT
DTSTART;TZID=America/Los_Angeles:20250909T170000
DTEND;TZID=America/Los_Angeles:20250909T200000
DTSTAMP:20260420T194434
CREATED:20250405T170642Z
LAST-MODIFIED:20260327T181648Z
UID:10001487-1757437200-1757448000@loftpubvictoria.com
SUMMARY:SWANG THANG!
DESCRIPTION:SWANG THANG! is an upbeat and vibrant ensemble bringing the infectious energy of Swing\, Blues\, and Latin dance party music straight from the golden era of 1940 to 1965. With a repertoire packed full of vintage gems and irresistible grooves\, they deliver a joyful\, high-energy performance that’s as fun as it is timeless. \nVoluntary Cover
URL:https://loftpubvictoria.com/event/the-swing-jump-blues-band/2025-09-09/1/
LOCATION:The Loft Pub\, 229 Gorge Rd E\, Victoria\, BC\, Canada
CATEGORIES:Live Music
ATTACH;FMTTYPE=image/jpeg:https://loftpubvictoria.com/wp-content/uploads/2025/04/Swang-Thang.jpg
END:VEVENT
BEGIN:VEVENT
DTSTART;TZID=America/Los_Angeles:20250908T173000
DTEND;TZID=America/Los_Angeles:20250908T200000
DTSTAMP:20260420T194434
CREATED:20240825T191120Z
LAST-MODIFIED:20260111T025745Z
UID:10000945-1757352600-1757361600@loftpubvictoria.com
SUMMARY:Bill Francis - Story & Song
DESCRIPTION:BILL FRANCIS shares an acoustic evening of story and pop/rock favourites featuring Rainshadow Al… requests welcome! Voluntary Cover. 5:30PM.
URL:https://loftpubvictoria.com/event/bill-francis-story-song/2025-09-08/
LOCATION:The Loft Pub\, 229 Gorge Rd E\, Victoria\, BC\, Canada
CATEGORIES:Live Music
ATTACH;FMTTYPE=image/jpeg:https://loftpubvictoria.com/wp-content/uploads/2024/08/2BEBE66B-998C-42D0-9213-FA9EFC095D24.jpeg
END:VEVENT
BEGIN:VEVENT
DTSTART;TZID=America/Vancouver:20250907T150000
DTEND;TZID=America/Vancouver:20250907T190000
DTSTAMP:20260420T194434
CREATED:20240821T021630Z
LAST-MODIFIED:20251113T234655Z
UID:10001466-1757257200-1757271600@loftpubvictoria.com
SUMMARY:Sunday Afternoon Jam
DESCRIPTION:Join us every Sunday for an afternoon of great music\, connection and encouragement.  Whether you are a music appreciator or musician yourself\, you are invited to take in the immense talent this jam attracts.  With host Rainshadow Al.  3-7PM. \nIf participating\, show up and sign up with Al.  Bring your own instrument/mic.
URL:https://loftpubvictoria.com/event/sunday-afternoon-jam/2025-09-07/
LOCATION:The Loft Pub\, 229 Gorge Rd E\, Victoria\, BC\, Canada
CATEGORIES:Live Music
ATTACH;FMTTYPE=image/jpeg:https://loftpubvictoria.com/wp-content/uploads/2024/08/D5770DBE-5911-4E37-A15B-4D01EA10B116.jpeg
END:VEVENT
BEGIN:VEVENT
DTSTART;TZID=America/Los_Angeles:20250906T190000
DTEND;TZID=America/Los_Angeles:20250906T220000
DTSTAMP:20260420T194434
CREATED:20240826T205246Z
LAST-MODIFIED:20260111T025638Z
UID:10001274-1757185200-1757196000@loftpubvictoria.com
SUMMARY:McKinley Wolf
DESCRIPTION:Blues tribute band to the masters McKINLEY WOLF\, present music from Freddie King\, Howlin’ Wolf\, Jimmy Reed\, B.B. King\, Muddy Waters\, Albert King to name a few – for a truly authentic blues experience. \nVoluntary Cover $10.
URL:https://loftpubvictoria.com/event/mckinley-wolf/2025-09-06/
LOCATION:The Loft Pub\, 229 Gorge Rd E\, Victoria\, BC\, Canada
CATEGORIES:Live Music
ATTACH;FMTTYPE=image/jpeg:https://loftpubvictoria.com/wp-content/uploads/2024/08/409213806_10232369946377190_4767116637105138791_n.jpg
END:VEVENT
BEGIN:VEVENT
DTSTART;TZID=America/Los_Angeles:20250905T190000
DTEND;TZID=America/Los_Angeles:20250905T220000
DTSTAMP:20260420T194434
CREATED:20240826T205604Z
LAST-MODIFIED:20260311T181526Z
UID:10001376-1757098800-1757109600@loftpubvictoria.com
SUMMARY:The Groove Diggers
DESCRIPTION:THE GROOVE DIGGERS are a Victoria-based cover band that plays the latest in top 40 hits and classic party music that keeps the night alive. \nVoluntary Cover $10.
URL:https://loftpubvictoria.com/event/groovediggers/2025-09-05/
LOCATION:The Loft Pub\, 229 Gorge Rd E\, Victoria\, BC\, Canada
CATEGORIES:Live Music
ATTACH;FMTTYPE=image/jpeg:https://loftpubvictoria.com/wp-content/uploads/2024/08/327145341_3322621924621778_3727057408526086479_n.jpg
END:VEVENT
END:VCALENDAR