BEGIN:VCALENDAR
VERSION:2.0
PRODID:-//The Loft Pub Victoria - ECPv6.15.20//NONSGML v1.0//EN
CALSCALE:GREGORIAN
METHOD:PUBLISH
X-WR-CALNAME:The Loft Pub Victoria
X-ORIGINAL-URL:https://loftpubvictoria.com
X-WR-CALDESC:Events for The Loft Pub Victoria
REFRESH-INTERVAL;VALUE=DURATION:PT1H
X-Robots-Tag:noindex
X-PUBLISHED-TTL:PT1H
BEGIN:VTIMEZONE
TZID:America/Los_Angeles
BEGIN:DAYLIGHT
TZOFFSETFROM:-0800
TZOFFSETTO:-0700
TZNAME:PDT
DTSTART:20240310T100000
END:DAYLIGHT
BEGIN:STANDARD
TZOFFSETFROM:-0700
TZOFFSETTO:-0800
TZNAME:PST
DTSTART:20241103T090000
END:STANDARD
BEGIN:DAYLIGHT
TZOFFSETFROM:-0800
TZOFFSETTO:-0700
TZNAME:PDT
DTSTART:20250309T100000
END:DAYLIGHT
BEGIN:STANDARD
TZOFFSETFROM:-0700
TZOFFSETTO:-0800
TZNAME:PST
DTSTART:20251102T090000
END:STANDARD
BEGIN:DAYLIGHT
TZOFFSETFROM:-0800
TZOFFSETTO:-0700
TZNAME:PDT
DTSTART:20260308T100000
END:DAYLIGHT
BEGIN:STANDARD
TZOFFSETFROM:-0700
TZOFFSETTO:-0800
TZNAME:PST
DTSTART:20261101T090000
END:STANDARD
END:VTIMEZONE
BEGIN:VTIMEZONE
TZID:America/Vancouver
BEGIN:DAYLIGHT
TZOFFSETFROM:-0800
TZOFFSETTO:-0700
TZNAME:PDT
DTSTART:20240310T100000
END:DAYLIGHT
BEGIN:STANDARD
TZOFFSETFROM:-0700
TZOFFSETTO:-0800
TZNAME:PST
DTSTART:20241103T090000
END:STANDARD
BEGIN:DAYLIGHT
TZOFFSETFROM:-0800
TZOFFSETTO:-0700
TZNAME:PDT
DTSTART:20250309T100000
END:DAYLIGHT
BEGIN:STANDARD
TZOFFSETFROM:-0700
TZOFFSETTO:-0800
TZNAME:PST
DTSTART:20251102T090000
END:STANDARD
BEGIN:DAYLIGHT
TZOFFSETFROM:-0800
TZOFFSETTO:-0700
TZNAME:PDT
DTSTART:20260308T100000
END:DAYLIGHT
BEGIN:STANDARD
TZOFFSETFROM:-0700
TZOFFSETTO:-0800
TZNAME:PST
DTSTART:20261101T090000
END:STANDARD
END:VTIMEZONE
BEGIN:VEVENT
DTSTART;TZID=America/Los_Angeles:20250911T180000
DTEND;TZID=America/Los_Angeles:20250911T210000
DTSTAMP:20260420T110935
CREATED:20240825T191411Z
LAST-MODIFIED:20260111T030050Z
UID:10001111-1757613600-1757624400@loftpubvictoria.com
SUMMARY:Rhythm Train
DESCRIPTION:RHYTHM TRAIN is a top-notch line-up of musicians offering up a great mix of blues\, rock\, R&B and more. Featuring Jack Lavin and Ross Hall with special guests every week. Voluntary Cover. 6-9PM.
URL:https://loftpubvictoria.com/event/rhythm-train/2025-09-11/
LOCATION:The Loft Pub\, 229 Gorge Rd E\, Victoria\, BC\, Canada
CATEGORIES:Live Music
ATTACH;FMTTYPE=image/jpeg:https://loftpubvictoria.com/wp-content/uploads/2024/08/Rhythm-Train-1-scaled.jpg
END:VEVENT
BEGIN:VEVENT
DTSTART;TZID=America/Los_Angeles:20250910T180000
DTEND;TZID=America/Los_Angeles:20250910T210000
DTSTAMP:20260420T110935
CREATED:20240825T191300Z
LAST-MODIFIED:20260111T030131Z
UID:10001010-1757527200-1757538000@loftpubvictoria.com
SUMMARY:Wednesday Night Jam
DESCRIPTION:MUSIC JAM with host Brooke Cooper. 6-9PM. Victoria’s musicians are invited to take the stage for a jam. A great place to showcase your band\, get some stage time and connect with other musicians. BYO instrument and/or mic to participate.
URL:https://loftpubvictoria.com/event/wednesday-night-jam/2025-09-10/
LOCATION:The Loft Pub\, 229 Gorge Rd E\, Victoria\, BC\, Canada
ATTACH;FMTTYPE=image/jpeg:https://loftpubvictoria.com/wp-content/uploads/2024/08/E0235B68-4619-464F-A91E-971E26DCCA88.jpeg
END:VEVENT
BEGIN:VEVENT
DTSTART;TZID=America/Los_Angeles:20250909T180000
DTEND;TZID=America/Los_Angeles:20250909T210000
DTSTAMP:20260420T110935
CREATED:20250405T170642Z
LAST-MODIFIED:20260327T181648Z
UID:10001808-1757440800-1757451600@loftpubvictoria.com
SUMMARY:SWANG THANG!
DESCRIPTION:SWANG THANG! is an upbeat and vibrant ensemble bringing the infectious energy of Swing\, Blues\, and Latin dance party music straight from the golden era of 1940 to 1965. With a repertoire packed full of vintage gems and irresistible grooves\, they deliver a joyful\, high-energy performance that’s as fun as it is timeless. \nVoluntary Cover
URL:https://loftpubvictoria.com/event/the-swing-jump-blues-band/2025-09-09/2/
LOCATION:The Loft Pub\, 229 Gorge Rd E\, Victoria\, BC\, Canada
CATEGORIES:Live Music
ATTACH;FMTTYPE=image/jpeg:https://loftpubvictoria.com/wp-content/uploads/2025/04/Swang-Thang.jpg
END:VEVENT
BEGIN:VEVENT
DTSTART;TZID=America/Los_Angeles:20250909T170000
DTEND;TZID=America/Los_Angeles:20250909T200000
DTSTAMP:20260420T110935
CREATED:20250405T170642Z
LAST-MODIFIED:20260327T181648Z
UID:10001487-1757437200-1757448000@loftpubvictoria.com
SUMMARY:SWANG THANG!
DESCRIPTION:SWANG THANG! is an upbeat and vibrant ensemble bringing the infectious energy of Swing\, Blues\, and Latin dance party music straight from the golden era of 1940 to 1965. With a repertoire packed full of vintage gems and irresistible grooves\, they deliver a joyful\, high-energy performance that’s as fun as it is timeless. \nVoluntary Cover
URL:https://loftpubvictoria.com/event/the-swing-jump-blues-band/2025-09-09/1/
LOCATION:The Loft Pub\, 229 Gorge Rd E\, Victoria\, BC\, Canada
CATEGORIES:Live Music
ATTACH;FMTTYPE=image/jpeg:https://loftpubvictoria.com/wp-content/uploads/2025/04/Swang-Thang.jpg
END:VEVENT
BEGIN:VEVENT
DTSTART;TZID=America/Los_Angeles:20250908T173000
DTEND;TZID=America/Los_Angeles:20250908T200000
DTSTAMP:20260420T110935
CREATED:20240825T191120Z
LAST-MODIFIED:20260111T025745Z
UID:10000945-1757352600-1757361600@loftpubvictoria.com
SUMMARY:Bill Francis - Story & Song
DESCRIPTION:BILL FRANCIS shares an acoustic evening of story and pop/rock favourites featuring Rainshadow Al… requests welcome! Voluntary Cover. 5:30PM.
URL:https://loftpubvictoria.com/event/bill-francis-story-song/2025-09-08/
LOCATION:The Loft Pub\, 229 Gorge Rd E\, Victoria\, BC\, Canada
CATEGORIES:Live Music
ATTACH;FMTTYPE=image/jpeg:https://loftpubvictoria.com/wp-content/uploads/2024/08/2BEBE66B-998C-42D0-9213-FA9EFC095D24.jpeg
END:VEVENT
BEGIN:VEVENT
DTSTART;TZID=America/Vancouver:20250907T150000
DTEND;TZID=America/Vancouver:20250907T190000
DTSTAMP:20260420T110935
CREATED:20240821T021630Z
LAST-MODIFIED:20251113T234655Z
UID:10001466-1757257200-1757271600@loftpubvictoria.com
SUMMARY:Sunday Afternoon Jam
DESCRIPTION:Join us every Sunday for an afternoon of great music\, connection and encouragement.  Whether you are a music appreciator or musician yourself\, you are invited to take in the immense talent this jam attracts.  With host Rainshadow Al.  3-7PM. \nIf participating\, show up and sign up with Al.  Bring your own instrument/mic.
URL:https://loftpubvictoria.com/event/sunday-afternoon-jam/2025-09-07/
LOCATION:The Loft Pub\, 229 Gorge Rd E\, Victoria\, BC\, Canada
CATEGORIES:Live Music
ATTACH;FMTTYPE=image/jpeg:https://loftpubvictoria.com/wp-content/uploads/2024/08/D5770DBE-5911-4E37-A15B-4D01EA10B116.jpeg
END:VEVENT
BEGIN:VEVENT
DTSTART;TZID=America/Los_Angeles:20250906T190000
DTEND;TZID=America/Los_Angeles:20250906T220000
DTSTAMP:20260420T110935
CREATED:20240826T205246Z
LAST-MODIFIED:20260111T025638Z
UID:10001274-1757185200-1757196000@loftpubvictoria.com
SUMMARY:McKinley Wolf
DESCRIPTION:Blues tribute band to the masters McKINLEY WOLF\, present music from Freddie King\, Howlin’ Wolf\, Jimmy Reed\, B.B. King\, Muddy Waters\, Albert King to name a few – for a truly authentic blues experience. \nVoluntary Cover $10.
URL:https://loftpubvictoria.com/event/mckinley-wolf/2025-09-06/
LOCATION:The Loft Pub\, 229 Gorge Rd E\, Victoria\, BC\, Canada
CATEGORIES:Live Music
ATTACH;FMTTYPE=image/jpeg:https://loftpubvictoria.com/wp-content/uploads/2024/08/409213806_10232369946377190_4767116637105138791_n.jpg
END:VEVENT
BEGIN:VEVENT
DTSTART;TZID=America/Los_Angeles:20250905T190000
DTEND;TZID=America/Los_Angeles:20250905T220000
DTSTAMP:20260420T110935
CREATED:20240826T205604Z
LAST-MODIFIED:20260311T181526Z
UID:10001376-1757098800-1757109600@loftpubvictoria.com
SUMMARY:The Groove Diggers
DESCRIPTION:THE GROOVE DIGGERS are a Victoria-based cover band that plays the latest in top 40 hits and classic party music that keeps the night alive. \nVoluntary Cover $10.
URL:https://loftpubvictoria.com/event/groovediggers/2025-09-05/
LOCATION:The Loft Pub\, 229 Gorge Rd E\, Victoria\, BC\, Canada
CATEGORIES:Live Music
ATTACH;FMTTYPE=image/jpeg:https://loftpubvictoria.com/wp-content/uploads/2024/08/327145341_3322621924621778_3727057408526086479_n.jpg
END:VEVENT
BEGIN:VEVENT
DTSTART;TZID=America/Los_Angeles:20250904T180000
DTEND;TZID=America/Los_Angeles:20250904T210000
DTSTAMP:20260420T110935
CREATED:20240825T191411Z
LAST-MODIFIED:20260111T030050Z
UID:10001110-1757008800-1757019600@loftpubvictoria.com
SUMMARY:Rhythm Train
DESCRIPTION:RHYTHM TRAIN is a top-notch line-up of musicians offering up a great mix of blues\, rock\, R&B and more. Featuring Jack Lavin and Ross Hall with special guests every week. Voluntary Cover. 6-9PM.
URL:https://loftpubvictoria.com/event/rhythm-train/2025-09-04/
LOCATION:The Loft Pub\, 229 Gorge Rd E\, Victoria\, BC\, Canada
CATEGORIES:Live Music
ATTACH;FMTTYPE=image/jpeg:https://loftpubvictoria.com/wp-content/uploads/2024/08/Rhythm-Train-1-scaled.jpg
END:VEVENT
BEGIN:VEVENT
DTSTART;TZID=America/Los_Angeles:20250903T180000
DTEND;TZID=America/Los_Angeles:20250903T210000
DTSTAMP:20260420T110935
CREATED:20240825T191300Z
LAST-MODIFIED:20260111T030131Z
UID:10001009-1756922400-1756933200@loftpubvictoria.com
SUMMARY:Wednesday Night Jam
DESCRIPTION:MUSIC JAM with host Brooke Cooper. 6-9PM. Victoria’s musicians are invited to take the stage for a jam. A great place to showcase your band\, get some stage time and connect with other musicians. BYO instrument and/or mic to participate.
URL:https://loftpubvictoria.com/event/wednesday-night-jam/2025-09-03/
LOCATION:The Loft Pub\, 229 Gorge Rd E\, Victoria\, BC\, Canada
ATTACH;FMTTYPE=image/jpeg:https://loftpubvictoria.com/wp-content/uploads/2024/08/E0235B68-4619-464F-A91E-971E26DCCA88.jpeg
END:VEVENT
BEGIN:VEVENT
DTSTART;TZID=America/Los_Angeles:20250902T170000
DTEND;TZID=America/Los_Angeles:20250902T200000
DTSTAMP:20260420T110935
CREATED:20240825T192445Z
LAST-MODIFIED:20260111T025711Z
UID:10001219-1756832400-1756843200@loftpubvictoria.com
SUMMARY:Dave Harris & Friends
DESCRIPTION:DAVE HARRIS & FRIENDS Longtime blues musician and one man band\, joined by some of Victoria’s finest musicians including Al Pease and Clark Brendon. 5:00PM. Voluntary Cover.
URL:https://loftpubvictoria.com/event/dave-harris-friends/2025-09-02/
LOCATION:The Loft Pub\, 229 Gorge Rd E\, Victoria\, BC\, Canada
ATTACH;FMTTYPE=image/jpeg:https://loftpubvictoria.com/wp-content/uploads/2024/08/61FAB7A2-83C8-41CA-928B-45632448F698.jpeg
END:VEVENT
BEGIN:VEVENT
DTSTART;TZID=America/Los_Angeles:20250901T170000
DTEND;TZID=America/Los_Angeles:20250901T200000
DTSTAMP:20260420T110935
CREATED:20250621T222930Z
LAST-MODIFIED:20260130T012403Z
UID:10001486-1756746000-1756756800@loftpubvictoria.com
SUMMARY:Country Jam with Nate Dunn & Friends
DESCRIPTION:A country jam with NATE DUNN & FRIENDS\, featuring a rotating lineup of talented musicians and plenty of country favourites. Whether you’re here to play or just enjoy the music\, everyone’s welcome. BYO mic and/or instrument to join the jam.
URL:https://loftpubvictoria.com/event/nate-dunn/2025-09-01/
LOCATION:The Loft Pub\, 229 Gorge Rd E\, Victoria\, BC\, Canada
CATEGORIES:Live Music
ATTACH;FMTTYPE=image/jpeg:https://loftpubvictoria.com/wp-content/uploads/2025/06/NATE.jpg
END:VEVENT
BEGIN:VEVENT
DTSTART;TZID=America/Vancouver:20250831T150000
DTEND;TZID=America/Vancouver:20250831T190000
DTSTAMP:20260420T110935
CREATED:20240821T021630Z
LAST-MODIFIED:20251113T234655Z
UID:10001465-1756652400-1756666800@loftpubvictoria.com
SUMMARY:Sunday Afternoon Jam
DESCRIPTION:Join us every Sunday for an afternoon of great music\, connection and encouragement.  Whether you are a music appreciator or musician yourself\, you are invited to take in the immense talent this jam attracts.  With host Rainshadow Al.  3-7PM. \nIf participating\, show up and sign up with Al.  Bring your own instrument/mic.
URL:https://loftpubvictoria.com/event/sunday-afternoon-jam/2025-08-31/
LOCATION:The Loft Pub\, 229 Gorge Rd E\, Victoria\, BC\, Canada
CATEGORIES:Live Music
ATTACH;FMTTYPE=image/jpeg:https://loftpubvictoria.com/wp-content/uploads/2024/08/D5770DBE-5911-4E37-A15B-4D01EA10B116.jpeg
END:VEVENT
BEGIN:VEVENT
DTSTART;TZID=America/Los_Angeles:20250830T190000
DTEND;TZID=America/Los_Angeles:20250830T220000
DTSTAMP:20260420T110935
CREATED:20241125T193757Z
LAST-MODIFIED:20251210T205816Z
UID:10001485-1756580400-1756591200@loftpubvictoria.com
SUMMARY:Sour Bear
DESCRIPTION:Pop/Rock band SOUR BEAR features Jonathan Young leading the band on ukulele\, Eric Thier on bass and Andrew McMillan on drums for a great night of favourites. \nVoluntary Cover
URL:https://loftpubvictoria.com/event/sour-bear-2-2/2025-08-30/
LOCATION:The Loft Pub\, 229 Gorge Rd E\, Victoria\, BC\, Canada
CATEGORIES:Live Music
ATTACH;FMTTYPE=image/jpeg:https://loftpubvictoria.com/wp-content/uploads/2024/08/Sour-Bear-e1727281229286.jpg
END:VEVENT
BEGIN:VEVENT
DTSTART;TZID=America/Los_Angeles:20250829T190000
DTEND;TZID=America/Los_Angeles:20250829T220000
DTSTAMP:20260420T110935
CREATED:20250708T041900Z
LAST-MODIFIED:20260109T185750Z
UID:10001460-1756494000-1756504800@loftpubvictoria.com
SUMMARY:Graham Francis Band
DESCRIPTION:GRAHAM FRANCIS BAND features original songs\, and classic rock/blues cover songs to entertain and keep the crowds dancing. \nVOLUNTARY COVER $10
URL:https://loftpubvictoria.com/event/graham-francis-band/2025-08-29/
LOCATION:The Loft Pub\, 229 Gorge Rd E\, Victoria\, BC\, Canada
ATTACH;FMTTYPE=image/jpeg:https://loftpubvictoria.com/wp-content/uploads/2025/07/GRAHAM-FRANCIS-e1762636843595.jpg
END:VEVENT
BEGIN:VEVENT
DTSTART;TZID=America/Los_Angeles:20250828T180000
DTEND;TZID=America/Los_Angeles:20250828T210000
DTSTAMP:20260420T110935
CREATED:20240825T191411Z
LAST-MODIFIED:20260111T030050Z
UID:10001109-1756404000-1756414800@loftpubvictoria.com
SUMMARY:Rhythm Train
DESCRIPTION:RHYTHM TRAIN is a top-notch line-up of musicians offering up a great mix of blues\, rock\, R&B and more. Featuring Jack Lavin and Ross Hall with special guests every week. Voluntary Cover. 6-9PM.
URL:https://loftpubvictoria.com/event/rhythm-train/2025-08-28/
LOCATION:The Loft Pub\, 229 Gorge Rd E\, Victoria\, BC\, Canada
CATEGORIES:Live Music
ATTACH;FMTTYPE=image/jpeg:https://loftpubvictoria.com/wp-content/uploads/2024/08/Rhythm-Train-1-scaled.jpg
END:VEVENT
BEGIN:VEVENT
DTSTART;TZID=America/Los_Angeles:20250827T180000
DTEND;TZID=America/Los_Angeles:20250827T210000
DTSTAMP:20260420T110935
CREATED:20240825T191300Z
LAST-MODIFIED:20260111T030131Z
UID:10001008-1756317600-1756328400@loftpubvictoria.com
SUMMARY:Wednesday Night Jam
DESCRIPTION:MUSIC JAM with host Brooke Cooper. 6-9PM. Victoria’s musicians are invited to take the stage for a jam. A great place to showcase your band\, get some stage time and connect with other musicians. BYO instrument and/or mic to participate.
URL:https://loftpubvictoria.com/event/wednesday-night-jam/2025-08-27/
LOCATION:The Loft Pub\, 229 Gorge Rd E\, Victoria\, BC\, Canada
ATTACH;FMTTYPE=image/jpeg:https://loftpubvictoria.com/wp-content/uploads/2024/08/E0235B68-4619-464F-A91E-971E26DCCA88.jpeg
END:VEVENT
BEGIN:VEVENT
DTSTART;TZID=America/Los_Angeles:20250826T180000
DTEND;TZID=America/Los_Angeles:20250826T210000
DTSTAMP:20260420T110935
CREATED:20250405T170642Z
LAST-MODIFIED:20260327T181648Z
UID:10001807-1756231200-1756242000@loftpubvictoria.com
SUMMARY:SWANG THANG!
DESCRIPTION:SWANG THANG! is an upbeat and vibrant ensemble bringing the infectious energy of Swing\, Blues\, and Latin dance party music straight from the golden era of 1940 to 1965. With a repertoire packed full of vintage gems and irresistible grooves\, they deliver a joyful\, high-energy performance that’s as fun as it is timeless. \nVoluntary Cover
URL:https://loftpubvictoria.com/event/the-swing-jump-blues-band/2025-08-26/
LOCATION:The Loft Pub\, 229 Gorge Rd E\, Victoria\, BC\, Canada
CATEGORIES:Live Music
ATTACH;FMTTYPE=image/jpeg:https://loftpubvictoria.com/wp-content/uploads/2025/04/Swang-Thang.jpg
END:VEVENT
BEGIN:VEVENT
DTSTART;TZID=America/Los_Angeles:20250826T170000
DTEND;TZID=America/Los_Angeles:20250826T200000
DTSTAMP:20260420T110935
CREATED:20250803T191830Z
LAST-MODIFIED:20250803T191830Z
UID:10001483-1756227600-1756238400@loftpubvictoria.com
SUMMARY:John Rewers & Friends
DESCRIPTION:JOHN REWERS brings an authentic blend of classic country\, Western swing\, old-time favourites\, and heartfelt originals. \nVoluntary Cover.
URL:https://loftpubvictoria.com/event/john-rewers-friends/
LOCATION:The Loft Pub\, 229 Gorge Rd E\, Victoria\, BC\, Canada
CATEGORIES:Live Music
END:VEVENT
BEGIN:VEVENT
DTSTART;TZID=America/Los_Angeles:20250825T173000
DTEND;TZID=America/Los_Angeles:20250825T200000
DTSTAMP:20260420T110935
CREATED:20240825T191120Z
LAST-MODIFIED:20260111T025745Z
UID:10000944-1756143000-1756152000@loftpubvictoria.com
SUMMARY:Bill Francis - Story & Song
DESCRIPTION:BILL FRANCIS shares an acoustic evening of story and pop/rock favourites featuring Rainshadow Al… requests welcome! Voluntary Cover. 5:30PM.
URL:https://loftpubvictoria.com/event/bill-francis-story-song/2025-08-25/
LOCATION:The Loft Pub\, 229 Gorge Rd E\, Victoria\, BC\, Canada
CATEGORIES:Live Music
ATTACH;FMTTYPE=image/jpeg:https://loftpubvictoria.com/wp-content/uploads/2024/08/2BEBE66B-998C-42D0-9213-FA9EFC095D24.jpeg
END:VEVENT
BEGIN:VEVENT
DTSTART;TZID=America/Vancouver:20250824T150000
DTEND;TZID=America/Vancouver:20250824T190000
DTSTAMP:20260420T110935
CREATED:20240821T021630Z
LAST-MODIFIED:20251113T234655Z
UID:10001464-1756047600-1756062000@loftpubvictoria.com
SUMMARY:Sunday Afternoon Jam
DESCRIPTION:Join us every Sunday for an afternoon of great music\, connection and encouragement.  Whether you are a music appreciator or musician yourself\, you are invited to take in the immense talent this jam attracts.  With host Rainshadow Al.  3-7PM. \nIf participating\, show up and sign up with Al.  Bring your own instrument/mic.
URL:https://loftpubvictoria.com/event/sunday-afternoon-jam/2025-08-24/
LOCATION:The Loft Pub\, 229 Gorge Rd E\, Victoria\, BC\, Canada
CATEGORIES:Live Music
ATTACH;FMTTYPE=image/jpeg:https://loftpubvictoria.com/wp-content/uploads/2024/08/D5770DBE-5911-4E37-A15B-4D01EA10B116.jpeg
END:VEVENT
BEGIN:VEVENT
DTSTART;TZID=America/Los_Angeles:20250823T190000
DTEND;TZID=America/Los_Angeles:20250823T220000
DTSTAMP:20260420T110935
CREATED:20241226T194815Z
LAST-MODIFIED:20260130T012305Z
UID:10001424-1755975600-1755986400@loftpubvictoria.com
SUMMARY:Bill Johnson Quartet
DESCRIPTION:The Bill Johnson Band plays white hot Blues straight out of the furnace…Victoria’s guitar flamethrower supported by 3 true hot shots!
URL:https://loftpubvictoria.com/event/bill-johnson-quartet/2025-08-23/
LOCATION:BC
CATEGORIES:Live Music
ATTACH;FMTTYPE=image/jpeg:https://loftpubvictoria.com/wp-content/uploads/2024/12/Bill-Johnson-scaled-e1769736151467.jpg
END:VEVENT
BEGIN:VEVENT
DTSTART;TZID=America/Los_Angeles:20250822T190000
DTEND;TZID=America/Los_Angeles:20250822T220000
DTSTAMP:20260420T110935
CREATED:20240826T223033Z
LAST-MODIFIED:20251108T205603Z
UID:10001459-1755889200-1755900000@loftpubvictoria.com
SUMMARY:Soul Source
DESCRIPTION:Soul Source is a 20 piece R&B band created by Nick La Riviere. Featuring singers\, horns\, rhythm section\, performing Aretha Franklin\, TLC\, Sister Sledge\, Michael Jackson… it’s a ton of fun! \nVoluntary Cover $10
URL:https://loftpubvictoria.com/event/soul-source-3/2025-08-22/
LOCATION:The Loft Pub\, 229 Gorge Rd E\, Victoria\, BC\, Canada
ATTACH;FMTTYPE=image/jpeg:https://loftpubvictoria.com/wp-content/uploads/2024/08/302416003_596365338632187_8127820377538580037_n.jpg
END:VEVENT
BEGIN:VEVENT
DTSTART;TZID=America/Los_Angeles:20250821T180000
DTEND;TZID=America/Los_Angeles:20250821T210000
DTSTAMP:20260420T110935
CREATED:20240825T191411Z
LAST-MODIFIED:20260111T030050Z
UID:10001108-1755799200-1755810000@loftpubvictoria.com
SUMMARY:Rhythm Train
DESCRIPTION:RHYTHM TRAIN is a top-notch line-up of musicians offering up a great mix of blues\, rock\, R&B and more. Featuring Jack Lavin and Ross Hall with special guests every week. Voluntary Cover. 6-9PM.
URL:https://loftpubvictoria.com/event/rhythm-train/2025-08-21/
LOCATION:The Loft Pub\, 229 Gorge Rd E\, Victoria\, BC\, Canada
CATEGORIES:Live Music
ATTACH;FMTTYPE=image/jpeg:https://loftpubvictoria.com/wp-content/uploads/2024/08/Rhythm-Train-1-scaled.jpg
END:VEVENT
BEGIN:VEVENT
DTSTART;TZID=America/Los_Angeles:20250820T180000
DTEND;TZID=America/Los_Angeles:20250820T210000
DTSTAMP:20260420T110935
CREATED:20240825T191300Z
LAST-MODIFIED:20260111T030131Z
UID:10001007-1755712800-1755723600@loftpubvictoria.com
SUMMARY:Wednesday Night Jam
DESCRIPTION:MUSIC JAM with host Brooke Cooper. 6-9PM. Victoria’s musicians are invited to take the stage for a jam. A great place to showcase your band\, get some stage time and connect with other musicians. BYO instrument and/or mic to participate.
URL:https://loftpubvictoria.com/event/wednesday-night-jam/2025-08-20/
LOCATION:The Loft Pub\, 229 Gorge Rd E\, Victoria\, BC\, Canada
ATTACH;FMTTYPE=image/jpeg:https://loftpubvictoria.com/wp-content/uploads/2024/08/E0235B68-4619-464F-A91E-971E26DCCA88.jpeg
END:VEVENT
BEGIN:VEVENT
DTSTART;TZID=America/Los_Angeles:20250819T170000
DTEND;TZID=America/Los_Angeles:20250819T200000
DTSTAMP:20260420T110935
CREATED:20240825T192445Z
LAST-MODIFIED:20260111T025711Z
UID:10001218-1755622800-1755633600@loftpubvictoria.com
SUMMARY:Dave Harris & Friends
DESCRIPTION:DAVE HARRIS & FRIENDS Longtime blues musician and one man band\, joined by some of Victoria’s finest musicians including Al Pease and Clark Brendon. 5:00PM. Voluntary Cover.
URL:https://loftpubvictoria.com/event/dave-harris-friends/2025-08-19/
LOCATION:The Loft Pub\, 229 Gorge Rd E\, Victoria\, BC\, Canada
ATTACH;FMTTYPE=image/jpeg:https://loftpubvictoria.com/wp-content/uploads/2024/08/61FAB7A2-83C8-41CA-928B-45632448F698.jpeg
END:VEVENT
BEGIN:VEVENT
DTSTART;TZID=America/Los_Angeles:20250818T170000
DTEND;TZID=America/Los_Angeles:20250818T200000
DTSTAMP:20260420T110935
CREATED:20250629T171221Z
LAST-MODIFIED:20250803T191945Z
UID:10001484-1755536400-1755547200@loftpubvictoria.com
SUMMARY:Los Gringos Locos
DESCRIPTION:The instrumental acoustic guitar duo\, LOS GRINGOS LOCOS\, featuring Al Sabourin and Mike Sampson. \nVoluntary Cover
URL:https://loftpubvictoria.com/event/los-gringos-locos/2025-08-18/
LOCATION:The Loft Pub\, 229 Gorge Rd E\, Victoria\, BC\, Canada
CATEGORIES:Live Music
END:VEVENT
BEGIN:VEVENT
DTSTART;TZID=America/Vancouver:20250817T150000
DTEND;TZID=America/Vancouver:20250817T190000
DTSTAMP:20260420T110935
CREATED:20240821T021630Z
LAST-MODIFIED:20251113T234655Z
UID:10001463-1755442800-1755457200@loftpubvictoria.com
SUMMARY:Sunday Afternoon Jam
DESCRIPTION:Join us every Sunday for an afternoon of great music\, connection and encouragement.  Whether you are a music appreciator or musician yourself\, you are invited to take in the immense talent this jam attracts.  With host Rainshadow Al.  3-7PM. \nIf participating\, show up and sign up with Al.  Bring your own instrument/mic.
URL:https://loftpubvictoria.com/event/sunday-afternoon-jam/2025-08-17/
LOCATION:The Loft Pub\, 229 Gorge Rd E\, Victoria\, BC\, Canada
CATEGORIES:Live Music
ATTACH;FMTTYPE=image/jpeg:https://loftpubvictoria.com/wp-content/uploads/2024/08/D5770DBE-5911-4E37-A15B-4D01EA10B116.jpeg
END:VEVENT
BEGIN:VEVENT
DTSTART;TZID=America/Vancouver:20250816T190000
DTEND;TZID=America/Vancouver:20250816T220000
DTSTAMP:20260420T110935
CREATED:20220808T215505Z
LAST-MODIFIED:20251108T212208Z
UID:10001458-1755370800-1755381600@loftpubvictoria.com
SUMMARY:Rockwood
DESCRIPTION:Even though any song is a click away\, there is still such pleasure in music coming to life in the hands and voices of musicians who have loved it forever.  Rockwood burnishes its vintage roots and folk rock repertoire to a rich soulful sheen.  Soak up shimmering four-part harmonies\, sustaining arrangements\, the jangle of a twelve-string Rickenbacker\, then move to an irresistible groove!  Whether open-air dance party or intimate café vibe\, a Rockwood show is all about connection\, musicality\, generosity\, and fun.  \nRockwood is seasoned Victoria musicians Gerry Fox (rhythm guitar\, mandolin\, harmonica\, vocals)\, Grant Mountain (lead guitar\, vocals)\, Eugene Smith (bass\, vocals)\, Ross Gilchrist (drums\, vocals). As warm as old vinyl\, as cherished as a vintage Fender\, Rockwood plays an authentic tribute to music that has not been forgotten\, as a reminder of why it never will be.\n\nVoluntary Cover $10
URL:https://loftpubvictoria.com/event/rockwood-4/2025-08-16/
LOCATION:Events
CATEGORIES:Live Music
ATTACH;FMTTYPE=:
END:VEVENT
BEGIN:VEVENT
DTSTART;TZID=America/Los_Angeles:20250815T190000
DTEND;TZID=America/Los_Angeles:20250815T220000
DTSTAMP:20260420T110935
CREATED:20240828T182804Z
LAST-MODIFIED:20250708T041441Z
UID:10001457-1755284400-1755295200@loftpubvictoria.com
SUMMARY:High Voltage
DESCRIPTION:Bon Scott era AC/DC Tribute Band. \nVoluntary Cover $10.
URL:https://loftpubvictoria.com/event/high-voltage/2025-08-15/
LOCATION:The Loft Pub\, 229 Gorge Rd E\, Victoria\, BC\, Canada
CATEGORIES:Live Music
ATTACH;FMTTYPE=image/jpeg:https://loftpubvictoria.com/wp-content/uploads/2024/08/the-loft-scaled-e1751948072901.jpeg
END:VEVENT
END:VCALENDAR